#------------------------------------------------------------------------------
#$Date: 2016-03-26 21:29:45 +0100 (Sat 26 de Mar de 2016) $
#$Revision: 180508 $
#$URL: svn://www.crystallography.net/cod/cif/7/21/77/7217775.cif $
#------------------------------------------------------------------------------
#
# This file is available in the Crystallography Open Database (COD),
# http://www.crystallography.net/
#
# All data on this site have been placed in the public domain by the
# contributors.
#
data_7217775
loop_
_publ_author_name
'Miyoshi, Yasuhito'
'Yoshikawa, Hirofumi'
'Awaga, Kunio'
_publ_section_title
;
 Crystal-to-crystal transformation in solid-state electrochemical doping
 of Cl−ions to the nanoporous neutral radical lithium
 phthalocyanine: revelation of electron--electron correlations in the 1D
 half-filled system
;
_journal_issue                   39
_journal_name_full               CrystEngComm
_journal_page_first              9266
_journal_paper_doi               10.1039/C4CE01222D
_journal_volume                  16
_journal_year                    2014
_chemical_formula_moiety         'C32 H16 Li Cl0.38 N8'
_chemical_formula_sum            'C32 H16 Cl0.38 Li N8'
_chemical_formula_weight         533.30
_chemical_melting_point          400
_chemical_name_common            'lithium phthalocyanine chloride'
_chemical_name_systematic
; 
lithium phthalocyanine chloride 
;
_space_group_IT_number           124
_symmetry_cell_setting           tetragonal
_symmetry_Int_Tables_number      124
_symmetry_space_group_name_Hall  '-P 4 2c'
_symmetry_space_group_name_H-M   'P 4/m c c'
_atom_sites_solution_hydrogens   geom
_atom_sites_solution_primary     direct
_atom_sites_solution_secondary   difmap
_audit_creation_method           SHELXL-97
_cell_angle_alpha                90.00
_cell_angle_beta                 90.00
_cell_angle_gamma                90.00
_cell_formula_units_Z            2
_cell_length_a                   13.843(4)
_cell_length_b                   13.843(4)
_cell_length_c                   6.394(2)
_cell_measurement_reflns_used    2719
_cell_measurement_temperature    173(2)
_cell_measurement_theta_max      27.5
_cell_measurement_theta_min      3.3
_cell_volume                     1225.3(6)
_computing_molecular_graphics    Ortep3
_computing_structure_refinement  'SHELXL-97 (Sheldrick, 1997)'
_computing_structure_solution    'SHELXS-97 (Sheldrick, 1990)'
_diffrn_ambient_temperature      173(2)
_diffrn_detector_area_resol_mean 7.31
_diffrn_measured_fraction_theta_full 0.991
_diffrn_measured_fraction_theta_max 0.991
_diffrn_measurement_device_type  'Rigaku Saturn'
_diffrn_measurement_method       ω
_diffrn_radiation_monochromator  graphite
_diffrn_radiation_source         'fine-focus sealed tube'
_diffrn_radiation_type           MoK\a
_diffrn_radiation_wavelength     0.71070
_diffrn_reflns_av_R_equivalents  0.109
_diffrn_reflns_av_sigmaI/netI    0.0560
_diffrn_reflns_limit_h_max       16
_diffrn_reflns_limit_h_min       -16
_diffrn_reflns_limit_k_max       17
_diffrn_reflns_limit_k_min       -17
_diffrn_reflns_limit_l_max       8
_diffrn_reflns_limit_l_min       -7
_diffrn_reflns_number            8965
_diffrn_reflns_theta_full        27.44
_diffrn_reflns_theta_max         27.44
_diffrn_reflns_theta_min         3.29
_exptl_absorpt_coefficient_mu    0.131
_exptl_absorpt_correction_T_max  0.961
_exptl_absorpt_correction_T_min  0.877
_exptl_absorpt_correction_type   multi-scan
_exptl_absorpt_process_details   'Jacobson, R. (1998) Private communication'
_exptl_crystal_colour            green
_exptl_crystal_density_diffrn    1.445
_exptl_crystal_density_meas      1.47
_exptl_crystal_density_method    'not measured'
_exptl_crystal_description       prism
_exptl_crystal_F_000             546.9
_exptl_crystal_size_max          0.20
_exptl_crystal_size_mid          0.20
_exptl_crystal_size_min          0.20
_refine_diff_density_max         0.898
_refine_diff_density_min         -0.471
_refine_diff_density_rms         0.056
_refine_ls_extinction_method     none
_refine_ls_goodness_of_fit_ref   1.138
_refine_ls_hydrogen_treatment    mixed
_refine_ls_matrix_type           full
_refine_ls_number_parameters     66
_refine_ls_number_reflns         768
_refine_ls_number_restraints     0
_refine_ls_restrained_S_all      1.138
_refine_ls_R_factor_all          0.0638
_refine_ls_R_factor_gt           0.0553
_refine_ls_shift/su_max          0.000
_refine_ls_shift/su_mean         0.000
_refine_ls_structure_factor_coef Fsqd
_refine_ls_weighting_details
'calc w=1/[σ²(Fo²)+(0.0788P)²+0.6382P] where P=(Fo²+2Fc²)/3'
_refine_ls_weighting_scheme      calc
_refine_ls_wR_factor_gt          0.1542
_refine_ls_wR_factor_ref         0.1611
_reflns_number_gt                664
_reflns_number_total             768
_reflns_threshold_expression     >2sigma(I)
_cod_data_source_file            c4ce01222d1.cif
_cod_data_source_block           LiPcCl038
_cod_depositor_comments
;
The following automatic conversions were performed:

'_chemical_melting_point' value '400K' was changed to '400' - the
value should be numeric and without a unit designator.

Automatic conversion script
Id: cif_fix_values 2281 2013-09-26 08:29:07Z andrius 

 Adding full bibliography for 7217770--7217776.cif.
;
_cod_database_code               7217775
loop_
_symmetry_equiv_pos_as_xyz
'x, y, z'
'-y, x, z'
'-x, -y, z'
'y, -x, z'
'-x, y, z+1/2'
'y, x, z+1/2'
'x, -y, z+1/2'
'-y, -x, z+1/2'
'-x, -y, -z'
'y, -x, -z'
'x, y, -z'
'-y, x, -z'
'x, -y, -z-1/2'
'-y, -x, -z-1/2'
'-x, y, -z-1/2'
'y, x, -z-1/2'
loop_
_atom_site_label
_atom_site_type_symbol
_atom_site_fract_x
_atom_site_fract_y
_atom_site_fract_z
_atom_site_U_iso_or_equiv
_atom_site_adp_type
_atom_site_occupancy
_atom_site_symmetry_multiplicity
_atom_site_calc_flag
_atom_site_refinement_flags
Cl1 Cl 0.0000 1.0000 0.2500 0.252(9) Uani 0.38 8 d SP
N1 N 0.27035(14) 0.41858(15) 0.5000 0.0237(5) Uani 1 2 d S
N2 N 0.37294(14) 0.56053(13) 0.5000 0.0223(5) Uani 1 2 d S
C1 C 0.34224(17) 0.35476(17) 0.5000 0.0229(6) Uani 1 2 d S
C4 C 0.24967(16) 0.67527(17) 0.5000 0.0242(6) Uani 1 2 d S
C5 C 0.28692(15) 0.51430(17) 0.5000 0.0222(6) Uani 1 2 d S
C6 C 0.20677(17) 0.58435(17) 0.5000 0.0243(6) Uani 1 2 d S
C7 C 0.19473(18) 0.75866(19) 0.5000 0.0308(6) Uani 1 2 d S
H1 H 0.2240 0.8207 0.5000 0.037 Uiso 1 2 calc SR
C8 C 0.05189(19) 0.6572(2) 0.5000 0.0379(7) Uani 1 2 d S
H2 H -0.0165 0.6520 0.5000 0.046 Uiso 1 2 calc SR
C9 C 0.0944(2) 0.7479(2) 0.5000 0.0374(7) Uani 1 2 d S
H3 H 0.0546 0.8037 0.5000 0.045 Uiso 1 2 calc SR
C10 C 0.10782(18) 0.5737(2) 0.5000 0.0319(7) Uani 1 2 d S
H4 H 0.0788 0.5116 0.5000 0.038 Uiso 1 2 calc SR
Li12 Li 0.5000 0.5000 0.5000 0.0320(19) Uani 1 8 d S
loop_
_atom_site_aniso_label
_atom_site_aniso_U_11
_atom_site_aniso_U_22
_atom_site_aniso_U_33
_atom_site_aniso_U_23
_atom_site_aniso_U_13
_atom_site_aniso_U_12
Cl1 0.0485(18) 0.0485(18) 0.66(3) 0.000 0.000 0.000
N1 0.0203(10) 0.0219(10) 0.0289(11) 0.000 0.000 -0.0006(8)
N2 0.0221(10) 0.0175(10) 0.0273(10) 0.000 0.000 -0.0001(7)
C1 0.0231(12) 0.0216(12) 0.0239(11) 0.000 0.000 -0.0016(8)
C4 0.0206(12) 0.0265(12) 0.0254(11) 0.000 0.000 0.0030(9)
C5 0.0191(11) 0.0238(12) 0.0236(11) 0.000 0.000 0.0011(9)
C6 0.0206(12) 0.0268(12) 0.0256(12) 0.000 0.000 0.0023(9)
C7 0.0291(14) 0.0292(13) 0.0342(13) 0.000 0.000 0.0050(10)
C8 0.0209(13) 0.0418(16) 0.0511(18) 0.000 0.000 0.0071(11)
C9 0.0296(14) 0.0336(14) 0.0489(18) 0.000 0.000 0.0136(11)
C10 0.0216(13) 0.0332(14) 0.0409(15) 0.000 0.000 0.0020(10)
Li12 0.021(2) 0.021(2) 0.054(5) 0.000 0.000 0.000
loop_
_atom_type_symbol
_atom_type_description
_atom_type_scat_dispersion_real
_atom_type_scat_dispersion_imag
_atom_type_scat_source
C C 0.0033 0.0016 'International Tables Vol C Tables 4.2.6.8 and 6.1.1.4'
H H 0.0000 0.0000 'International Tables Vol C Tables 4.2.6.8 and 6.1.1.4'
Li Li -0.0003 0.0001 'International Tables Vol C Tables 4.2.6.8 and 6.1.1.4'
N N 0.0061 0.0033 'International Tables Vol C Tables 4.2.6.8 and 6.1.1.4'
Cl Cl 0.1484 0.1585 'International Tables Vol C Tables 4.2.6.8 and 6.1.1.4'
loop_
_geom_angle_atom_site_label_1
_geom_angle_atom_site_label_2
_geom_angle_atom_site_label_3
_geom_angle
_geom_angle_site_symmetry_1
_geom_angle_site_symmetry_3
C1 N1 C5 121.78(19) . .
C5 N2 C1 107.66(19) . 10_566
C5 N2 Li12 126.28(15) . .
C1 N2 Li12 126.07(16) 10_566 .
N1 C1 N2 127.8(2) . 2_655
N1 C1 C4 122.1(2) . 2_655
N2 C1 C4 110.1(2) 2_655 2_655
C7 C4 C6 121.4(2) . .
C7 C4 C1 132.8(2) . 10_566
C6 C4 C1 105.8(2) . 10_566
N1 C5 N2 128.1(2) . .
N1 C5 C6 121.3(2) . .
N2 C5 C6 110.59(19) . .
C10 C6 C4 121.4(2) . .
C10 C6 C5 132.7(2) . .
C4 C6 C5 105.90(19) . .
C4 C7 C9 117.2(2) . .
C4 C7 H1 121.4 . .
C9 C7 H1 121.4 . .
C9 C8 C10 121.0(3) . .
C9 C8 H2 119.5 . .
C10 C8 H2 119.5 . .
C8 C9 C7 121.3(3) . .
C8 C9 H3 119.4 . .
C7 C9 H3 119.4 . .
C6 C10 C8 117.7(3) . .
C6 C10 H4 121.1 . .
C8 C10 H4 121.1 . .
N2 Li12 N2 180.0 10_566 2_655
N2 Li12 N2 90.0 10_566 9_666
N2 Li12 N2 90.0 2_655 9_666
N2 Li12 N2 90.0 10_566 .
N2 Li12 N2 90.0 2_655 .
N2 Li12 N2 180.0 9_666 .
N2 Li12 Li12 90.0 10_566 5_655
N2 Li12 Li12 90.0 2_655 5_655
N2 Li12 Li12 90.0 9_666 5_655
N2 Li12 Li12 90.0 . 5_655
N2 Li12 Li12 90.0 10_566 5_654
N2 Li12 Li12 90.0 2_655 5_654
N2 Li12 Li12 90.0 9_666 5_654
N2 Li12 Li12 90.0 . 5_654
Li12 Li12 Li12 180.0 5_655 5_654
loop_
_geom_bond_atom_site_label_1
_geom_bond_atom_site_label_2
_geom_bond_distance
_geom_bond_site_symmetry_2
N1 C1 1.331(3) .
N1 C5 1.345(3) .
N2 C5 1.352(3) .
N2 C1 1.369(3) 10_566
N2 Li12 1.948(2) .
C1 N2 1.369(3) 2_655
C1 C4 1.475(3) 2_655
C4 C7 1.382(3) .
C4 C6 1.392(3) .
C4 C1 1.475(3) 10_566
C5 C6 1.474(3) .
C6 C10 1.378(3) .
C7 C9 1.396(4) .
C7 H1 0.9500 .
C8 C9 1.387(4) .
C8 C10 1.391(4) .
C8 H2 0.9500 .
C9 H3 0.9500 .
C10 H4 0.9500 .
Li12 N2 1.948(2) 10_566
Li12 N2 1.948(2) 2_655
Li12 N2 1.948(2) 9_666
Li12 Li12 3.1970(10) 5_655
Li12 Li12 3.1970(10) 5_654
loop_
_geom_torsion_atom_site_label_1
_geom_torsion_atom_site_label_2
_geom_torsion_atom_site_label_3
_geom_torsion_atom_site_label_4
_geom_torsion
_geom_torsion_site_symmetry_1
_geom_torsion_site_symmetry_4
C5 N1 C1 N2 0.0 . 2_655
C5 N1 C1 C4 180.0 . 2_655
C1 N1 C5 N2 0.0 . .
C1 N1 C5 C6 180.0 . .
C1 N2 C5 N1 180.0 10_566 .
Li12 N2 C5 N1 0.0 . .
C1 N2 C5 C6 0.0 10_566 .
Li12 N2 C5 C6 180.0 . .
C7 C4 C6 C10 0.0 . .
C1 C4 C6 C10 180.0 10_566 .
C7 C4 C6 C5 180.0 . .
C1 C4 C6 C5 0.0 10_566 .
N1 C5 C6 C10 0.0 . .
N2 C5 C6 C10 180.0 . .
N1 C5 C6 C4 180.0 . .
N2 C5 C6 C4 0.0 . .
C6 C4 C7 C9 0.0 . .
C1 C4 C7 C9 180.0 10_566 .
C10 C8 C9 C7 0.0 . .
C4 C7 C9 C8 0.0 . .
C4 C6 C10 C8 0.0 . .
C5 C6 C10 C8 180.0 . .
C9 C8 C10 C6 0.0 . .
C5 N2 Li12 N2 180.0 . 10_566
C1 N2 Li12 N2 0.0 10_566 10_566
C5 N2 Li12 N2 0.0 . 2_655
C1 N2 Li12 N2 180.0 10_566 2_655
C5 N2 Li12 N2 0.0 . 9_666
C1 N2 Li12 N2 180.0 10_566 9_666
C5 N2 Li12 Li12 -90.0 . 5_655
C1 N2 Li12 Li12 90.0 10_566 5_655
C5 N2 Li12 Li12 90.0 . 5_654
C1 N2 Li12 Li12 -90.0 10_566 5_654
