#------------------------------------------------------------------------------
#$Date: 2016-03-26 21:33:39 +0100 (Sat 26 de Mar de 2016) $
#$Revision: 180510 $
#$URL: svn://www.crystallography.net/cod/cif/7/21/79/7217976.cif $
#------------------------------------------------------------------------------
#
# This file is available in the Crystallography Open Database (COD),
# http://www.crystallography.net/
#
# All data on this site have been placed in the public domain by the
# contributors.
#
data_7217976
loop_
_publ_author_name
'Allan, David R.'
'Coles, Simon J.'
'George, Kathryn'
'Jura, Marek'
'Levason, William'
'Reid, Gillian'
'Wilson, Claire'
'Zhang, Wenjian'
_publ_section_title
;
 Exploring secondary bonding in p-block chemistry -- an experimental study
 of [GeX2{o-C6H4(PMe2)2}] using variable pressure single crystal X-ray
 diffraction
;
_journal_issue                   35
_journal_name_full               CrystEngComm
_journal_page_first              8169
_journal_paper_doi               10.1039/C4CE00329B
_journal_volume                  16
_journal_year                    2014
_chemical_formula_moiety         'C10 H16 Cl2 Ge P2'
_chemical_formula_sum            'C10 H16 Cl2 Ge P2'
_chemical_formula_weight         341.66
_chemical_name_systematic
;
Dichlorido(1,2-bis(dimethylphosphino)benzene)germanium(II)
;
_space_group_crystal_system      monoclinic
_space_group_IT_number           15
_space_group_name_Hall           '-C 2yc'
_space_group_name_H-M_alt        'C 1 2/c 1'
_symmetry_space_group_name_Hall  '-C 2yc'
_symmetry_space_group_name_H-M   'C 1 2/c 1'
_atom_sites_solution_hydrogens   geom
_atom_sites_solution_primary     direct
_atom_sites_solution_secondary   difmap
_audit_creation_date             2012-11-23
_audit_creation_method
;
  Olex2 1.2
  (compiled Nov  5 2012 18:25:38, GUI svn.r4372)
;
_cell_angle_alpha                90.00
_cell_angle_beta                 109.73(16)
_cell_angle_gamma                90.00
_cell_formula_units_Z            8
_cell_length_a                   27.82(8)
_cell_length_b                   7.38(2)
_cell_length_c                   13.96(4)
_cell_measurement_pressure       100000
_cell_measurement_reflns_used    811
_cell_measurement_temperature    293(2)
_cell_measurement_theta_max      18.5
_cell_measurement_theta_min      2.0
_cell_volume                     2698(13)
_computing_cell_refinement
;
CrystalClear-SM Expert 2.0 r5 (Rigaku, 2011)
;
_computing_data_collection
;
CrystalClear-SM Expert 2.0 r5 (Rigaku, 2011)
;
_computing_data_reduction
;
CrystalClear-SM Expert 2.0 r5 (Rigaku, 2011)
;
_computing_molecular_graphics
;
O. V. Dolomanov, L. J. Bourhis, R. J. Gildea, J. A. K. Howard and H. Puschmann,
OLEX2: a complete structure solution, refinement and analysis program.
J. Appl. Cryst. (2009). 42, 339-341.
;
_computing_publication_material
;
O. V. Dolomanov, L. J. Bourhis, R. J. Gildea, J. A. K. Howard and H. Puschmann,
OLEX2: a complete structure solution, refinement and analysis program.
J. Appl. Cryst. (2009). 42, 339-341.
;
_computing_structure_refinement
;
SHELXL, G.M. Sheldrick, Acta Cryst.
(2008). A64, 112-122
;
_computing_structure_solution    'SHELXS-97 (Sheldrick, 1990)'
_diffrn_ambient_pressure         100000
_diffrn_ambient_temperature      293(2)
_diffrn_detector                 'CCD plate'
_diffrn_detector_area_resol_mean 28.5714
_diffrn_detector_type            'Rigaku Saturn724+ (2x2 bin mode)'
_diffrn_measured_fraction_theta_full 0.449
_diffrn_measured_fraction_theta_max 0.449
_diffrn_measurement_device       'four-circle κ goniometer'
_diffrn_measurement_device_type  CrystalLogic
_diffrn_measurement_method       'profile data from ω-scans'
_diffrn_measurement_specimen_support 'Diamond Anvil Cell'
_diffrn_radiation_collimation    'Confocal mirrors'
_diffrn_radiation_monochromator  'double crystal silicon'
_diffrn_radiation_type           synchrotron
_diffrn_radiation_wavelength     0.48590
_diffrn_reflns_av_R_equivalents  0.2128
_diffrn_reflns_av_unetI/netI     0.1656
_diffrn_reflns_limit_h_max       21
_diffrn_reflns_limit_h_min       -23
_diffrn_reflns_limit_k_max       8
_diffrn_reflns_limit_k_min       -8
_diffrn_reflns_limit_l_max       16
_diffrn_reflns_limit_l_min       -16
_diffrn_reflns_number            7326
_diffrn_reflns_theta_full        16.86
_diffrn_reflns_theta_max         16.86
_diffrn_reflns_theta_min         1.96
_diffrn_source                   synchrotron
_diffrn_source_type              'DLS beamline I19'
_exptl_absorpt_coefficient_mu    1.007
_exptl_absorpt_correction_type   none
_exptl_crystal_colour            colourless
_exptl_crystal_density_diffrn    1.682
_exptl_crystal_density_method    'not measured'
_exptl_crystal_description       block
_exptl_crystal_F_000             1376
_exptl_crystal_size_max          0.1
_exptl_crystal_size_mid          0.1
_exptl_crystal_size_min          0.04
_refine_diff_density_max         0.604
_refine_diff_density_min         -0.831
_refine_diff_density_rms         0.168
_refine_ls_extinction_method     none
_refine_ls_goodness_of_fit_ref   1.096
_refine_ls_hydrogen_treatment    constr
_refine_ls_matrix_type           full
_refine_ls_number_parameters     78
_refine_ls_number_reflns         1078
_refine_ls_number_restraints     0
_refine_ls_restrained_S_all      1.096
_refine_ls_R_factor_all          0.1696
_refine_ls_R_factor_gt           0.0980
_refine_ls_shift/su_max          0.022
_refine_ls_shift/su_mean         0.002
_refine_ls_structure_factor_coef Fsqd
_refine_ls_weighting_details
'calc w=1/[σ²(Fo²)+(0.0854P)²+125.4731P] where P=(Fo²+2Fc²)/3'
_refine_ls_weighting_scheme      calc
_refine_ls_wR_factor_gt          0.2153
_refine_ls_wR_factor_ref         0.2795
_reflns_number_gt                726
_reflns_number_total             1078
_reflns_threshold_expression     >2σ(I)
_cod_data_source_file            c4ce00329b2.cif
_cod_data_source_block           gecl2diphos1
_cod_database_code               7217976
#BEGIN Tags that were not found in dictionaries:
_olex2_refinement_description
;
1. Fixed Uiso
 At 1.2 times of:
  H7 of C7, H6 of C6, H4 of C4, H5 of C5
 At 1.5 times of:
  {H10A,H10B,H10C} of C10, {H1A,H1B,H1C} of C1, {H9A,H9B,H9C} of C9, {H2A,H2B,
  H2C} of C2
2.a Aromatic/amide H refined with riding coordinates:
 C4(H4), C5(H5), C6(H6), C7(H7)
2.b Fitted hexagon refined as free rotating group:
 C3(C4,C5,C6,C7,C8)
2.c Idealised Me refined as rotating group:
 C1(H1A,H1B,H1C), C2(H2A,H2B,H2C), C9(H9A,H9B,H9C), C10(H10A,H10B,H10C)
;
#END Tags that were not found in dictionaries
loop_
_space_group_symop_id
_space_group_symop_operation_xyz
1 'x, y, z'
2 '-x, y, -z+1/2'
3 'x+1/2, y+1/2, z'
4 '-x+1/2, y+1/2, -z+1/2'
5 '-x, -y, -z'
6 'x, -y, z-1/2'
7 '-x+1/2, -y+1/2, -z'
8 'x+1/2, -y+1/2, z-1/2'
loop_
_atom_site_label
_atom_site_type_symbol
_atom_site_fract_x
_atom_site_fract_y
_atom_site_fract_z
_atom_site_U_iso_or_equiv
_atom_site_adp_type
_atom_site_occupancy
_atom_site_symmetry_multiplicity
_atom_site_calc_flag
_atom_site_refinement_flags
Ge1 Ge 0.5572(2) 0.6202(2) 0.71825(19) 0.065(3) Uani 1 1 d .
Cl1 Cl 0.4862(5) 0.7937(7) 0.5994(5) 0.073(7) Uani 1 1 d .
Cl2 Cl 0.6486(5) 0.4929(6) 0.8320(5) 0.040(6) Uani 1 1 d .
P1 P 0.5976(4) 0.6194(6) 0.5914(4) 0.026(5) Uani 1 1 d .
P2 P 0.6035(5) 0.8964(5) 0.7601(5) 0.050(6) Uani 1 1 d .
C1 C 0.6312(16) 0.410(2) 0.5813(18) 0.033(4) Uiso 1 1 d .
H1A H 0.6567 0.3834 0.6459 0.050 Uiso 1 1 calc R
H1B H 0.6473 0.4252 0.5309 0.050 Uiso 1 1 calc R
H1C H 0.6072 0.3118 0.5619 0.050 Uiso 1 1 calc R
C2 C 0.564(2) 0.680(3) 0.4690(18) 0.047(5) Uiso 1 1 d .
H2A H 0.5351 0.6026 0.4425 0.070 Uiso 1 1 calc R
H2B H 0.5859 0.6666 0.4282 0.070 Uiso 1 1 calc R
H2C H 0.5536 0.8034 0.4672 0.070 Uiso 1 1 calc R
C3 C 0.6464(8) 0.7756(15) 0.6270(10) 0.033(4) Uiso 1 1 d G
C4 C 0.6850(9) 0.7715(15) 0.5846(10) 0.042(5) Uiso 1 1 d G
H4 H 0.6838 0.6870 0.5344 0.050 Uiso 1 1 calc R
C5 C 0.7253(8) 0.8935(18) 0.6172(12) 0.049(6) Uiso 1 1 d G
H5 H 0.7511 0.8908 0.5888 0.058 Uiso 1 1 calc R
C6 C 0.7270(8) 1.0198(17) 0.6922(11) 0.054(6) Uiso 1 1 d G
H6 H 0.7540 1.1014 0.7140 0.065 Uiso 1 1 calc R
C7 C 0.6885(9) 1.0239(16) 0.7346(10) 0.061(7) Uiso 1 1 d G
H7 H 0.6896 1.1083 0.7848 0.073 Uiso 1 1 calc R
C8 C 0.6482(8) 0.9018(16) 0.7021(11) 0.036(5) Uiso 1 1 d G
C9 C 0.5672(19) 1.099(2) 0.7169(19) 0.043(5) Uiso 1 1 d .
H9A H 0.5551 1.1024 0.6439 0.064 Uiso 1 1 calc R
H9B H 0.5884 1.2028 0.7431 0.064 Uiso 1 1 calc R
H9C H 0.5386 1.1009 0.7407 0.064 Uiso 1 1 calc R
C10 C 0.631(2) 0.925(3) 0.8912(19) 0.049(6) Uiso 1 1 d .
H10A H 0.6095 0.9976 0.9159 0.073 Uiso 1 1 calc R
H10B H 0.6639 0.9838 0.9059 0.073 Uiso 1 1 calc R
H10C H 0.6362 0.8084 0.9239 0.073 Uiso 1 1 calc R
loop_
_atom_site_aniso_label
_atom_site_aniso_U_11
_atom_site_aniso_U_22
_atom_site_aniso_U_33
_atom_site_aniso_U_23
_atom_site_aniso_U_13
_atom_site_aniso_U_12
Ge1 0.135(8) 0.0273(10) 0.0465(17) -0.0017(9) 0.047(4) -0.0049(15)
Cl1 0.12(2) 0.042(3) 0.064(5) -0.001(3) 0.034(10) -0.002(4)
Cl2 0.028(19) 0.049(3) 0.038(4) 0.000(2) 0.004(8) -0.003(4)
P1 0.020(17) 0.033(2) 0.027(3) -0.0032(19) 0.010(7) -0.006(3)
P2 0.09(2) 0.027(2) 0.041(4) -0.005(2) 0.035(8) -0.003(4)
loop_
_atom_type_symbol
_atom_type_description
_atom_type_scat_dispersion_real
_atom_type_scat_dispersion_imag
_atom_type_scat_source
C C 0.0007 0.0007 'International Tables Vol C Tables 4.2.6.8 and 6.1.1.4'
H H 0.0000 0.0000 'International Tables Vol C Tables 4.2.6.8 and 6.1.1.4'
Cl Cl 0.0777 0.0747 'International Tables Vol C Tables 4.2.6.8 and 6.1.1.4'
Ge Ge 0.3342 0.9482 'International Tables Vol C Tables 4.2.6.8 and 6.1.1.4'
P P 0.0517 0.0444 'International Tables Vol C Tables 4.2.6.8 and 6.1.1.4'
loop_
_geom_angle_atom_site_label_1
_geom_angle_atom_site_label_2
_geom_angle_atom_site_label_3
_geom_angle
Cl1 Ge1 Cl2 165.4(3)
P1 Ge1 Cl1 88.4(4)
P1 Ge1 Cl2 81.3(4)
P2 Ge1 Cl1 88.0(4)
P2 Ge1 Cl2 80.1(4)
P2 Ge1 P1 80.4(3)
C1 P1 Ge1 115.9(6)
C2 P1 Ge1 120.7(15)
C2 P1 C1 105.0(12)
C2 P1 C3 102.8(14)
C3 P1 Ge1 107.8(5)
C3 P1 C1 102.3(14)
C8 P2 Ge1 109.1(5)
C8 P2 C9 103.9(12)
C8 P2 C10 111.1(19)
C9 P2 Ge1 115.9(15)
C10 P2 Ge1 111.9(10)
C10 P2 C9 104.7(12)
P1 C1 H1A 109.5
P1 C1 H1B 109.5
P1 C1 H1C 109.5
H1A C1 H1B 109.5
H1A C1 H1C 109.5
H1B C1 H1C 109.5
P1 C2 H2A 109.5
P1 C2 H2B 109.4
P1 C2 H2C 109.5
H2A C2 H2B 109.5
H2A C2 H2C 109.5
H2B C2 H2C 109.5
C4 C3 P1 120.6(8)
C4 C3 C8 120.0
C8 C3 P1 119.3(8)
C3 C4 H4 120.0
C3 C4 C5 120.0
C5 C4 H4 120.0
C4 C5 H5 120.0
C6 C5 C4 120.0
C6 C5 H5 120.0
C5 C6 H6 120.0
C5 C6 C7 120.0
C7 C6 H6 120.0
C6 C7 H7 120.0
C8 C7 C6 120.0
C8 C7 H7 120.0
C3 C8 P2 119.9(8)
C7 C8 P2 119.9(9)
C7 C8 C3 120.0
P2 C9 H9A 109.5
P2 C9 H9B 109.5
P2 C9 H9C 109.5
H9A C9 H9B 109.5
H9A C9 H9C 109.5
H9B C9 H9C 109.5
P2 C10 H10A 109.5
P2 C10 H10B 109.5
P2 C10 H10C 109.5
H10A C10 H10B 109.5
H10A C10 H10C 109.5
H10B C10 H10C 109.5
loop_
_geom_bond_atom_site_label_1
_geom_bond_atom_site_label_2
_geom_bond_distance
Ge1 Cl1 2.465(13)
Ge1 Cl2 2.672(14)
Ge1 P1 2.395(9)
Ge1 P2 2.376(9)
P1 C1 1.84(3)
P1 C2 1.70(3)
P1 C3 1.723(18)
P2 C8 1.697(17)
P2 C9 1.79(3)
P2 C10 1.74(3)
C1 H1A 0.9600
C1 H1B 0.9600
C1 H1C 0.9600
C2 H2A 0.9600
C2 H2B 0.9600
C2 H2C 0.9600
C3 C4 1.3900
C3 C8 1.3900
C4 H4 0.9300
C4 C5 1.3900
C5 H5 0.9300
C5 C6 1.3900
C6 H6 0.9300
C6 C7 1.3900
C7 H7 0.9300
C7 C8 1.3900
C9 H9A 0.9600
C9 H9B 0.9600
C9 H9C 0.9600
C10 H10A 0.9600
C10 H10B 0.9600
C10 H10C 0.9600
loop_
_geom_torsion_atom_site_label_1
_geom_torsion_atom_site_label_2
_geom_torsion_atom_site_label_3
_geom_torsion_atom_site_label_4
_geom_torsion
Ge1 P1 C3 C4 162.4(7)
Ge1 P1 C3 C8 -14.9(10)
Ge1 P2 C8 C3 12.2(11)
Ge1 P2 C8 C7 -163.2(7)
Cl1 Ge1 P1 C1 -142.2(14)
Cl1 Ge1 P1 C2 -13.5(10)
Cl1 Ge1 P1 C3 104.0(7)
Cl1 Ge1 P2 C8 -103.9(8)
Cl1 Ge1 P2 C9 12.8(8)
Cl1 Ge1 P2 C10 132.8(17)
Cl2 Ge1 P1 C1 48.3(14)
Cl2 Ge1 P1 C2 176.9(10)
Cl2 Ge1 P1 C3 -65.5(7)
Cl2 Ge1 P2 C8 67.6(8)
Cl2 Ge1 P2 C9 -175.7(8)
Cl2 Ge1 P2 C10 -55.7(17)
P1 Ge1 P2 C8 -15.1(8)
P1 Ge1 P2 C9 101.6(8)
P1 Ge1 P2 C10 -138.5(17)
P1 C3 C4 C5 -177.3(11)
P1 C3 C8 P2 2.0(12)
P1 C3 C8 C7 177.3(11)
P2 Ge1 P1 C1 129.6(15)
P2 Ge1 P1 C2 -101.8(11)
P2 Ge1 P1 C3 15.8(7)
C1 P1 C3 C4 39.8(11)
C1 P1 C3 C8 -137.5(10)
C2 P1 C3 C4 -69.0(14)
C2 P1 C3 C8 113.7(13)
C3 C4 C5 C6 0.0
C4 C3 C8 P2 -175.4(12)
C4 C3 C8 C7 0.0
C4 C5 C6 C7 0.0
C5 C6 C7 C8 0.0
C6 C7 C8 P2 175.4(11)
C6 C7 C8 C3 0.0
C8 C3 C4 C5 0.0
C9 P2 C8 C3 -111.9(14)
C9 P2 C8 C7 72.7(14)
C10 P2 C8 C3 136.0(10)
C10 P2 C8 C7 -39.3(11)
