#------------------------------------------------------------------------------
#$Date: 2016-03-26 21:33:39 +0100 (Sat 26 de Mar de 2016) $
#$Revision: 180510 $
#$URL: svn://www.crystallography.net/cod/cif/7/21/79/7217985.cif $
#------------------------------------------------------------------------------
#
# This file is available in the Crystallography Open Database (COD),
# http://www.crystallography.net/
#
# All data on this site have been placed in the public domain by the
# contributors.
#
data_7217985
loop_
_publ_author_name
'Allan, David R.'
'Coles, Simon J.'
'George, Kathryn'
'Jura, Marek'
'Levason, William'
'Reid, Gillian'
'Wilson, Claire'
'Zhang, Wenjian'
_publ_section_title
;
 Exploring secondary bonding in p-block chemistry -- an experimental study
 of [GeX2{o-C6H4(PMe2)2}] using variable pressure single crystal X-ray
 diffraction
;
_journal_issue                   35
_journal_name_full               CrystEngComm
_journal_page_first              8169
_journal_paper_doi               10.1039/C4CE00329B
_journal_volume                  16
_journal_year                    2014
_chemical_formula_moiety         'C10 H16 Br2 Ge P2'
_chemical_formula_sum            'C10 H16 Br2 Ge P2'
_chemical_formula_weight         430.58
_chemical_name_systematic
;
 Dibromo(1,2-bis(dimethylphosphino)benzene-P,P')germanium(II)
;
_space_group_IT_number           15
_space_group_name_Hall           '-C 2yc'
_symmetry_cell_setting           monoclinic
_symmetry_space_group_name_Hall  '-C 2yc'
_symmetry_space_group_name_H-M   'C 1 2/c 1'
_atom_sites_solution_hydrogens   geom
_atom_sites_solution_primary     direct
_atom_sites_solution_secondary   difmap
_audit_creation_date             2012-08-24
_audit_creation_method           'SHELXL-97 + hand edit'
_cell_angle_alpha                90.00
_cell_angle_beta                 111.678(15)
_cell_angle_gamma                90.00
_cell_formula_units_Z            8
_cell_length_a                   27.88(3)
_cell_length_b                   7.166(6)
_cell_length_c                   13.692(13)
_cell_measurement_pressure       2700000
_cell_measurement_reflns_used    611
_cell_measurement_temperature    293(2)
_cell_measurement_theta_max      29.2
_cell_measurement_theta_min      2.9
_cell_volume                     2542(4)
_computing_cell_refinement
;
CrystalClear-SM Expert 2.0 r5 (Rigaku, 2010)
;
_computing_data_collection
;
CrystalClear-SM Expert 2.0 r5 (Rigaku, 2010)
;
_computing_data_reduction
;
CrystalClear-SM Expert 2.0 r5 (Rigaku, 2010)
;
_computing_structure_refinement  'SHELXL-97 (Sheldrick, 2008)'
_diffrn_ambient_pressure         2700000
_diffrn_ambient_temperature      293
_diffrn_detector                 'CCD plate'
_diffrn_detector_area_resol_mean 28.5714
_diffrn_detector_type            'Rigaku Saturn724+ (2x2 bin mode)'
_diffrn_measured_fraction_theta_full 0.294
_diffrn_measured_fraction_theta_max 0.294
_diffrn_measurement_device       'four-circle κ goniometer'
_diffrn_measurement_device_type  CrystalLogic
_diffrn_measurement_method       'profile data from ω-scans'
_diffrn_measurement_specimen_support 'Diamond Anvil Cell'
_diffrn_radiation_collimation    'Confocal mirrors'
_diffrn_radiation_monochromator  'double crystal silicon'
_diffrn_radiation_type           synchrotron
_diffrn_radiation_wavelength     0.68890
_diffrn_reflns_av_R_equivalents  0.0527
_diffrn_reflns_av_sigmaI/netI    0.0606
_diffrn_reflns_limit_h_max       18
_diffrn_reflns_limit_h_min       -19
_diffrn_reflns_limit_k_max       10
_diffrn_reflns_limit_k_min       -8
_diffrn_reflns_limit_l_max       19
_diffrn_reflns_limit_l_min       -16
_diffrn_reflns_number            4594
_diffrn_reflns_theta_full        29.38
_diffrn_reflns_theta_max         29.38
_diffrn_reflns_theta_min         2.86
_diffrn_source                   synchrotron
_diffrn_source_type              'DLS beamline I19'
_exptl_absorpt_coefficient_mu    8.219
_exptl_absorpt_correction_type   none
_exptl_crystal_colour            Colorless
_exptl_crystal_density_diffrn    2.250
_exptl_crystal_density_method    'not measured'
_exptl_crystal_description       Plate
_exptl_crystal_F_000             1664
_exptl_crystal_size_max          0.10
_exptl_crystal_size_mid          0.08
_exptl_crystal_size_min          0.01
_refine_diff_density_max         1.371
_refine_diff_density_min         -1.991
_refine_diff_density_rms         0.300
_refine_ls_extinction_method     none
_refine_ls_goodness_of_fit_ref   1.286
_refine_ls_hydrogen_treatment    constr
_refine_ls_matrix_type           full
_refine_ls_number_parameters     74
_refine_ls_number_reflns         1129
_refine_ls_number_restraints     0
_refine_ls_restrained_S_all      1.286
_refine_ls_R_factor_all          0.1132
_refine_ls_R_factor_gt           0.0830
_refine_ls_shift/su_max          0.004
_refine_ls_shift/su_mean         0.001
_refine_ls_structure_factor_coef Fsqd
_refine_ls_weighting_details
'calc w=1/[σ²(Fo²)+(0.2000P)²+0.0000P] where P=(Fo²+2Fc²)/3'
_refine_ls_weighting_scheme      calc
_refine_ls_wR_factor_gt          0.2495
_refine_ls_wR_factor_ref         0.3198
_reflns_number_gt                857
_reflns_number_total             1130
_reflns_threshold_expression     I>2σ(I)
_cod_data_source_file            c4ce00329b2.cif
_cod_data_source_block           gebr2diphos4new
_cod_depositor_comments
;
The following automatic conversions were performed:

'_exptl_absorpt_correction_type' value 'None' changed to 'none'
according to
/usr/data/users/saulius/crontab/automatic-downloads/current/RSC/lib/dictionaries/cif_core.dic
dictionary named 'cif_core.dic' version 2.4.2 from 2011-04-26.

Automatic conversion script
Id: cif_fix_values 2281 2013-09-26 08:29:07Z andrius 
;
_cod_original_sg_symbol_H-M      'C 2/c'
_cod_database_code               7217985
loop_
_symmetry_equiv_pos_as_xyz
'x, y, z'
'-x, y, -z+1/2'
'x+1/2, y+1/2, z'
'-x+1/2, y+1/2, -z+1/2'
'-x, -y, -z'
'x, -y, z-1/2'
'-x+1/2, -y+1/2, -z'
'x+1/2, -y+1/2, z-1/2'
loop_
_atom_site_label
_atom_site_type_symbol
_atom_site_fract_x
_atom_site_fract_y
_atom_site_fract_z
_atom_site_U_iso_or_equiv
_atom_site_adp_type
_atom_site_occupancy
_atom_site_symmetry_multiplicity
_atom_site_calc_flag
_atom_site_refinement_flags
C1 C 0.364(2) 0.396(3) 0.9051(19) 0.037(5) Uiso 1 1 d .
H1A H 0.3443 0.3596 0.8341 0.055 Uiso 1 1 calc R
H1B H 0.3415 0.4216 0.9417 0.055 Uiso 1 1 calc R
H1C H 0.3872 0.2958 0.9399 0.055 Uiso 1 1 calc R
C2 C 0.4430(19) 0.667(2) 1.0389(16) 0.019(3) Uiso 1 1 d .
H2A H 0.4597 0.7845 1.0401 0.028 Uiso 1 1 calc R
H2B H 0.4686 0.5716 1.0671 0.028 Uiso 1 1 calc R
H2C H 0.4219 0.6755 1.0807 0.028 Uiso 1 1 calc R
C3 C 0.3514(9) 0.7736(14) 0.8656(10) 0.026(4) Uiso 1 1 d G
C4 C 0.3143(9) 0.7656(13) 0.9109(9) 0.025(4) Uiso 1 1 d G
H4 H 0.3161 0.6734 0.9600 0.030 Uiso 1 1 calc R
C5 C 0.2744(9) 0.8954(16) 0.8829(10) 0.035(4) Uiso 1 1 d G
H5 H 0.2496 0.8900 0.9132 0.042 Uiso 1 1 calc R
C6 C 0.2716(9) 1.0332(16) 0.8096(10) 0.039(5) Uiso 1 1 d G
H6 H 0.2450 1.1200 0.7908 0.047 Uiso 1 1 calc R
C7 C 0.3087(10) 1.0412(14) 0.7642(11) 0.041(5) Uiso 1 1 d G
H7 H 0.3069 1.1334 0.7151 0.050 Uiso 1 1 calc R
C8 C 0.3486(9) 0.9114(15) 0.7922(11) 0.029(4) Uiso 1 1 d G
C9 C 0.439(2) 1.123(2) 0.7809(18) 0.029(4) Uiso 1 1 d .
H9A H 0.4578 1.1133 0.8553 0.044 Uiso 1 1 calc R
H9B H 0.4191 1.2356 0.7658 0.044 Uiso 1 1 calc R
H9C H 0.4632 1.1263 0.7456 0.044 Uiso 1 1 calc R
C10 C 0.365(2) 0.962(3) 0.600(2) 0.035(5) Uiso 1 1 d .
H10A H 0.3431 0.8589 0.5660 0.053 Uiso 1 1 calc R
H10B H 0.3904 0.9805 0.5690 0.053 Uiso 1 1 calc R
H10C H 0.3442 1.0730 0.5901 0.053 Uiso 1 1 calc R
Br1 Br 0.3478(2) 0.5060(2) 0.6503(2) 0.080(4) Uani 1 1 d .
Br2 Br 0.5204(2) 0.8161(3) 0.9120(2) 0.076(4) Uani 1 1 d .
Ge1 Ge 0.4438(2) 0.6252(2) 0.77360(19) 0.060(4) Uani 1 1 d .
P1 P 0.4026(5) 0.6088(6) 0.9045(5) 0.050(8) Uani 1 1 d .
P2 P 0.3953(6) 0.9162(6) 0.7338(4) 0.082(9) Uani 1 1 d .
loop_
_atom_site_aniso_label
_atom_site_aniso_U_11
_atom_site_aniso_U_22
_atom_site_aniso_U_33
_atom_site_aniso_U_23
_atom_site_aniso_U_13
_atom_site_aniso_U_12
Br1 0.186(14) 0.0283(10) 0.0430(19) -0.0046(8) 0.062(5) -0.0040(17)
Br2 0.164(13) 0.0299(11) 0.0451(19) -0.0015(8) 0.051(5) 0.0004(18)
Ge1 0.137(12) 0.0182(9) 0.0391(19) 0.0012(7) 0.048(4) 0.0023(16)
P1 0.10(3) 0.023(2) 0.033(4) 0.0007(18) 0.037(9) 0.008(4)
P2 0.21(3) 0.0165(19) 0.038(4) 0.0032(18) 0.063(10) 0.003(4)
loop_
_atom_type_symbol
_atom_type_description
_atom_type_scat_dispersion_real
_atom_type_scat_dispersion_imag
_atom_type_scat_source
C C 0.0028 0.0015 'International Tables Vol C Tables 4.2.6.8 and 6.1.1.4'
H H 0.0000 0.0000 'International Tables Vol C Tables 4.2.6.8 and 6.1.1.4'
Br Br -0.1853 2.3459 'International Tables Vol C Tables 4.2.6.8 and 6.1.1.4'
Ge Ge 0.1952 1.7169 'International Tables Vol C Tables 4.2.6.8 and 6.1.1.4'
P P 0.0974 0.0893 'International Tables Vol C Tables 4.2.6.8 and 6.1.1.4'
loop_
_geom_angle_atom_site_label_1
_geom_angle_atom_site_label_2
_geom_angle_atom_site_label_3
_geom_angle
P1 C1 H1A 109.5
P1 C1 H1B 109.5
H1A C1 H1B 109.5
P1 C1 H1C 109.5
H1A C1 H1C 109.5
H1B C1 H1C 109.5
P1 C2 H2A 109.5
P1 C2 H2B 109.5
H2A C2 H2B 109.5
P1 C2 H2C 109.5
H2A C2 H2C 109.5
H2B C2 H2C 109.5
C4 C3 C8 120.0
C4 C3 P1 119.2(7)
C8 C3 P1 120.8(7)
C5 C4 C3 120.0
C5 C4 H4 120.0
C3 C4 H4 120.0
C4 C5 C6 120.0
C4 C5 H5 120.0
C6 C5 H5 120.0
C7 C6 C5 120.0
C7 C6 H6 120.0
C5 C6 H6 120.0
C6 C7 C8 120.0
C6 C7 H7 120.0
C8 C7 H7 120.0
C7 C8 C3 120.0
C7 C8 P2 120.7(8)
C3 C8 P2 119.2(8)
P2 C9 H9A 109.5
P2 C9 H9B 109.5
H9A C9 H9B 109.5
P2 C9 H9C 109.5
H9A C9 H9C 109.5
H9B C9 H9C 109.5
P2 C10 H10A 109.5
P2 C10 H10B 109.5
H10A C10 H10B 109.5
P2 C10 H10C 109.5
H10A C10 H10C 109.5
H10B C10 H10C 109.5
P2 Ge1 P1 80.5(3)
P2 Ge1 Br2 87.3(3)
P1 Ge1 Br2 88.5(3)
P2 Ge1 Br1 78.0(3)
P1 Ge1 Br1 79.7(3)
Br2 Ge1 Br1 162.5(2)
C3 P1 C2 106.2(11)
C3 P1 C1 98.4(18)
C2 P1 C1 108.9(11)
C3 P1 Ge1 106.8(4)
C2 P1 Ge1 116.6(14)
C1 P1 Ge1 117.7(7)
C10 P2 C8 109(2)
C10 P2 C9 102.3(13)
C8 P2 C9 110.9(11)
C10 P2 Ge1 114.3(9)
C8 P2 Ge1 108.9(5)
C9 P2 Ge1 111.2(15)
loop_
_geom_bond_atom_site_label_1
_geom_bond_atom_site_label_2
_geom_bond_distance
C1 P1 1.87(4)
C1 H1A 0.9600
C1 H1B 0.9600
C1 H1C 0.9600
C2 P1 1.82(3)
C2 H2A 0.9600
C2 H2B 0.9600
C2 H2C 0.9600
C3 C4 1.3900
C3 C8 1.3900
C3 P1 1.78(2)
C4 C5 1.3900
C4 H4 0.9300
C5 C6 1.3900
C5 H5 0.9300
C6 C7 1.3900
C6 H6 0.9300
C7 C8 1.3900
C7 H7 0.9300
C8 P2 1.76(2)
C9 P2 1.88(4)
C9 H9A 0.9600
C9 H9B 0.9600
C9 H9C 0.9600
C10 P2 1.75(3)
C10 H10A 0.9600
C10 H10B 0.9600
C10 H10C 0.9600
Br1 Ge1 2.721(8)
Br2 Ge1 2.653(7)
Ge1 P2 2.435(9)
Ge1 P1 2.460(8)
