#------------------------------------------------------------------------------
#$Date: 2016-03-26 21:33:39 +0100 (Sat 26 de Mar de 2016) $
#$Revision: 180510 $
#$URL: svn://www.crystallography.net/cod/cif/7/21/79/7217986.cif $
#------------------------------------------------------------------------------
#
# This file is available in the Crystallography Open Database (COD),
# http://www.crystallography.net/
#
# All data on this site have been placed in the public domain by the
# contributors.
#
data_7217986
loop_
_publ_author_name
'Allan, David R.'
'Coles, Simon J.'
'George, Kathryn'
'Jura, Marek'
'Levason, William'
'Reid, Gillian'
'Wilson, Claire'
'Zhang, Wenjian'
_publ_section_title
;
 Exploring secondary bonding in p-block chemistry -- an experimental study
 of [GeX2{o-C6H4(PMe2)2}] using variable pressure single crystal X-ray
 diffraction
;
_journal_issue                   35
_journal_name_full               CrystEngComm
_journal_page_first              8169
_journal_paper_doi               10.1039/C4CE00329B
_journal_volume                  16
_journal_year                    2014
_chemical_formula_moiety         'C10 H16 Br2 Ge P2'
_chemical_formula_sum            'C10 H16 Br2 Ge P2'
_chemical_formula_weight         430.58
_chemical_name_systematic
;
 Dibromo(1,2-bis(dimethylphosphino)benzene-P,P')germanium(II)
;
_space_group_IT_number           15
_space_group_name_Hall           '-C 2yc'
_symmetry_cell_setting           monoclinic
_symmetry_space_group_name_Hall  '-C 2yc'
_symmetry_space_group_name_H-M   'C 1 2/c 1'
_atom_sites_solution_hydrogens   geom
_atom_sites_solution_primary     direct
_atom_sites_solution_secondary   difmap
_audit_creation_date             2013-01-16
_audit_creation_method           'SHELXL-97 + hand edit'
_cell_angle_alpha                90.00
_cell_angle_beta                 92.24(8)
_cell_angle_gamma                90.00
_cell_formula_units_Z            8
_cell_length_a                   25.79(10)
_cell_length_b                   7.17(3)
_cell_length_c                   14.06(5)
_cell_measurement_pressure       4100000
_cell_measurement_reflns_used    4667
_cell_measurement_temperature    293(2)
_cell_measurement_theta_max      28.6
_cell_measurement_theta_min      1.4
_cell_volume                     2598(17)
_computing_cell_refinement
;
CrystalClear-SM Expert 2.0 r5 (Rigaku, 2010)
;
_computing_data_collection
;
CrystalClear-SM Expert 2.0 r5 (Rigaku, 2010)
;
_computing_data_reduction
;
CrystalClear-SM Expert 2.0 r5 (Rigaku, 2010)
;
_computing_structure_refinement  'SHELXL-97 (Sheldrick, 2008)'
_diffrn_ambient_pressure         4100000
_diffrn_ambient_temperature      293
_diffrn_detector                 'CCD plate'
_diffrn_detector_area_resol_mean 28.5714
_diffrn_detector_type            'Rigaku Saturn724+ (2x2 bin mode)'
_diffrn_measured_fraction_theta_full 0.272
_diffrn_measured_fraction_theta_max 0.272
_diffrn_measurement_device       'four-circle κ goniometer'
_diffrn_measurement_device_type  CrystalLogic
_diffrn_measurement_method       'profile data from ω-scans'
_diffrn_measurement_specimen_support 'Diamond Anvil Cell'
_diffrn_radiation_collimation    'Confocal mirrors'
_diffrn_radiation_monochromator  'double crystal silicon'
_diffrn_radiation_type           synchrotron
_diffrn_radiation_wavelength     0.68890
_diffrn_reflns_av_R_equivalents  0.1015
_diffrn_reflns_av_sigmaI/netI    0.1031
_diffrn_reflns_limit_h_max       9
_diffrn_reflns_limit_h_min       -8
_diffrn_reflns_limit_k_max       10
_diffrn_reflns_limit_k_min       -8
_diffrn_reflns_limit_l_max       18
_diffrn_reflns_limit_l_min       -18
_diffrn_reflns_number            4460
_diffrn_reflns_theta_full        29.80
_diffrn_reflns_theta_max         29.80
_diffrn_reflns_theta_min         2.90
_diffrn_source                   synchrotron
_diffrn_source_type              'DLS beamline I19'
_exptl_absorpt_coefficient_mu    8.041
_exptl_absorpt_correction_type   none
_exptl_crystal_colour            Colorless
_exptl_crystal_density_diffrn    2.201
_exptl_crystal_density_method    'not measured'
_exptl_crystal_description       Plate
_exptl_crystal_F_000             1664
_exptl_crystal_size_max          0.10
_exptl_crystal_size_mid          0.08
_exptl_crystal_size_min          0.01
_refine_diff_density_max         0.939
_refine_diff_density_min         -1.104
_refine_diff_density_rms         0.247
_refine_ls_extinction_method     none
_refine_ls_goodness_of_fit_ref   1.106
_refine_ls_hydrogen_treatment    constr
_refine_ls_matrix_type           full
_refine_ls_number_parameters     74
_refine_ls_number_reflns         1012
_refine_ls_number_restraints     0
_refine_ls_restrained_S_all      1.106
_refine_ls_R_factor_all          0.1780
_refine_ls_R_factor_gt           0.1146
_refine_ls_shift/su_max          0.000
_refine_ls_shift/su_mean         0.000
_refine_ls_structure_factor_coef Fsqd
_refine_ls_weighting_details
'calc w=1/[σ²(Fo²)+(0.1583P)²+215.8169P] where P=(Fo²+2Fc²)/3'
_refine_ls_weighting_scheme      calc
_refine_ls_wR_factor_gt          0.2847
_refine_ls_wR_factor_ref         0.3481
_reflns_number_gt                593
_reflns_number_total             1012
_reflns_threshold_expression     I>2/sigma(I)
_cod_data_source_file            c4ce00329b2.cif
_cod_data_source_block           gebr2diphos5
_cod_original_sg_symbol_H-M      'C 2/c'
_cod_database_code               7217986
loop_
_symmetry_equiv_pos_as_xyz
'x, y, z'
'-x, y, -z+1/2'
'x+1/2, y+1/2, z'
'-x+1/2, y+1/2, -z+1/2'
'-x, -y, -z'
'x, -y, z-1/2'
'-x+1/2, -y+1/2, -z'
'x+1/2, -y+1/2, z-1/2'
loop_
_atom_site_label
_atom_site_type_symbol
_atom_site_fract_x
_atom_site_fract_y
_atom_site_fract_z
_atom_site_U_iso_or_equiv
_atom_site_adp_type
_atom_site_occupancy
_atom_site_symmetry_multiplicity
_atom_site_calc_flag
_atom_site_refinement_flags
C1 C 0.361(4) -0.442(5) 0.681(2) 0.054(9) Uiso 1 1 d .
H1A H 0.3399 -0.3366 0.6647 0.081 Uiso 1 1 calc R
H1B H 0.3402 -0.5521 0.6835 0.081 Uiso 1 1 calc R
H1C H 0.3866 -0.4585 0.6330 0.081 Uiso 1 1 calc R
C2 C 0.431(4) -0.616(4) 0.8186(19) 0.038(7) Uiso 1 1 d .
H2A H 0.4520 -0.6046 0.8759 0.056 Uiso 1 1 calc R
H2B H 0.4522 -0.6386 0.7657 0.056 Uiso 1 1 calc R
H2C H 0.4068 -0.7172 0.8249 0.056 Uiso 1 1 calc R
C3 C 0.3372(16) -0.411(3) 0.8867(11) 0.041(8) Uiso 1 1 d G
C4 C 0.2973(17) -0.541(3) 0.8787(11) 0.046(8) Uiso 1 1 d G
H4 H 0.2942 -0.6174 0.8252 0.055 Uiso 1 1 calc R
C5 C 0.2622(16) -0.558(3) 0.9508(14) 0.044(8) Uiso 1 1 d G
H5 H 0.2355 -0.6449 0.9454 0.053 Uiso 1 1 calc R
C6 C 0.2669(16) -0.444(3) 1.0307(12) 0.046(8) Uiso 1 1 d G
H6 H 0.2434 -0.4552 1.0789 0.055 Uiso 1 1 calc R
C7 C 0.3068(17) -0.314(3) 1.0387(10) 0.040(8) Uiso 1 1 d G
H7 H 0.3100 -0.2381 1.0922 0.048 Uiso 1 1 calc R
C8 C 0.3420(16) -0.298(3) 0.9666(12) 0.029(6) Uiso 1 1 d G
C9 C 0.442(3) -0.181(4) 1.0752(16) 0.030(6) Uiso 1 1 d .
H9A H 0.4687 -0.0895 1.0841 0.045 Uiso 1 1 calc R
H9B H 0.4568 -0.3007 1.0643 0.045 Uiso 1 1 calc R
H9C H 0.4215 -0.1858 1.1311 0.045 Uiso 1 1 calc R
C10 C 0.364(3) 0.104(4) 1.0050(18) 0.033(7) Uiso 1 1 d .
H10A H 0.3878 0.2073 1.0079 0.049 Uiso 1 1 calc R
H10B H 0.3487 0.0891 1.0656 0.049 Uiso 1 1 calc R
H10C H 0.3373 0.1283 0.9571 0.049 Uiso 1 1 calc R
P1 P 0.3951(10) -0.4031(9) 0.7987(5) 0.077(15) Uani 1 1 d .
P2 P 0.4003(9) -0.1168(10) 0.9737(5) 0.040(15) Uani 1 1 d .
Ge1 Ge 0.4400(4) -0.1071(4) 0.8152(2) 0.064(6) Uani 1 1 d .
Br1 Br 0.5188(4) -0.3034(4) 0.8951(2) 0.079(7) Uani 1 1 d .
Br2 Br 0.3318(4) 0.0076(4) 0.76043(19) 0.065(7) Uani 1 1 d .
loop_
_atom_site_aniso_label
_atom_site_aniso_U_11
_atom_site_aniso_U_22
_atom_site_aniso_U_33
_atom_site_aniso_U_23
_atom_site_aniso_U_13
_atom_site_aniso_U_12
P1 0.17(5) 0.019(3) 0.038(3) 0.002(3) -0.005(8) -0.017(8)
P2 0.06(5) 0.026(3) 0.033(3) 0.001(2) -0.010(7) 0.014(7)
Ge1 0.13(2) 0.0184(13) 0.0405(16) -0.0009(10) 0.010(3) 0.000(3)
Br1 0.15(2) 0.0331(16) 0.0552(18) -0.0030(12) 0.007(4) 0.004(3)
Br2 0.12(2) 0.0311(15) 0.0394(15) -0.0011(10) 0.001(3) 0.004(3)
loop_
_atom_type_symbol
_atom_type_description
_atom_type_scat_dispersion_real
_atom_type_scat_dispersion_imag
_atom_type_scat_source
C C 0.0032 0.0015 'International Tables Vol C Tables 4.2.6.8 and 6.1.1.4'
H H 0.0000 0.0000 'International Tables Vol C Tables 4.2.6.8 and 6.1.1.4'
Br Br -0.1750 2.4304 'International Tables Vol C Tables 4.2.6.8 and 6.1.1.4'
Ge Ge 0.2186 1.7697 'International Tables Vol C Tables 4.2.6.8 and 6.1.1.4'
P P 0.0990 0.0908 'International Tables Vol C Tables 4.2.6.8 and 6.1.1.4'
loop_
_geom_angle_atom_site_label_1
_geom_angle_atom_site_label_2
_geom_angle_atom_site_label_3
_geom_angle
P1 C1 H1A 109.5
P1 C1 H1B 109.5
H1A C1 H1B 109.5
P1 C1 H1C 109.5
H1A C1 H1C 109.5
H1B C1 H1C 109.5
P1 C2 H2A 109.5
P1 C2 H2B 109.5
H2A C2 H2B 109.5
P1 C2 H2C 109.5
H2A C2 H2C 109.5
H2B C2 H2C 109.5
C4 C3 C8 120.0
C4 C3 P1 123.0(12)
C8 C3 P1 116.4(13)
C5 C4 C3 120.0
C5 C4 H4 120.0
C3 C4 H4 120.0
C6 C5 C4 120.0
C6 C5 H5 120.0
C4 C5 H5 120.0
C5 C6 C7 120.0
C5 C6 H6 120.0
C7 C6 H6 120.0
C8 C7 C6 120.0
C8 C7 H7 120.0
C6 C7 H7 120.0
C7 C8 C3 120.0
C7 C8 P2 122.2(11)
C3 C8 P2 117.8(11)
P2 C9 H9A 109.5
P2 C9 H9B 109.5
H9A C9 H9B 109.5
P2 C9 H9C 109.5
H9A C9 H9C 109.5
H9B C9 H9C 109.5
P2 C10 H10A 109.5
P2 C10 H10B 109.5
H10A C10 H10B 109.5
P2 C10 H10C 109.5
H10A C10 H10C 109.5
H10B C10 H10C 109.5
C2 P1 C1 103(2)
C2 P1 C3 106(2)
C1 P1 C3 102(3)
C2 P1 Ge1 119(3)
C1 P1 Ge1 114.9(15)
C3 P1 Ge1 109.6(7)
C9 P2 C10 108.1(18)
C9 P2 C8 107.3(19)
C10 P2 C8 100(3)
C9 P2 Ge1 118(2)
C10 P2 Ge1 114.0(10)
C8 P2 Ge1 108.1(7)
P1 Ge1 P2 81.3(5)
P1 Ge1 Br1 86.1(6)
P2 Ge1 Br1 86.7(5)
loop_
_geom_bond_atom_site_label_1
_geom_bond_atom_site_label_2
_geom_bond_distance
C1 P1 1.86(5)
C1 H1A 0.9600
C1 H1B 0.9600
C1 H1C 0.9600
C2 P1 1.80(5)
C2 H2A 0.9600
C2 H2B 0.9600
C2 H2C 0.9600
C3 C4 1.3900
C3 C8 1.3900
C3 P1 1.98(4)
C4 C5 1.3900
C4 H4 0.9300
C5 C6 1.3900
C5 H5 0.9300
C6 C7 1.3900
C6 H6 0.9300
C7 C8 1.3900
C7 H7 0.9300
C8 P2 1.99(4)
C9 P2 1.81(5)
C9 H9A 0.9600
C9 H9B 0.9600
C9 H9C 0.9600
C10 P2 1.90(5)
C10 H10A 0.9600
C10 H10B 0.9600
C10 H10C 0.9600
P1 Ge1 2.425(16)
P2 Ge1 2.490(15)
Ge1 Br1 2.682(13)
