#------------------------------------------------------------------------------
#$Date: 2016-02-16 02:10:39 +0100 (mar 16 de feb de 2016) $
#$Revision: 176453 $
#$URL: svn://www.crystallography.net/cod/cif/7/21/83/7218317.cif $
#------------------------------------------------------------------------------
#
# This file is available in the Crystallography Open Database (COD),
# http://www.crystallography.net/
#
# All data on this site have been placed in the public domain by the
# contributors.
#
data_7218317
loop_
_publ_author_name
'Wesela-Bauman, Grzegorz'
'Parsons, Simon'
'Serwatowski, Janusz'
'Woźniak, Krzysztof'
_publ_section_title
;
 Effect of high pressure on the crystal structure and charge transport
 properties of the (2-fluoro-3-pyridyl)(4-iodophenyl)borinic
 8-oxyquinolinate complex
;
_journal_issue                   47
_journal_name_full               CrystEngComm
_journal_page_first              10780
_journal_paper_doi               10.1039/C4CE01730G
_journal_volume                  16
_journal_year                    2014
_chemical_formula_moiety         'C20 H13 B1 F1 I1 N2 O1'
_chemical_formula_sum            'C20 H13 B F I N2 O'
_chemical_formula_weight         454.05
_space_group_IT_number           14
_symmetry_cell_setting           monoclinic
_symmetry_space_group_name_Hall  '-P 2yn'
_symmetry_space_group_name_H-M   'P 1 21/n 1'
_atom_sites_solution_hydrogens   difmap
_atom_sites_solution_primary     other
_audit_creation_date             12-09-10
_audit_creation_method           CRYSTALS_ver_14.40
_cell_angle_alpha                90
_cell_angle_beta                 90.549(10)
_cell_angle_gamma                90
_cell_formula_units_Z            4
_cell_length_a                   6.3469(5)
_cell_length_b                   13.6039(10)
_cell_length_c                   16.105(3)
_cell_measurement_reflns_used    1943
_cell_measurement_temperature    296
_cell_measurement_theta_max      25
_cell_measurement_theta_min      3
_cell_volume                     1390.5(3)
_computing_cell_refinement       'Apex2 (Bruker AXS, 2006)'
_computing_data_collection       'Apex2 (Bruker AXS, 2006)'
_computing_data_reduction        'Apex2 (Bruker AXS, 2006)'
_computing_molecular_graphics    'CAMERON (Watkin et al., 1996)'
_computing_publication_material  'CRYSTALS (Betteridge et al., 2003)'
_computing_structure_refinement  'CRYSTALS (Betteridge et al., 2003)'
_computing_structure_solution    'Superflip (Palatinus & Chapuis, 2007)'
_diffrn_ambient_pressure         4882700
_diffrn_ambient_temperature      296
_diffrn_measured_fraction_theta_full 0.456
_diffrn_measured_fraction_theta_max 0.455
_diffrn_measurement_device       Area
_diffrn_measurement_device_type  'Bruker Kappa Apex2'
_diffrn_measurement_method       ω
_diffrn_radiation_monochromator  graphite
_diffrn_radiation_type           'Mo K\a'
_diffrn_radiation_wavelength     0.71073
_diffrn_reflns_av_R_equivalents  0.057
_diffrn_reflns_limit_h_max       6
_diffrn_reflns_limit_h_min       -6
_diffrn_reflns_limit_k_max       16
_diffrn_reflns_limit_k_min       -16
_diffrn_reflns_limit_l_max       10
_diffrn_reflns_limit_l_min       -10
_diffrn_reflns_number            6772
_diffrn_reflns_theta_full        25.032
_diffrn_reflns_theta_max         25.543
_diffrn_reflns_theta_min         2.995
_diffrn_standards_number         0
_exptl_absorpt_coefficient_mu    2.330
_exptl_absorpt_correction_T_max  0.63
_exptl_absorpt_correction_T_min  0.57
_exptl_absorpt_correction_type   multi-scan
_exptl_absorpt_process_details   'SADABS (Siemens, 1996)'
_exptl_crystal_colour            green
_exptl_crystal_density_diffrn    2.169
_exptl_crystal_density_method    'not measured'
_exptl_crystal_description       block
_exptl_crystal_F_000             888
_exptl_crystal_size_max          0.350
_exptl_crystal_size_mid          0.300
_exptl_crystal_size_min          0.200
_refine_diff_density_max         0.52
_refine_diff_density_min         -0.66
_refine_ls_extinction_method     None
_refine_ls_goodness_of_fit_ref   0.9999
_refine_ls_hydrogen_treatment    constr
_refine_ls_matrix_type           full
_refine_ls_number_parameters     110
_refine_ls_number_reflns         910
_refine_ls_number_restraints     0
_refine_ls_R_factor_all          0.0615
_refine_ls_R_factor_gt           0.0392
_refine_ls_shift/su_max          0.0002065
_refine_ls_shift/su_mean         0.0000195
_refine_ls_structure_factor_coef F
_refine_ls_weighting_details
;
 Method, part 1, Chebychev polynomial, (Watkin, 1994, Prince, 1982) 
 [weight] = 1.0/[A₀*T₀(x)+A₁*T₁(x) ... +Aₙ₋₁]*Tₙ₋₁(x)] 
 where Ai are the Chebychev coefficients listed below and x= Fcalc/Fmax 
 Method = Robust Weighting (Prince, 1982) 
 W = [weight] * [1-(deltaF/6*sigmaF)²]² 
 Ai are: 
 0.559 0.245 0.378 
;
_refine_ls_weighting_scheme      calc
_refine_ls_wR_factor_all         0.0553
_refine_ls_wR_factor_gt          0.0417
_refine_ls_wR_factor_ref         0.0417
_reflns_limit_h_max              6
_reflns_limit_h_min              -6
_reflns_limit_k_max              16
_reflns_limit_k_min              0
_reflns_limit_l_max              10
_reflns_limit_l_min              0
_reflns_number_gt                910
_reflns_number_total             1187
_reflns_threshold_expression     I>2.0σ(I)
_oxford_diffrn_Wilson_B_factor   0.00
_oxford_diffrn_Wilson_scale      0.00
_oxford_refine_ls_r_factor_ref   0.0392
_oxford_refine_ls_scale          0.1226(4)
_oxford_reflns_number_all        1187
_oxford_reflns_threshold_expression_ref I>2.0\s(I)
_oxford_structure_analysis_title '1_P=4.88GPa in P2(1)/n'
_cod_data_source_file            c4ce01730g2.cif
_cod_data_source_block           1_P=4.88GPa
_cod_depositor_comments
;
The following automatic conversions were performed:

'_atom_sites_solution_primary' value 'Other' changed to 'other'
according to
/usr/data/users/saulius/crontab/automatic-downloads/rss-feeds/RSC/lib/dictionaries/cif_core.dic
dictionary named 'cif_core.dic' version 2.4.2 from 2011-04-26.

Automatic conversion script
Id: cif_fix_values 2827 2014-09-09 07:05:25Z andrius 

 Adding full bibliography for 7218311--7218317.cif.
;
_cod_original_sg_symbol_H-M      'P 1 21/n 1 '
_cod_original_formula_sum        'C20 H13 B1 F1 I1 N2 O1'
_cod_database_code               7218317
#BEGIN Tags that were not found in dictionaries:
_iucr_refine_instruction_details_constraints
;
BLOCK 
CONT SCALE 
CONT C    (    1 ,X'S,U[ISO])  UNTIL C    (   20 ) 
CONT I    (    1 ,X'S,U'S) 
CONT B    (    1 ,X'S,U[ISO])  UNTIL N    (    2 ) 
RIDE C   (   1,X'S) H   (   1,X'S) 
RIDE C   (   2,X'S) H   (   2,X'S) 
RIDE C   (   3,X'S) H   (   3,X'S) 
RIDE C   (   5,X'S) H   (   5,X'S) 
RIDE C   (   6,X'S) H   (   6,X'S) 
RIDE C   (   7,X'S) H   (   7,X'S) 
RIDE C   (  12,X'S) H   (  12,X'S) 
RIDE C   (  13,X'S) H   (  13,X'S) 
RIDE C   (  14,X'S) H   (  14,X'S) 
RIDE C   (  16,X'S) H   (  16,X'S) 
RIDE C   (  17,X'S) H   (  17,X'S) 
RIDE C   (  19,X'S) H   (  19,X'S) 
RIDE C   (  20,X'S) H   (  20,X'S) 
END                                                                             
;
_iucr_refine_instruction_details_restraints
;
NO 
REM   HREST   START (DO NOT REMOVE THIS LINE) 
REM   HREST   END (DO NOT REMOVE THIS LINE) 
END                                                                             
;
#END Tags that were not found in dictionaries
loop_
_symmetry_equiv_pos_as_xyz
x,y,z
-x,-y,-z
-x+1/2,y+1/2,-z+1/2
x+1/2,-y+1/2,z+1/2
loop_
_atom_site_label
_atom_site_type_symbol
_atom_site_fract_x
_atom_site_fract_y
_atom_site_fract_z
_atom_site_U_iso_or_equiv
_atom_site_occupancy
_atom_site_adp_type
_atom_site_refinement_flags_posn
H1 H 0.4944 0.8747 0.3942 0.0545 1.0000 Uiso R
H2 H 0.5677 0.8699 0.2579 0.0643 1.0000 Uiso R
H3 H 0.3513 0.7955 0.1667 0.0653 1.0000 Uiso R
H5 H -0.0192 0.7077 0.1460 0.0681 1.0000 Uiso R
H6 H -0.3032 0.6484 0.2107 0.0663 1.0000 Uiso R
H7 H -0.3393 0.6554 0.3507 0.0562 1.0000 Uiso R
H12 H -0.2073 0.8539 0.5546 0.0552 1.0000 Uiso R
H13 H -0.2566 0.9751 0.6461 0.0713 1.0000 Uiso R
H14 H 0.0195 1.0642 0.6898 0.0683 1.0000 Uiso R
H16 H 0.0744 0.6320 0.5887 0.0552 1.0000 Uiso R
H17 H 0.2713 0.5192 0.6524 0.0605 1.0000 Uiso R
H19 H 0.7583 0.6143 0.5302 0.0471 1.0000 Uiso R
H20 H 0.5618 0.7319 0.4737 0.0475 1.0000 Uiso R
C1 C 0.4083(12) 0.8461(4) 0.3595(10) 0.0181(17) 1.0000 Uiso .
C2 C 0.4564(13) 0.8409(5) 0.2763(10) 0.0193(17) 1.0000 Uiso .
C3 C 0.3237(12) 0.7962(5) 0.2193(9) 0.0228(19) 1.0000 Uiso .
C4 C 0.1314(12) 0.7572(4) 0.2520(9) 0.0151(16) 1.0000 Uiso .
C5 C -0.0281(12) 0.7117(5) 0.2001(10) 0.0261(19) 1.0000 Uiso .
C6 C -0.2061(13) 0.6765(5) 0.2408(11) 0.0218(18) 1.0000 Uiso .
C7 C -0.2310(12) 0.6809(5) 0.3269(10) 0.0187(18) 1.0000 Uiso .
C8 C -0.0779(12) 0.7250(4) 0.3744(10) 0.0167(17) 1.0000 Uiso .
C9 C 0.0957(12) 0.7637(4) 0.3340(9) 0.0177(17) 1.0000 Uiso .
C10 C 0.2480(14) 0.9370(5) 0.5670(11) 0.0234(19) 1.0000 Uiso .
C11 C 0.0984(12) 0.8713(5) 0.5378(9) 0.0194(18) 1.0000 Uiso .
C12 C -0.1007(13) 0.8897(5) 0.5703(9) 0.0213(18) 1.0000 Uiso .
C13 C -0.1327(14) 0.9617(5) 0.6283(10) 0.0274(19) 1.0000 Uiso .
C14 C 0.0382(14) 1.0170(5) 0.6557(10) 0.031(2) 1.0000 Uiso .
C15 C 0.2849(11) 0.6975(4) 0.5245(9) 0.0154(16) 1.0000 Uiso .
C16 C 0.2077(13) 0.6286(5) 0.5787(9) 0.0198(17) 1.0000 Uiso .
C17 C 0.3300(13) 0.5602(4) 0.6184(10) 0.0195(18) 1.0000 Uiso .
C18 C 0.5418(13) 0.5558(5) 0.5989(9) 0.0218(19) 1.0000 Uiso .
C19 C 0.6243(12) 0.6190(5) 0.5402(9) 0.0179(17) 1.0000 Uiso .
C20 C 0.4992(12) 0.6905(4) 0.5066(9) 0.0170(16) 1.0000 Uiso .
I1 I 0.74804(8) 0.45774(3) 0.65514(6) 0.0269 1.0000 Uani .
B1 B 0.1419(14) 0.7793(5) 0.4788(10) 0.019(2) 1.0000 Uiso .
O1 O -0.0675(8) 0.7368(3) 0.4559(6) 0.0179(12) 1.0000 Uiso .
N1 N 0.2331(10) 0.8032(4) 0.3902(7) 0.0170(14) 1.0000 Uiso .
F1 F 0.4490(7) 0.9224(3) 0.5398(5) 0.0268(11) 1.0000 Uiso .
N2 N 0.2295(11) 1.0051(5) 0.6234(8) 0.0283(17) 1.0000 Uiso .
loop_
_atom_site_aniso_label
_atom_site_aniso_U_11
_atom_site_aniso_U_22
_atom_site_aniso_U_33
_atom_site_aniso_U_23
_atom_site_aniso_U_13
_atom_site_aniso_U_12
I1 0.0239(3) 0.0169(3) 0.0397(11) 0.0018(3) -0.0046(3) 0.0030(2)
loop_
_atom_type_symbol
_atom_type_scat_dispersion_real
_atom_type_scat_dispersion_imag
_atom_type_scat_Cromer_Mann_a1
_atom_type_scat_Cromer_Mann_b1
_atom_type_scat_Cromer_Mann_a2
_atom_type_scat_Cromer_Mann_b2
_atom_type_scat_Cromer_Mann_a3
_atom_type_scat_Cromer_Mann_b3
_atom_type_scat_Cromer_Mann_a4
_atom_type_scat_Cromer_Mann_b4
_atom_type_scat_Cromer_Mann_c
_atom_type_scat_source
C 0.0033 0.0016 2.3100 20.8439 1.0200 10.2075 1.5886 0.5687 0.8650 51.6512
0.2156 'International Tables Vol C 4.2.6.8 and 6.1.1.4'
H 0.0000 0.0000 0.4930 10.5109 0.3229 26.1257 0.1402 3.1424 0.0408 57.7998
0.0030 'International Tables Vol C 4.2.6.8 and 6.1.1.4'
B 0.0013 0.0007 2.0545 23.2185 1.3326 1.0210 1.0979 60.3498 0.7068 0.1403
-0.1932 'International Tables Vol C 4.2.6.8 and 6.1.1.4'
N 0.0061 0.0033 12.2126 0.0057 3.1322 9.8933 2.0125 28.9975 1.1663 0.5826
-11.5290 'International Tables Vol C 4.2.6.8 and 6.1.1.4'
O 0.0106 0.0060 3.0485 13.2771 2.2868 5.7011 1.5463 0.3239 0.8670 32.9089
0.2508 'International Tables Vol C 4.2.6.8 and 6.1.1.4'
F 0.0171 0.0103 3.5392 10.2825 2.6412 4.2944 1.5170 0.2615 1.0243 26.1476
0.2776 'International Tables Vol C 4.2.6.8 and 6.1.1.4'
I -0.4742 1.8119 20.1472 4.3470 18.9949 0.3814 7.5138 27.7660 2.2735 66.8776
4.0712 'International Tables Vol C 4.2.6.8 and 6.1.1.4'
loop_
_geom_angle_atom_site_label_1
_geom_angle_atom_site_label_2
_geom_angle_atom_site_label_3
_geom_angle
_geom_angle_publ_flag
H1 C1 C2 120.3 no
H1 C1 N1 118.1 no
C2 C1 N1 121.5(10) yes
C1 C2 H2 119.9 no
C1 C2 C3 121.9(9) yes
H2 C2 C3 118.0 no
C2 C3 H3 121.8 no
C2 C3 C4 115.7(12) yes
H3 C3 C4 122.4 no
C3 C4 C5 122.6(13) yes
C3 C4 C9 119.2(10) yes
C5 C4 C9 118.2(9) yes
C4 C5 H5 123.4 no
C4 C5 C6 116.1(14) yes
H5 C5 C6 120.4 no
C5 C6 H6 117.5 no
C5 C6 C7 123.4(11) yes
H6 C6 C7 119.1 no
C6 C7 H7 121.4 no
C6 C7 C8 119.1(9) yes
H7 C7 C8 119.5 no
C7 C8 C9 117.8(13) yes
C7 C8 O1 129.4(10) yes
C9 C8 O1 112.7(9) yes
C8 C9 C4 125.2(10) yes
C8 C9 N1 110.1(13) yes
C4 C9 N1 124.5(9) yes
C11 C10 F1 115.9(10) yes
C11 C10 N2 129.0(10) yes
F1 C10 N2 114.7(9) yes
C10 C11 C12 112.2(9) yes
C10 C11 B1 125.9(8) yes
C12 C11 B1 121.8(7) yes
C11 C12 H12 119.7 no
C11 C12 C13 121.6(8) yes
H12 C12 C13 118.6 no
C12 C13 H13 121.4 no
C12 C13 C14 118.9(9) yes
H13 C13 C14 119.6 no
C13 C14 H14 119.9 no
C13 C14 N2 121.5(11) yes
H14 C14 N2 118.3 no
C16 C15 C20 116.0(8) yes
C16 C15 B1 124.0(7) yes
C20 C15 B1 119.9(9) yes
C15 C16 H16 115.9 no
C15 C16 C17 123.9(8) yes
H16 C16 C17 120.2 no
C16 C17 H17 119.2 no
C16 C17 C18 118.2(10) yes
H17 C17 C18 122.6 no
C17 C18 C19 120.1(9) yes
C17 C18 I1 122.7(8) yes
C19 C18 I1 117.2(6) yes
C18 C19 H19 117.3 no
C18 C19 C20 119.4(8) yes
H19 C19 C20 123.0 no
C15 C20 C19 122.1(9) yes
C15 C20 H20 122.1 no
C19 C20 H20 115.8 no
C15 B1 C11 111.7(11) yes
C15 B1 O1 110.0(6) yes
C11 B1 O1 106.9(7) yes
C15 B1 N1 110.2(8) yes
C11 B1 N1 116.3(7) yes
O1 B1 N1 101.0(10) yes
B1 O1 C8 109.1(9) yes
B1 N1 C9 106.4(8) yes
B1 N1 C1 136.8(10) yes
C9 N1 C1 116.7(11) yes
C14 N2 C10 116.5(9) yes
loop_
_geom_bond_atom_site_label_1
_geom_bond_atom_site_label_2
_geom_bond_distance
_geom_bond_publ_flag
H1 C1 0.870 no
H2 C2 0.864 no
H3 C3 0.867 no
H5 C5 0.876 no
H6 C6 0.869 no
H7 C7 0.863 no
H12 C12 0.870 no
H13 C13 0.859 no
H14 C14 0.855 no
H16 C16 0.864 no
H17 C17 0.868 no
H19 C19 0.869 no
H20 C20 0.872 no
C1 C2 1.379(18) yes
C1 N1 1.353(11) yes
C2 C3 1.381(16) yes
C3 C4 1.436(12) yes
C4 C5 1.446(15) yes
C4 C9 1.344(17) yes
C5 C6 1.396(14) yes
C6 C7 1.399(17) yes
C7 C8 1.368(15) yes
C8 C9 1.389(13) yes
C8 O1 1.325(14) yes
C9 N1 1.362(14) yes
C10 C11 1.384(13) yes
C10 F1 1.367(11) yes
C10 N2 1.303(18) yes
C11 C12 1.394(13) yes
C11 B1 1.598(14) yes
C12 C13 1.371(17) yes
C13 C14 1.388(13) yes
C14 N2 1.335(12) yes
C15 C16 1.375(15) yes
C15 C20 1.397(11) yes
C15 B1 1.609(13) yes
C16 C17 1.366(13) yes
C17 C18 1.385(13) yes
C18 C19 1.385(16) yes
C18 I1 2.071(9) yes
C19 C20 1.364(12) yes
B1 O1 1.492(11) yes
B1 N1 1.579(18) yes
loop_
_geom_hbond_atom_site_label_D
_geom_hbond_atom_site_label_H
_geom_hbond_atom_site_label_A
_geom_hbond_site_symmetry_A
_geom_hbond_angle_DHA
_geom_hbond_distance_DH
_geom_hbond_distance_HA
_geom_hbond_distance_DA
_geom_hbond_publ_flag
C1 H1 N2 2_676 132.7(5) 0.870 2.416 3.073(14) yes
C6 H6 N2 4_464 127.8(3) 0.869 2.526 3.135(14) yes
C14 H14 C9 2_576 130.8(5) 0.855 2.481 3.107(14) yes
C19 H19 O1 1_655 120.8(2) 0.869 2.335 2.878(14) yes
C20 H20 C1 . 130.4(2) 0.872 2.591 3.225(14) yes
C20 H20 O1 1_655 123.3(3) 0.872 2.373 2.944(14) yes
