#------------------------------------------------------------------------------
#$Date: 2019-11-28 19:18:28 +0100 (jue 28 de nov de 2019) $
#$Revision: 244505 $
#$URL: svn://www.crystallography.net/cod/cif/7/23/90/7239006.cif $
#------------------------------------------------------------------------------
#
# This file is available in the Crystallography Open Database (COD),
# http://www.crystallography.net/
#
# All data on this site have been placed in the public domain by the
# contributors.
#
data_7239006
loop_
_publ_author_name
'Awheda, Ismail'
'Saygili, Nezire'
'Garner, A. Christopher'
'Wallis, John D.'
_publ_section_title
;
 Activation and regioselectivity of five-membered cyclic thionocarbamates
 to nucleophilic attack
;
_journal_issue                   47
_journal_name_full               'RSC Advances'
_journal_page_first              24997
_journal_paper_doi               10.1039/c3ra41074a
_journal_volume                  3
_journal_year                    2013
_chemical_absolute_configuration ad
_chemical_formula_sum            'C11 H13 N O S'
_chemical_formula_weight         207.28
_chemical_melting_point          351.0(10)
_chemical_name_systematic
;
S-3-benzyl-4-methyl-1,3-oxazolidine-2-thione,
compound 11
;
_space_group_IT_number           18
_space_group_name_Hall           'P 2 2ab'
_space_group_name_H-M_alt        'P 21 21 2'
_symmetry_cell_setting           orthorhombic
_symmetry_space_group_name_H-M   'P 21 21 2'
_atom_sites_solution_hydrogens   geom
_atom_sites_solution_primary     direct
_atom_sites_solution_secondary   difmap
_audit_creation_method           SHELXL-97
_cell_angle_alpha                90.00
_cell_angle_beta                 90.00
_cell_angle_gamma                90.00
_cell_formula_units_Z            4
_cell_length_a                   19.5407(9)
_cell_length_b                   8.0050(4)
_cell_length_c                   6.7851(3)
_cell_measurement_reflns_used    1446
_cell_measurement_temperature    120(2)
_cell_measurement_theta_max      27.48
_cell_measurement_theta_min      1.0
_cell_volume                     1061.35(9)
_computing_cell_refinement
;
DENZO (Otwinowski and Minor, 1997) and COLLECT (Hooft,R.W.W. 1998)
#Although determined using DirAx, the cell is refined in the HKL
#package during data reduction
;
_computing_data_collection
;
COLLECT (Hooft,R.W.W. 1998)
;
_computing_data_reduction
;
DENZO (Otwinowski and Minor, 1997) and COLLECT (Hooft,R.W.W. 1998)
;
_computing_molecular_graphics    'ORTEPIII (Johnson and Burnett, 1996)'
_computing_publication_material  'SHELXL-97 (Sheldrick, 1997)'
_computing_structure_refinement  'SHELXL-97 (Sheldrick, 1997)'
_computing_structure_solution    'SHELXS-97 (Sheldrick, 1990)'
_diffrn_ambient_temperature      120(2)
_diffrn_detector_area_resol_mean 9.091
_diffrn_measured_fraction_theta_full 0.993
_diffrn_measured_fraction_theta_max 0.993
_diffrn_measurement_device_type
'Bruker-Nonius 95mm CCD camera on κ-goniostat'
_diffrn_measurement_method       'Phi and Omega scans'
_diffrn_radiation_monochromator  graphite
_diffrn_radiation_source         'Bruker-Nonius FR591 rotating anode'
_diffrn_radiation_type           MoK\a
_diffrn_radiation_wavelength     0.71073
_diffrn_reflns_av_R_equivalents  0.0352
_diffrn_reflns_av_sigmaI/netI    0.0265
_diffrn_reflns_limit_h_max       25
_diffrn_reflns_limit_h_min       -25
_diffrn_reflns_limit_k_max       10
_diffrn_reflns_limit_k_min       -10
_diffrn_reflns_limit_l_max       8
_diffrn_reflns_limit_l_min       -8
_diffrn_reflns_number            11212
_diffrn_reflns_theta_full        27.52
_diffrn_reflns_theta_max         27.52
_diffrn_reflns_theta_min         2.75
_exptl_absorpt_coefficient_mu    0.271
_exptl_absorpt_correction_T_max  0.99
_exptl_absorpt_correction_T_min  0.81
_exptl_absorpt_correction_type   multi-scan
_exptl_absorpt_process_details   'SADABS V2.10 (Sheldrick, G.M., 2003)'
_exptl_crystal_colour            colourless
_exptl_crystal_density_diffrn    1.297
_exptl_crystal_density_method    'not measured'
_exptl_crystal_description       slab
_exptl_crystal_F_000             440
_exptl_crystal_size_max          0.66
_exptl_crystal_size_mid          0.64
_exptl_crystal_size_min          0.12
_refine_diff_density_max         0.231
_refine_diff_density_min         -0.148
_refine_diff_density_rms         0.035
_refine_ls_abs_structure_details 'Flack H D (1983), Acta Cryst. A39, 876-881'
_refine_ls_abs_structure_Flack   0.05(7)
_refine_ls_extinction_method     none
_refine_ls_goodness_of_fit_ref   1.081
_refine_ls_hydrogen_treatment    constr
_refine_ls_matrix_type           full
_refine_ls_number_parameters     128
_refine_ls_number_reflns         2439
_refine_ls_number_restraints     0
_refine_ls_restrained_S_all      1.081
_refine_ls_R_factor_all          0.0334
_refine_ls_R_factor_gt           0.0282
_refine_ls_shift/su_max          0.000
_refine_ls_shift/su_mean         0.000
_refine_ls_structure_factor_coef Fsqd
_refine_ls_weighting_details
'calc w=1/[σ²(Fo²)+(0.0261P)²+0.2423P] where P=(Fo²+2Fc²)/3'
_refine_ls_weighting_scheme      calc
_refine_ls_wR_factor_gt          0.0670
_refine_ls_wR_factor_ref         0.0692
_reflns_number_gt                2242
_reflns_number_total             2439
_reflns_threshold_expression     >2sigma(I)
_cod_data_source_file            c3ra41074a.txt
_cod_data_source_block           compound11
_cod_depositor_comments
;
The following automatic conversions were performed:

data item '_chemical_melting_point' value '350-352' was changed to
'351.0(10)' -- the average value was taken and precision was
estimated.

Automatic conversion script
Id: cif_fix_values 6909 2019-04-08 15:41:33Z antanas 
;
_cod_original_sg_symbol_H-M      P21212
_cod_database_code               7239006
loop_
_symmetry_equiv_pos_as_xyz
'x, y, z'
'-x, -y, z'
'x+1/2, -y+1/2, -z'
'-x+1/2, y+1/2, -z'
loop_
_atom_site_label
_atom_site_type_symbol
_atom_site_fract_x
_atom_site_fract_y
_atom_site_fract_z
_atom_site_U_iso_or_equiv
_atom_site_adp_type
_atom_site_occupancy
_atom_site_symmetry_multiplicity
_atom_site_calc_flag
_atom_site_refinement_flags
S1 S 0.08824(2) 0.21008(5) -0.11725(5) 0.03439(11) Uani 1 1 d .
O1 O 0.21920(6) 0.23193(15) -0.03322(15) 0.0358(3) Uani 1 1 d .
N1 N 0.15341(6) 0.31911(14) 0.20927(17) 0.0228(2) Uani 1 1 d .
C1 C 0.15382(7) 0.25646(16) 0.0273(2) 0.0244(3) Uani 1 1 d .
C2 C 0.22228(7) 0.35522(19) 0.2832(2) 0.0256(3) Uani 1 1 d .
H2 H 0.2306 0.4784 0.2788 0.031 Uiso 1 1 calc R
C3 C 0.26556(9) 0.2700(3) 0.1280(2) 0.0435(4) Uani 1 1 d .
H3A H 0.3027 0.3449 0.0829 0.052 Uiso 1 1 calc R
H3B H 0.2862 0.1664 0.1811 0.052 Uiso 1 1 calc R
C4 C 0.23322(8) 0.2922(3) 0.4908(2) 0.0431(4) Uani 1 1 d .
H4A H 0.2037 0.3544 0.5816 0.065 Uiso 1 1 calc R
H4B H 0.2812 0.3082 0.5282 0.065 Uiso 1 1 calc R
H4C H 0.2218 0.1731 0.4971 0.065 Uiso 1 1 calc R
C5 C 0.09188(7) 0.36434(16) 0.3196(2) 0.0228(3) Uani 1 1 d .
H5A H 0.0917 0.3040 0.4470 0.027 Uiso 1 1 calc R
H5B H 0.0510 0.3290 0.2443 0.027 Uiso 1 1 calc R
C6 C 0.08796(7) 0.55075(15) 0.3580(2) 0.0199(3) Uani 1 1 d .
C7 C 0.09118(8) 0.66441(19) 0.2031(2) 0.0284(3) Uani 1 1 d .
H7 H 0.0972 0.6253 0.0721 0.034 Uiso 1 1 calc R
C8 C 0.08565(8) 0.83490(18) 0.2390(3) 0.0354(4) Uani 1 1 d .
H8 H 0.0881 0.9121 0.1329 0.043 Uiso 1 1 calc R
C9 C 0.07654(8) 0.89174(18) 0.4298(3) 0.0363(4) Uani 1 1 d .
H9 H 0.0727 1.0082 0.4542 0.044 Uiso 1 1 calc R
C10 C 0.07295(7) 0.78088(19) 0.5842(2) 0.0310(3) Uani 1 1 d .
H10 H 0.0665 0.8207 0.7148 0.037 Uiso 1 1 calc R
C11 C 0.07884(7) 0.61005(16) 0.5488(2) 0.0237(3) Uani 1 1 d .
H11 H 0.0766 0.5336 0.6557 0.028 Uiso 1 1 calc R
loop_
_atom_site_aniso_label
_atom_site_aniso_U_11
_atom_site_aniso_U_22
_atom_site_aniso_U_33
_atom_site_aniso_U_23
_atom_site_aniso_U_13
_atom_site_aniso_U_12
S1 0.0457(2) 0.0362(2) 0.02122(17) 0.00173(15) -0.00732(17) -0.00888(18)
O1 0.0366(6) 0.0495(7) 0.0214(5) -0.0053(5) 0.0046(5) 0.0090(5)
N1 0.0215(5) 0.0239(6) 0.0228(6) -0.0044(5) 0.0012(5) 0.0016(5)
C1 0.0325(7) 0.0207(6) 0.0201(7) 0.0021(5) 0.0009(6) 0.0021(5)
C2 0.0213(7) 0.0324(7) 0.0233(7) -0.0006(6) -0.0004(6) 0.0003(6)
C3 0.0297(8) 0.0682(12) 0.0326(9) -0.0103(10) 0.0003(7) 0.0104(8)
C4 0.0278(8) 0.0699(12) 0.0315(8) 0.0139(10) -0.0020(7) 0.0077(9)
C5 0.0207(6) 0.0204(6) 0.0273(7) -0.0022(5) 0.0031(6) -0.0007(5)
C6 0.0150(6) 0.0178(6) 0.0270(7) 0.0007(5) 0.0014(6) 0.0003(5)
C7 0.0265(7) 0.0311(7) 0.0277(7) 0.0066(6) 0.0034(6) 0.0018(6)
C8 0.0281(7) 0.0255(7) 0.0527(10) 0.0171(7) 0.0054(8) 0.0016(6)
C9 0.0252(7) 0.0187(7) 0.0650(12) -0.0010(7) 0.0045(8) 0.0017(5)
C10 0.0251(7) 0.0273(7) 0.0407(9) -0.0106(7) 0.0032(6) -0.0011(6)
C11 0.0216(7) 0.0228(6) 0.0266(7) 0.0008(5) 0.0003(6) 0.0002(5)
loop_
_atom_type_symbol
_atom_type_description
_atom_type_scat_dispersion_real
_atom_type_scat_dispersion_imag
_atom_type_scat_source
C C 0.0033 0.0016 'International Tables Vol C Tables 4.2.6.8 and 6.1.1.4'
H H 0.0000 0.0000 'International Tables Vol C Tables 4.2.6.8 and 6.1.1.4'
N N 0.0061 0.0033 'International Tables Vol C Tables 4.2.6.8 and 6.1.1.4'
S S 0.1246 0.1234 'International Tables Vol C Tables 4.2.6.8 and 6.1.1.4'
O O 0.0106 0.0060 'International Tables Vol C Tables 4.2.6.8 and 6.1.1.4'
loop_
_geom_angle_atom_site_label_1
_geom_angle_atom_site_label_2
_geom_angle_atom_site_label_3
_geom_angle
C1 O1 C3 109.21(11)
C1 N1 C5 124.92(11)
C1 N1 C2 112.69(11)
C5 N1 C2 122.11(11)
N1 C1 O1 109.93(12)
N1 C1 S1 128.94(11)
O1 C1 S1 121.13(11)
N1 C2 C4 112.52(12)
N1 C2 C3 100.75(11)
C4 C2 C3 114.77(13)
O1 C3 C2 105.66(12)
N1 C5 C6 111.91(11)
C11 C6 C7 119.07(12)
C11 C6 C5 120.17(11)
C7 C6 C5 120.73(12)
C8 C7 C6 120.39(14)
C9 C8 C7 119.78(14)
C10 C9 C8 120.48(13)
C9 C10 C11 119.87(14)
C6 C11 C10 120.41(13)
loop_
_geom_bond_atom_site_label_1
_geom_bond_atom_site_label_2
_geom_bond_distance
S1 C1 1.6561(15)
O1 C1 1.3563(18)
O1 C3 1.4526(19)
N1 C1 1.3324(18)
N1 C5 1.4618(17)
N1 C2 1.4649(18)
C2 C4 1.512(2)
C2 C3 1.513(2)
C5 C6 1.5168(17)
C6 C11 1.3904(19)
C6 C7 1.3917(19)
C7 C8 1.391(2)
C8 C9 1.384(3)
C9 C10 1.375(2)
C10 C11 1.3932(19)
loop_
_geom_torsion_atom_site_label_1
_geom_torsion_atom_site_label_2
_geom_torsion_atom_site_label_3
_geom_torsion_atom_site_label_4
_geom_torsion
C2 N1 C5 C6 58.97(16)
C1 N1 C5 C6 -114.57(14)
C4 C2 N1 C5 52.00(18)
O1 C1 N1 C2 4.58(15)
C1 N1 C2 C3 -11.03(15)
N1 C2 C3 O1 12.84(16)
C2 C3 O1 C1 -11.38(18)
C3 O1 C1 N1 4.60(17)
