#------------------------------------------------------------------------------
#$Date: 2023-03-04 19:18:00 +0100 (Sat 04 de Mar de 2023) $
#$Revision: 281446 $
#$URL: svn://www.crystallography.net/cod/cif/7/24/61/7246106.cif $
#------------------------------------------------------------------------------
#
# This file is available in the Crystallography Open Database (COD),
# http://www.crystallography.net/
#
# All data on this site have been placed in the public domain by the
# contributors.
#
data_7246106
loop_
_publ_author_name
'Wilson, Cameron J. G.'
'Wood, Peter A.'
'Parsons, Simon'
_publ_section_title
;
 Discerning subtle high-pressure phase transitions in glyphosate
;
_journal_issue                   6
_journal_name_full               CrystEngComm
_journal_page_first              988
_journal_page_last               997
_journal_paper_doi               10.1039/D2CE01616H
_journal_volume                  25
_journal_year                    2023
_chemical_formula_moiety         'C3 H8 N O5 P'
_chemical_formula_sum            'C3 H8 N O5 P'
_chemical_formula_weight         169.07
_chemical_name_common            Glyphosate
_chemical_name_systematic        N-(Phosphonomethyl)glycine
_space_group_crystal_system      monoclinic
_space_group_IT_number           14
_space_group_name_Hall           '-P 2ybc'
_space_group_name_H-M_alt        'P 1 21/c 1'
_atom_sites_solution_hydrogens   geom
_audit_creation_date             2022-03-01
_audit_creation_method
;
Olex2 1.3
(compiled 2020.11.12 svn.r5f609507 for OlexSys, GUI svn.r6408)
;
_audit_update_record
;
2022-11-30 deposited with the CCDC.	2023-01-11 downloaded from the CCDC.
;
_cell_angle_alpha                90
_cell_angle_beta                 111.96(3)
_cell_angle_gamma                90
_cell_formula_units_Z            4
_cell_length_a                   8.496(5)
_cell_length_b                   7.510(2)
_cell_length_c                   9.249(3)
_cell_measurement_reflns_used    947
_cell_measurement_temperature    293.15
_cell_measurement_theta_max      18.493
_cell_measurement_theta_min      2.845
_cell_volume                     547.3(4)
_computing_cell_refinement       'SAINT V8.40B (?, 2016)'
_computing_data_reduction        'SAINT V8.40B (?, 2016)'
_computing_molecular_graphics    'Olex2 1.3 (Dolomanov et al., 2009)'
_computing_publication_material  'Olex2 1.3 (Dolomanov et al., 2009)'
_computing_structure_refinement  'XL  (Sheldrick, 2008)'
_diffrn_ambient_temperature      293.15
_diffrn_measured_fraction_theta_full 0.497
_diffrn_measured_fraction_theta_max 0.490
_diffrn_measurement_device_type  'Bruker AXS D8 Venture'
_diffrn_measurement_method       'φ and ω scans'
_diffrn_radiation_type           AgK\a
_diffrn_radiation_wavelength     0.56086
_diffrn_reflns_av_R_equivalents  0.0587
_diffrn_reflns_av_unetI/netI     0.0393
_diffrn_reflns_Laue_measured_fraction_full 0.497
_diffrn_reflns_Laue_measured_fraction_max 0.490
_diffrn_reflns_limit_h_max       7
_diffrn_reflns_limit_h_min       -7
_diffrn_reflns_limit_k_max       9
_diffrn_reflns_limit_k_min       -9
_diffrn_reflns_limit_l_max       11
_diffrn_reflns_limit_l_min       -11
_diffrn_reflns_number            4692
_diffrn_reflns_point_group_measured_fraction_full 0.497
_diffrn_reflns_point_group_measured_fraction_max 0.490
_diffrn_reflns_theta_full        19.665
_diffrn_reflns_theta_max         20.515
_diffrn_reflns_theta_min         2.845
_diffrn_source_current           0.9
_diffrn_source_power             0.045
_diffrn_source_voltage           50.0
_diffrn_standards_number         0
_exptl_absorpt_coefficient_mu    0.244
_exptl_absorpt_correction_T_max  0.7445
_exptl_absorpt_correction_T_min  0.6087
_exptl_absorpt_correction_type   multi-scan
_exptl_absorpt_process_details
;
SADABS-2016/2 (Bruker,2016/2) was used for absorption correction.
wR2(int) was 0.0697 before and 0.0560 after correction.
The Ratio of minimum to maximum transmission is 0.8176.
The λ/2 correction factor is Not present.
;
_exptl_crystal_colour            'clear colourless'
_exptl_crystal_colour_lustre     clear
_exptl_crystal_colour_primary    colourless
_exptl_crystal_density_diffrn    2.052
_exptl_crystal_description       plate
_exptl_crystal_F_000             352
_exptl_crystal_preparation       'Powder sample received from Sigma-Aldrich'
_exptl_crystal_recrystallization_method
'The material was recrystallised from water by slow evaporation'
_exptl_crystal_size_max          0.15
_exptl_crystal_size_mid          0.135
_exptl_crystal_size_min          0.05
_refine_diff_density_max         0.222
_refine_diff_density_min         -0.279
_refine_diff_density_rms         0.061
_refine_ls_extinction_method     none
_refine_ls_goodness_of_fit_ref   1.139
_refine_ls_hydrogen_treatment    constr
_refine_ls_matrix_type           full
_refine_ls_number_parameters     93
_refine_ls_number_reflns         551
_refine_ls_number_restraints     82
_refine_ls_restrained_S_all      1.090
_refine_ls_R_factor_all          0.0595
_refine_ls_R_factor_gt           0.0377
_refine_ls_shift/su_max          0.000
_refine_ls_shift/su_mean         0.000
_refine_ls_structure_factor_coef Fsqd
_refine_ls_weighting_details
'w=1/[σ²(Fo²)+(0.0454P)²+0.5413P] where P=(Fo²+2Fc²)/3'
_refine_ls_weighting_scheme      calc
_refine_ls_wR_factor_gt          0.0849
_refine_ls_wR_factor_ref         0.0985
_reflns_Friedel_coverage         0.000
_reflns_number_gt                426
_reflns_number_total             551
_reflns_threshold_expression     'I > 2σ(I)'
_cod_data_source_file            d2ce01616h2.cif
_cod_data_source_block           C3H8NO5P_Ag_5p176GPa
_cod_depositor_comments
'Adding full bibliography for 7246103--7246118.cif.'
_cod_database_code               7246106
_shelx_shelxl_version_number     2019/1
_shelx_space_group_comment
;
The symmetry employed for this shelxl refinement is uniquely defined
by the following loop, which should always be used as a source of
symmetry information in preference to the above space-group names.
They are only intended as comments.
;
_shelx_estimated_absorpt_t_max   0.988
_shelx_estimated_absorpt_t_min   0.964
_olex2_refinement_description
;
1. Fixed Uiso
 At 1.2 times of:
  All C(H,H) groups, All N(H,H) groups
 At 1.5 times of:
  All O(H) groups
2. Restrained distances
 O1-C1
 1.31 with sigma of 0.01
 O2-C1
 1.204 with sigma of 0.01
 O2-O1
 2.25 with sigma of 0.03
 C2-C1
 1.512 with sigma of 0.01
 C2-O1
 2.305 with sigma of 0.03
 C2-O2
 2.399 with sigma of 0.03
 N3-C2
 1.481 with sigma of 0.01
 N3-C1
 2.481 with sigma of 0.03
 C4-N3
 1.488 with sigma of 0.01
 C4-C2
 2.486 with sigma of 0.03
 P5-C4
 1.815 with sigma of 0.01
 P5-N3
 2.742 with sigma of 0.03
 O3-P5
 1.574 with sigma of 0.01
 O3-C4
 2.676 with sigma of 0.03
 O4-P5
 1.498 with sigma of 0.01
 O4-C4
 2.659 with sigma of 0.03
 O4-O3
 2.544 with sigma of 0.03
 O5-P5
 1.5 with sigma of 0.01
 O5-C4
 2.704 with sigma of 0.03
 O5-O3
 2.456 with sigma of 0.03
 O5-O4
 2.58 with sigma of 0.03
3. Rigid body (RIGU) restrains
 All non-hydrogen atoms
 with sigma for 1-2 distances of 0.005 and sigma for 1-3 distances of 0.005
4.a Secondary CH2 refined with riding coordinates:
 C2(H2A,H2B), N3(H3A,H3B), C4(H4A,H4B)
4.b Idealised tetrahedral OH refined as rotating group:
 O1(H1), O3(H3)
;
_shelx_res_file
;
TITL ag_cw21016_0m in P2(1)/c
    ag_cw21016_0m.res
    created by SHELXL-2019/1 at 12:06:04 on 01-Mar-2022
CELL 0.56086 8.4956 7.5096 9.2492 90 111.9613 90
ZERR 4 0.0048 0.0021 0.0029 0 0.0309 0
LATT 1
SYMM -X,0.5+Y,0.5-Z
SFAC C H N O P
DISP C 0.0013 0.0009 7.4
DISP H 0 0 0.7
DISP N 0.003 0.002 11.7
DISP O 0.0058 0.0036 18.2
DISP P 0.0671 0.0586 203.6
UNIT 12 32 4 20 4
DFIX 1.31 0.01 O1 C1
DFIX 1.204 0.01 O2 C1
DFIX 2.25 0.03 O2 O1
DFIX 1.512 0.01 C2 C1
DFIX 2.305 0.03 C2 O1
DFIX 2.399 0.03 C2 O2
DFIX 1.481 0.01 N3 C2
DFIX 2.481 0.03 N3 C1
DFIX 1.488 0.01 C4 N3
DFIX 2.486 0.03 C4 C2
DFIX 1.815 0.01 P5 C4
DFIX 2.742 0.03 P5 N3
DFIX 1.574 0.01 O3 P5
DFIX 2.676 0.03 O3 C4
DFIX 1.498 0.01 O4 P5
DFIX 2.659 0.03 O4 C4
DFIX 2.544 0.03 O4 O3
DFIX 1.5 0.01 O5 P5
DFIX 2.704 0.03 O5 C4
DFIX 2.456 0.03 O5 O3
DFIX 2.58 0.03 O5 O4
RIGU 0.005 0.005

L.S. 20
PLAN  5
SIZE 0.05 0.135 0.15
TEMP 20
CONF
MORE -1
BOND $H
fmap 2
acta
OMIT -6 7 3
OMIT -5 7 1
OMIT -7 5 6
OMIT 1 4 6
OMIT -1 3 10
OMIT -5 8 1
OMIT 3 5 2
OMIT 2 6 5
OMIT -6 4 5
OMIT -4 0 4
REM <olex2.extras>
REM <HklSrc "%.\\ag_cw21016_0m.hkl">
REM </olex2.extras>

WGHT    0.045400    0.541300
FVAR       1.38100
C1    1    0.008274    0.617901    0.340003    11.00000    0.02552    0.01526 =
         0.01957    0.00435    0.01264    0.00367
O1    4   -0.155275    0.600932    0.269283    11.00000    0.02932    0.04264 =
         0.02954   -0.00507    0.01759   -0.00160
AFIX 147
H1    2   -0.201029    0.611645    0.332718    11.00000   -1.50000
AFIX   0
O2    4    0.081127    0.678419    0.468047    11.00000    0.04043    0.03606 =
         0.02228   -0.00530    0.01395    0.00568
C2    1    0.093548    0.555766    0.233862    11.00000    0.01779    0.02315 =
         0.01694   -0.01021    0.00165   -0.01312
AFIX  23
H2A   2    0.066159    0.431712    0.206864    11.00000   -1.20000
H2B   2    0.053880    0.625204    0.138516    11.00000   -1.20000
AFIX   0
N3    3    0.276809    0.576616    0.312821    11.00000    0.01294    0.01699 =
         0.01263   -0.00249    0.00348   -0.00018
AFIX  23
H3A   2    0.328524    0.502214    0.270011    11.00000   -1.20000
H3B   2    0.305973    0.545650    0.412336    11.00000   -1.20000
AFIX   0
C4    1    0.338174    0.758838    0.305825    11.00000    0.02106    0.01576 =
         0.01831   -0.00131    0.00593   -0.00161
AFIX  23
H4A   2    0.270882    0.843574    0.337291    11.00000   -1.20000
H4B   2    0.326251    0.786465    0.199787    11.00000   -1.20000
AFIX   0
P5    5    0.557828    0.776284    0.433469    11.00000    0.03241    0.01417 =
         0.01918    0.00097    0.01762    0.00070
O3    4    0.544986    0.763046    0.597902    11.00000    0.04377    0.02059 =
         0.01990    0.00097    0.02042    0.00170
AFIX 147
H3    2    0.499522    0.853112    0.614104    11.00000   -1.50000
AFIX   0
O4    4    0.624646    0.952383    0.407160    11.00000    0.02304    0.01724 =
         0.02102    0.00133    0.01287   -0.00030
O5    4    0.656941    0.615289    0.420670    11.00000    0.02739    0.02096 =
         0.02449    0.00387    0.01705    0.00544
HKLF 4




REM  ag_cw21016_0m in P2(1)/c
REM wR2 = 0.0985, GooF = S = 1.139, Restrained GooF = 1.090 for all data
REM R1 = 0.0377 for 426 Fo > 4sig(Fo) and 0.0595 for all 551 data
REM 93 parameters refined using 82 restraints

END

WGHT      0.0454      0.5805

REM Highest difference peak  0.222,  deepest hole -0.279,  1-sigma level  0.061
Q1    1   0.7251  0.7088  0.4766  11.00000  0.05    0.22
Q2    1  -0.0149  0.5414  0.1113  11.00000  0.05    0.22
Q3    1  -0.1032  0.7268  0.1230  11.00000  0.05    0.21
Q4    1   0.5795  0.8550  0.4032  11.00000  0.05    0.21
Q5    1   0.6464  0.9725  0.4776  11.00000  0.05    0.21
;
_shelx_res_checksum              71499
_olex2_exptl_crystal_mounting_method 'Merrill Bassett diamond anvil cell'
_olex2_submission_original_sample_id ag_cw21016_0m
_olex2_submission_special_instructions 'No special instructions were received'
loop_
_space_group_symop_operation_xyz
'x, y, z'
'-x, y+1/2, -z+1/2'
'-x, -y, -z'
'x, -y-1/2, z-1/2'
loop_
_atom_site_label
_atom_site_type_symbol
_atom_site_fract_x
_atom_site_fract_y
_atom_site_fract_z
_atom_site_U_iso_or_equiv
_atom_site_adp_type
_atom_site_occupancy
_atom_site_site_symmetry_order
_atom_site_calc_flag
_atom_site_refinement_flags_posn
_atom_site_refinement_flags_adp
_atom_site_refinement_flags_occupancy
_atom_site_disorder_assembly
_atom_site_disorder_group
C1 C 0.0083(11) 0.6179(6) 0.3400(7) 0.019(3) Uani 1 1 d D . . . .
O1 O -0.1553(10) 0.6009(5) 0.2693(6) 0.032(3) Uani 1 1 d D . . . .
H1 H -0.201029 0.611645 0.332718 0.048 Uiso 1 1 calc R U . . .
O2 O 0.0811(7) 0.6784(4) 0.4680(4) 0.032(2) Uani 1 1 d D . . . .
C2 C 0.0935(11) 0.5558(6) 0.2339(7) 0.021(3) Uani 1 1 d D . . . .
H2A H 0.066159 0.431712 0.206864 0.025 Uiso 1 1 calc R U . . .
H2B H 0.053880 0.625204 0.138516 0.025 Uiso 1 1 calc R U . . .
N3 N 0.2768(9) 0.5766(4) 0.3128(5) 0.015(3) Uani 1 1 d D . . . .
H3A H 0.328524 0.502214 0.270011 0.017 Uiso 1 1 calc R U . . .
H3B H 0.305973 0.545650 0.412336 0.017 Uiso 1 1 calc R U . . .
C4 C 0.3382(9) 0.7588(4) 0.3058(6) 0.019(2) Uani 1 1 d D . . . .
H4A H 0.270882 0.843574 0.337291 0.023 Uiso 1 1 calc R U . . .
H4B H 0.326251 0.786465 0.199787 0.023 Uiso 1 1 calc R U . . .
P5 P 0.5578(3) 0.77628(12) 0.43347(17) 0.0196(11) Uani 1 1 d D . . . .
O3 O 0.5450(7) 0.7630(3) 0.5979(4) 0.026(2) Uani 1 1 d D . . . .
H3 H 0.499522 0.853112 0.614104 0.038 Uiso 1 1 calc R U . . .
O4 O 0.6246(7) 0.9524(3) 0.4072(4) 0.019(2) Uani 1 1 d D . . . .
O5 O 0.6569(7) 0.6153(3) 0.4207(4) 0.022(2) Uani 1 1 d D . . . .
loop_
_atom_site_aniso_label
_atom_site_aniso_U_11
_atom_site_aniso_U_22
_atom_site_aniso_U_33
_atom_site_aniso_U_23
_atom_site_aniso_U_13
_atom_site_aniso_U_12
C1 0.026(9) 0.0153(18) 0.020(4) 0.0043(18) 0.013(5) 0.004(3)
O1 0.029(9) 0.0426(18) 0.030(3) -0.0051(19) 0.018(5) -0.002(3)
O2 0.040(8) 0.0361(17) 0.022(2) -0.0053(13) 0.014(4) 0.006(2)
C2 0.018(9) 0.0232(19) 0.017(4) -0.0102(19) 0.002(5) -0.013(3)
N3 0.013(9) 0.0170(16) 0.013(3) -0.0025(14) 0.003(5) 0.000(2)
C4 0.021(8) 0.0158(18) 0.018(3) -0.0013(16) 0.006(5) -0.002(2)
P5 0.032(3) 0.0142(5) 0.0192(10) 0.0010(4) 0.0176(18) 0.0007(7)
O3 0.044(8) 0.0206(14) 0.020(2) 0.0010(11) 0.020(4) 0.0017(18)
O4 0.023(7) 0.0172(13) 0.021(2) 0.0013(11) 0.013(4) -0.0003(17)
O5 0.027(7) 0.0210(14) 0.024(2) 0.0039(12) 0.017(4) 0.0054(18)
loop_
_atom_type_symbol
_atom_type_description
_atom_type_scat_dispersion_real
_atom_type_scat_dispersion_imag
_atom_type_scat_source
C C 0.0013 0.0009 'International Tables Vol C Tables 4.2.6.8 and 6.1.1.4'
H H 0.0000 0.0000 'International Tables Vol C Tables 4.2.6.8 and 6.1.1.4'
N N 0.0030 0.0020 'International Tables Vol C Tables 4.2.6.8 and 6.1.1.4'
O O 0.0058 0.0036 'International Tables Vol C Tables 4.2.6.8 and 6.1.1.4'
P P 0.0671 0.0586 'International Tables Vol C Tables 4.2.6.8 and 6.1.1.4'
loop_
_geom_angle_atom_site_label_1
_geom_angle_atom_site_label_2
_geom_angle_atom_site_label_3
_geom_angle
_geom_angle_site_symmetry_1
_geom_angle_site_symmetry_3
_geom_angle_publ_flag
O1 C1 C2 109.1(5) . . ?
O2 C1 O1 126.3(6) . . ?
O2 C1 C2 124.6(7) . . ?
C1 O1 H1 109.5 . . ?
C1 C2 H2A 109.9 . . ?
C1 C2 H2B 109.9 . . ?
H2A C2 H2B 108.3 . . ?
N3 C2 C1 109.0(5) . . ?
N3 C2 H2A 109.9 . . ?
N3 C2 H2B 109.9 . . ?
C2 N3 H3A 108.8 . . ?
C2 N3 H3B 108.8 . . ?
C2 N3 C4 114.0(5) . . ?
H3A N3 H3B 107.7 . . ?
C4 N3 H3A 108.8 . . ?
C4 N3 H3B 108.8 . . ?
N3 C4 H4A 109.8 . . ?
N3 C4 H4B 109.8 . . ?
N3 C4 P5 109.6(4) . . ?
H4A C4 H4B 108.2 . . ?
P5 C4 H4A 109.8 . . ?
P5 C4 H4B 109.8 . . ?
O3 P5 C4 101.6(3) . . ?
O4 P5 C4 108.7(2) . . ?
O4 P5 O3 112.48(17) . . ?
O4 P5 O5 116.2(2) . . ?
O5 P5 C4 111.3(2) . . ?
O5 P5 O3 105.64(18) . . ?
P5 O3 H3 109.5 . . ?
loop_
_geom_bond_atom_site_label_1
_geom_bond_atom_site_label_2
_geom_bond_distance
_geom_bond_site_symmetry_2
_geom_bond_publ_flag
C1 O1 1.302(8) . ?
C1 O2 1.202(6) . ?
C1 C2 1.496(6) . ?
O1 H1 0.8200 . ?
C2 H2A 0.9700 . ?
C2 H2B 0.9700 . ?
C2 N3 1.460(8) . ?
N3 H3A 0.8900 . ?
N3 H3B 0.8900 . ?
N3 C4 1.474(5) . ?
C4 H4A 0.9700 . ?
C4 H4B 0.9700 . ?
C4 P5 1.802(7) . ?
P5 O3 1.568(2) . ?
P5 O4 1.495(3) . ?
P5 O5 1.503(3) . ?
O3 H3 0.8200 . ?
loop_
_geom_torsion_atom_site_label_1
_geom_torsion_atom_site_label_2
_geom_torsion_atom_site_label_3
_geom_torsion_atom_site_label_4
_geom_torsion
_geom_torsion_site_symmetry_1
_geom_torsion_site_symmetry_2
_geom_torsion_site_symmetry_3
_geom_torsion_site_symmetry_4
_geom_torsion_publ_flag
C1 C2 N3 C4 -81.5(5) . . . . ?
O1 C1 C2 N3 179.4(4) . . . . ?
O2 C1 C2 N3 1.5(7) . . . . ?
C2 N3 C4 P5 170.4(3) . . . . ?
N3 C4 P5 O3 -69.5(3) . . . . ?
N3 C4 P5 O4 171.7(2) . . . . ?
N3 C4 P5 O5 42.5(3) . . . . ?
