#------------------------------------------------------------------------------
#$Date: 2023-03-04 19:18:00 +0100 (Sat 04 de Mar de 2023) $
#$Revision: 281446 $
#$URL: svn://www.crystallography.net/cod/cif/7/24/61/7246108.cif $
#------------------------------------------------------------------------------
#
# This file is available in the Crystallography Open Database (COD),
# http://www.crystallography.net/
#
# All data on this site have been placed in the public domain by the
# contributors.
#
data_7246108
loop_
_publ_author_name
'Wilson, Cameron J. G.'
'Wood, Peter A.'
'Parsons, Simon'
_publ_section_title
;
 Discerning subtle high-pressure phase transitions in glyphosate
;
_journal_issue                   6
_journal_name_full               CrystEngComm
_journal_page_first              988
_journal_page_last               997
_journal_paper_doi               10.1039/D2CE01616H
_journal_volume                  25
_journal_year                    2023
_chemical_formula_moiety         'C3 H8 N O5 P'
_chemical_formula_sum            'C3 H8 N O5 P'
_chemical_formula_weight         169.07
_chemical_name_common            Glyphosate
_chemical_name_systematic        N-(Phosphonomethyl)glycine
_space_group_crystal_system      monoclinic
_space_group_IT_number           14
_space_group_name_Hall           '-P 2ybc'
_space_group_name_H-M_alt        'P 1 21/c 1'
_atom_sites_solution_hydrogens   geom
_atom_sites_solution_primary     iterative
_audit_creation_date             2022-03-01
_audit_creation_method
;
Olex2 1.3
(compiled 2020.11.12 svn.r5f609507 for OlexSys, GUI svn.r6408)
;
_audit_update_record
;
2022-11-30 deposited with the CCDC.	2023-01-11 downloaded from the CCDC.
;
_cell_angle_alpha                90
_cell_angle_beta                 107.244(11)
_cell_angle_gamma                90
_cell_formula_units_Z            4
_cell_length_a                   8.6567(16)
_cell_length_b                   7.8828(7)
_cell_length_c                   9.7114(9)
_cell_measurement_reflns_used    936
_cell_measurement_temperature    293.15
_cell_measurement_theta_max      17.937
_cell_measurement_theta_min      2.676
_cell_volume                     632.91(15)
_computing_cell_refinement       'SAINT V8.40B (?, 2016)'
_computing_data_reduction        'SAINT V8.40B (?, 2016)'
_computing_molecular_graphics    'Olex2 1.3 (Dolomanov et al., 2009)'
_computing_publication_material  'Olex2 1.3 (Dolomanov et al., 2009)'
_computing_structure_refinement  'XL  (Sheldrick, 2008)'
_computing_structure_solution    'olex2.solve 1.3 (Bourhis et al., 2015)'
_diffrn_ambient_temperature      293.15
_diffrn_measured_fraction_theta_full 0.400
_diffrn_measured_fraction_theta_max 0.390
_diffrn_measurement_device_type  'Bruker AXS D8 Venture'
_diffrn_measurement_method       'φ and ω scans'
_diffrn_radiation_type           AgK\a
_diffrn_radiation_wavelength     0.56086
_diffrn_reflns_av_R_equivalents  0.0783
_diffrn_reflns_av_unetI/netI     0.0432
_diffrn_reflns_Laue_measured_fraction_full 0.400
_diffrn_reflns_Laue_measured_fraction_max 0.390
_diffrn_reflns_limit_h_max       6
_diffrn_reflns_limit_h_min       -6
_diffrn_reflns_limit_k_max       9
_diffrn_reflns_limit_k_min       -9
_diffrn_reflns_limit_l_max       12
_diffrn_reflns_limit_l_min       -12
_diffrn_reflns_number            5611
_diffrn_reflns_point_group_measured_fraction_full 0.400
_diffrn_reflns_point_group_measured_fraction_max 0.390
_diffrn_reflns_theta_full        19.665
_diffrn_reflns_theta_max         20.536
_diffrn_reflns_theta_min         2.676
_diffrn_source_current           0.9
_diffrn_source_power             0.045
_diffrn_source_voltage           50.0
_diffrn_standards_number         0
_exptl_absorpt_coefficient_mu    0.211
_exptl_absorpt_correction_T_max  0.7445
_exptl_absorpt_correction_T_min  0.5216
_exptl_absorpt_correction_type   multi-scan
_exptl_absorpt_process_details
;
SADABS-2016/2 (Bruker,2016/2) was used for absorption correction.
wR2(int) was 0.0912 before and 0.0666 after correction.
The Ratio of minimum to maximum transmission is 0.7006.
The λ/2 correction factor is Not present.
;
_exptl_crystal_colour            'clear colourless'
_exptl_crystal_colour_lustre     clear
_exptl_crystal_colour_primary    colourless
_exptl_crystal_density_diffrn    1.774
_exptl_crystal_description       plate
_exptl_crystal_F_000             352
_exptl_crystal_preparation       'Powder sample received from Sigma-Aldrich'
_exptl_crystal_recrystallization_method
'The material was recrystallised from water by slow evaporation'
_exptl_crystal_size_max          0.15
_exptl_crystal_size_mid          0.135
_exptl_crystal_size_min          0.05
_refine_diff_density_max         0.214
_refine_diff_density_min         -0.238
_refine_diff_density_rms         0.052
_refine_ls_extinction_method     none
_refine_ls_goodness_of_fit_ref   1.097
_refine_ls_hydrogen_treatment    constr
_refine_ls_matrix_type           full
_refine_ls_number_parameters     93
_refine_ls_number_reflns         506
_refine_ls_number_restraints     82
_refine_ls_restrained_S_all      1.031
_refine_ls_R_factor_all          0.0599
_refine_ls_R_factor_gt           0.0352
_refine_ls_shift/su_max          0.000
_refine_ls_shift/su_mean         0.000
_refine_ls_structure_factor_coef Fsqd
_refine_ls_weighting_details
'w=1/[σ²(Fo²)+(0.0353P)²+0.8101P] where P=(Fo²+2Fc²)/3'
_refine_ls_weighting_scheme      calc
_refine_ls_wR_factor_gt          0.0783
_refine_ls_wR_factor_ref         0.0937
_reflns_Friedel_coverage         0.000
_reflns_number_gt                375
_reflns_number_total             506
_reflns_threshold_expression     'I > 2σ(I)'
_cod_data_source_file            d2ce01616h2.cif
_cod_data_source_block           C3H8NO5P_Ag_0p645GPa
_cod_depositor_comments
'Adding full bibliography for 7246103--7246118.cif.'
_cod_database_code               7246108
_shelx_shelxl_version_number     2019/1
_shelx_space_group_comment
;
The symmetry employed for this shelxl refinement is uniquely defined
by the following loop, which should always be used as a source of
symmetry information in preference to the above space-group names.
They are only intended as comments.
;
_shelx_estimated_absorpt_t_max   0.990
_shelx_estimated_absorpt_t_min   0.969
_olex2_refinement_description
;
1. Fixed Uiso
 At 1.2 times of:
  All C(H,H) groups, All N(H,H) groups
 At 1.5 times of:
  All O(H) groups
2. Restrained distances
 O1-C1
 1.31 with sigma of 0.01
 O2-C1
 1.204 with sigma of 0.01
 O2-O1
 2.25 with sigma of 0.03
 C2-C1
 1.512 with sigma of 0.01
 C2-O1
 2.305 with sigma of 0.03
 C2-O2
 2.399 with sigma of 0.03
 N3-C2
 1.481 with sigma of 0.01
 N3-C1
 2.481 with sigma of 0.03
 C4-N3
 1.488 with sigma of 0.01
 C4-C2
 2.486 with sigma of 0.03
 P5-C4
 1.815 with sigma of 0.01
 P5-N3
 2.742 with sigma of 0.03
 O3-P5
 1.574 with sigma of 0.01
 O3-C4
 2.676 with sigma of 0.03
 O4-P5
 1.498 with sigma of 0.01
 O4-C4
 2.659 with sigma of 0.03
 O4-O3
 2.544 with sigma of 0.03
 O5-P5
 1.5 with sigma of 0.01
 O5-C4
 2.704 with sigma of 0.03
 O5-O3
 2.456 with sigma of 0.03
 O5-O4
 2.58 with sigma of 0.03
3. Rigid body (RIGU) restrains
 All non-hydrogen atoms
 with sigma for 1-2 distances of 0.005 and sigma for 1-3 distances of 0.005
4.a Secondary CH2 refined with riding coordinates:
 C2(H2A,H2B), N3(H3A,H3B), C4(H4A,H4B)
4.b Idealised tetrahedral OH refined as rotating group:
 O1(H1), O3(H3)
;
_shelx_res_file
;
TITL ag_cw21007_0m in P2(1)/c
    ag_cw21007_0m.res
    created by SHELXL-2019/1 at 09:30:56 on 01-Mar-2022
CELL 0.56086 8.6567 7.8828 9.7114 90 107.244 90
ZERR 4 0.0016 0.0007 0.0009 0 0.0109 0
LATT 1
SYMM -X,0.5+Y,0.5-Z
SFAC C H N O P
DISP C 0.0013 0.0009 7.4
DISP H 0 0 0.7
DISP N 0.003 0.002 11.7
DISP O 0.0058 0.0036 18.2
DISP P 0.0671 0.0586 203.6
UNIT 12 32 4 20 4
DFIX 1.31 0.01 O1 C1
DFIX 1.204 0.01 O2 C1
DFIX 2.25 0.03 O2 O1
DFIX 1.512 0.01 C2 C1
DFIX 2.305 0.03 C2 O1
DFIX 2.399 0.03 C2 O2
DFIX 1.481 0.01 N3 C2
DFIX 2.481 0.03 N3 C1
DFIX 1.488 0.01 C4 N3
DFIX 2.486 0.03 C4 C2
DFIX 1.815 0.01 P5 C4
DFIX 2.742 0.03 P5 N3
DFIX 1.574 0.01 O3 P5
DFIX 2.676 0.03 O3 C4
DFIX 1.498 0.01 O4 P5
DFIX 2.659 0.03 O4 C4
DFIX 2.544 0.03 O4 O3
DFIX 1.5 0.01 O5 P5
DFIX 2.704 0.03 O5 C4
DFIX 2.456 0.03 O5 O3
DFIX 2.58 0.03 O5 O4
RIGU 0.005 0.005

L.S. 20 0 0
PLAN  5
SIZE 0.05 0.135 0.15
TEMP 20
CONF
BOND
list 4
MORE -1
BOND $H
fmap 2 53
ACTA
OMIT -6 2 11
OMIT 1 1 6
OMIT 1 0 6
OMIT 1 2 6
OMIT 0 2 6
OMIT -2 9 2
REM <olex2.extras>
REM <HklSrc "%.\\ag_cw21007_0m.hkl">
REM </olex2.extras>

WGHT    0.035300    0.810100
FVAR       0.32383
C1    1    0.012727    0.610882    0.349016    11.00000    0.03977    0.02141 =
         0.03010    0.00257    0.01395    0.00308
O1    4   -0.137873    0.587602    0.280740    11.00000    0.04116    0.04453 =
         0.03603   -0.00792    0.01738   -0.00132
AFIX 147
H1    2   -0.193426    0.617800    0.331574    11.00000   -1.50000
AFIX   0
O2    4    0.067384    0.678941    0.464887    11.00000    0.02477    0.04054 =
         0.02938   -0.01079    0.00691   -0.00137
C2    1    0.115670    0.541770    0.261868    11.00000    0.04762    0.03140 =
         0.02980   -0.00989    0.01309   -0.00097
AFIX  23
H2A   2    0.095339    0.421134    0.247091    11.00000   -1.20000
H2B   2    0.085053    0.596046    0.168009    11.00000   -1.20000
AFIX   0
N3    3    0.289397    0.568979    0.331878    11.00000    0.05983    0.01813 =
         0.03492   -0.00255    0.02805    0.00087
AFIX  23
H3A   2    0.345167    0.499495    0.292176    11.00000   -1.20000
H3B   2    0.312152    0.541534    0.424650    11.00000   -1.20000
AFIX   0
C4    1    0.343743    0.745471    0.320827    11.00000    0.04824    0.02188 =
         0.02113   -0.00045    0.01092    0.00262
AFIX  23
H4A   2    0.275384    0.823115    0.353927    11.00000   -1.20000
H4B   2    0.332279    0.771434    0.220652    11.00000   -1.20000
AFIX   0
P5    5    0.551411    0.776232    0.426378    11.00000    0.05693    0.01792 =
         0.02521    0.00156    0.02459    0.00117
O3    4    0.546502    0.777932    0.586823    11.00000    0.04683    0.02346 =
         0.02725    0.00180    0.02159    0.00289
AFIX 147
H3    2    0.504958    0.866511    0.602474    11.00000   -1.50000
AFIX   0
O4    4    0.605385    0.944168    0.384028    11.00000    0.06933    0.01899 =
         0.03510    0.00364    0.03369   -0.00001
O5    4    0.646996    0.621879    0.413031    11.00000    0.03828    0.02322 =
         0.02911    0.00259    0.01467    0.00244
HKLF 4




REM  ag_cw21007_0m in P2(1)/c
REM wR2 = 0.0937, GooF = S = 1.097, Restrained GooF = 1.031 for all data
REM R1 = 0.0352 for 375 Fo > 4sig(Fo) and 0.0599 for all 506 data
REM 93 parameters refined using 82 restraints

END

WGHT      0.0353      0.8100

REM Highest difference peak  0.214,  deepest hole -0.238,  1-sigma level  0.052
Q1    1   0.0710  0.2822  0.1418  11.00000  0.05    0.21
Q2    1   0.5140  1.0166  0.3253  11.00000  0.05    0.19
Q3    1   0.1346  0.6598  0.1034  11.00000  0.05    0.19
Q4    1   0.0059  0.7837  0.5420  11.00000  0.05    0.18
Q5    1   0.2176  0.8585  0.3710  11.00000  0.05    0.18
;
_shelx_res_checksum              14032
_olex2_exptl_crystal_mounting_method 'Merrill Bassett diamond anvil cell'
_olex2_submission_original_sample_id ag_cw21007_0m
_olex2_submission_special_instructions 'No special instructions were received'
loop_
_space_group_symop_operation_xyz
'x, y, z'
'-x, y+1/2, -z+1/2'
'-x, -y, -z'
'x, -y-1/2, z-1/2'
loop_
_atom_site_label
_atom_site_type_symbol
_atom_site_fract_x
_atom_site_fract_y
_atom_site_fract_z
_atom_site_U_iso_or_equiv
_atom_site_adp_type
_atom_site_occupancy
_atom_site_site_symmetry_order
_atom_site_calc_flag
_atom_site_refinement_flags_posn
_atom_site_refinement_flags_adp
_atom_site_refinement_flags_occupancy
_atom_site_disorder_assembly
_atom_site_disorder_group
C1 C 0.0127(11) 0.6109(7) 0.3490(6) 0.030(4) Uani 1 1 d D . . . .
O1 O -0.1379(11) 0.5876(5) 0.2807(5) 0.039(4) Uani 1 1 d D . . . .
H1 H -0.193426 0.617800 0.331574 0.059 Uiso 1 1 calc R U . . .
O2 O 0.0674(10) 0.6789(4) 0.4649(4) 0.032(4) Uani 1 1 d D . . . .
C2 C 0.1157(12) 0.5418(7) 0.2619(7) 0.036(4) Uani 1 1 d D . . . .
H2A H 0.095339 0.421134 0.247091 0.043 Uiso 1 1 calc R U . . .
H2B H 0.085053 0.596046 0.168009 0.043 Uiso 1 1 calc R U . . .
N3 N 0.2894(12) 0.5690(4) 0.3319(6) 0.035(4) Uani 1 1 d D . . . .
H3A H 0.345167 0.499495 0.292176 0.042 Uiso 1 1 calc R U . . .
H3B H 0.312152 0.541534 0.424650 0.042 Uiso 1 1 calc R U . . .
C4 C 0.3437(10) 0.7455(5) 0.3208(5) 0.030(3) Uani 1 1 d D . . . .
H4A H 0.275384 0.823115 0.353927 0.036 Uiso 1 1 calc R U . . .
H4B H 0.332279 0.771434 0.220652 0.036 Uiso 1 1 calc R U . . .
P5 P 0.5514(4) 0.77623(13) 0.42638(17) 0.0307(18) Uani 1 1 d D . . . .
O3 O 0.5465(9) 0.7779(3) 0.5868(4) 0.030(4) Uani 1 1 d D . . . .
H3 H 0.504958 0.866511 0.602474 0.045 Uiso 1 1 calc R U . . .
O4 O 0.6054(9) 0.9442(3) 0.3840(4) 0.037(4) Uani 1 1 d D . . . .
O5 O 0.6470(9) 0.6219(3) 0.4130(4) 0.029(4) Uani 1 1 d D . . . .
loop_
_atom_site_aniso_label
_atom_site_aniso_U_11
_atom_site_aniso_U_22
_atom_site_aniso_U_33
_atom_site_aniso_U_23
_atom_site_aniso_U_13
_atom_site_aniso_U_12
C1 0.040(11) 0.021(2) 0.030(4) 0.003(2) 0.014(5) 0.003(4)
O1 0.041(11) 0.045(2) 0.036(3) -0.008(2) 0.017(5) -0.001(4)
O2 0.025(13) 0.0405(18) 0.029(2) -0.0108(14) 0.007(5) -0.001(3)
C2 0.048(12) 0.031(3) 0.030(4) -0.010(2) 0.013(6) -0.001(5)
N3 0.060(12) 0.0181(18) 0.035(3) -0.0026(17) 0.028(6) 0.001(4)
C4 0.048(11) 0.022(2) 0.021(3) -0.0004(18) 0.011(5) 0.003(3)
P5 0.057(6) 0.0179(6) 0.0252(9) 0.0016(5) 0.025(2) 0.0012(10)
O3 0.047(13) 0.0235(14) 0.027(2) 0.0018(12) 0.022(5) 0.003(3)
O4 0.069(12) 0.0190(14) 0.035(2) 0.0036(12) 0.034(4) 0.000(2)
O5 0.038(11) 0.0232(15) 0.029(2) 0.0026(13) 0.015(4) 0.002(3)
loop_
_atom_type_symbol
_atom_type_description
_atom_type_scat_dispersion_real
_atom_type_scat_dispersion_imag
_atom_type_scat_source
C C 0.0013 0.0009 'International Tables Vol C Tables 4.2.6.8 and 6.1.1.4'
H H 0.0000 0.0000 'International Tables Vol C Tables 4.2.6.8 and 6.1.1.4'
N N 0.0030 0.0020 'International Tables Vol C Tables 4.2.6.8 and 6.1.1.4'
O O 0.0058 0.0036 'International Tables Vol C Tables 4.2.6.8 and 6.1.1.4'
P P 0.0671 0.0586 'International Tables Vol C Tables 4.2.6.8 and 6.1.1.4'
loop_
_geom_angle_atom_site_label_1
_geom_angle_atom_site_label_2
_geom_angle_atom_site_label_3
_geom_angle
_geom_angle_site_symmetry_1
_geom_angle_site_symmetry_3
_geom_angle_publ_flag
O1 C1 C2 109.7(6) . . ?
O2 C1 O1 126.8(7) . . ?
O2 C1 C2 123.5(8) . . ?
C1 O1 H1 109.5 . . ?
C1 C2 H2A 109.1 . . ?
C1 C2 H2B 109.1 . . ?
H2A C2 H2B 107.8 . . ?
N3 C2 C1 112.5(6) . . ?
N3 C2 H2A 109.1 . . ?
N3 C2 H2B 109.1 . . ?
C2 N3 H3A 108.8 . . ?
C2 N3 H3B 108.8 . . ?
C2 N3 C4 114.0(6) . . ?
H3A N3 H3B 107.7 . . ?
C4 N3 H3A 108.8 . . ?
C4 N3 H3B 108.8 . . ?
N3 C4 H4A 109.3 . . ?
N3 C4 H4B 109.3 . . ?
N3 C4 P5 111.7(5) . . ?
H4A C4 H4B 107.9 . . ?
P5 C4 H4A 109.3 . . ?
P5 C4 H4B 109.3 . . ?
O3 P5 C4 104.4(4) . . ?
O4 P5 C4 107.6(3) . . ?
O4 P5 O3 111.48(19) . . ?
O5 P5 C4 109.0(3) . . ?
O5 P5 O3 105.7(2) . . ?
O5 P5 O4 117.9(3) . . ?
P5 O3 H3 109.5 . . ?
loop_
_geom_bond_atom_site_label_1
_geom_bond_atom_site_label_2
_geom_bond_distance
_geom_bond_site_symmetry_2
_geom_bond_publ_flag
C1 O1 1.289(9) . ?
C1 O2 1.209(7) . ?
C1 C2 1.501(8) . ?
O1 H1 0.8200 . ?
C2 H2A 0.9700 . ?
C2 H2B 0.9700 . ?
C2 N3 1.471(9) . ?
N3 H3A 0.8900 . ?
N3 H3B 0.8900 . ?
N3 C4 1.483(5) . ?
C4 H4A 0.9700 . ?
C4 H4B 0.9700 . ?
C4 P5 1.802(8) . ?
P5 O3 1.571(3) . ?
P5 O4 1.501(3) . ?
P5 O5 1.499(4) . ?
O3 H3 0.8200 . ?
loop_
_geom_torsion_atom_site_label_1
_geom_torsion_atom_site_label_2
_geom_torsion_atom_site_label_3
_geom_torsion_atom_site_label_4
_geom_torsion
_geom_torsion_site_symmetry_1
_geom_torsion_site_symmetry_2
_geom_torsion_site_symmetry_3
_geom_torsion_site_symmetry_4
_geom_torsion_publ_flag
C1 C2 N3 C4 -76.2(6) . . . . ?
O1 C1 C2 N3 178.3(5) . . . . ?
O2 C1 C2 N3 -1.1(8) . . . . ?
C2 N3 C4 P5 173.2(4) . . . . ?
N3 C4 P5 O3 -73.3(4) . . . . ?
N3 C4 P5 O4 168.1(3) . . . . ?
N3 C4 P5 O5 39.3(4) . . . . ?
