#------------------------------------------------------------------------------
#$Date: 2023-03-04 19:18:00 +0100 (Sat 04 de Mar de 2023) $
#$Revision: 281446 $
#$URL: svn://www.crystallography.net/cod/cif/7/24/61/7246110.cif $
#------------------------------------------------------------------------------
#
# This file is available in the Crystallography Open Database (COD),
# http://www.crystallography.net/
#
# All data on this site have been placed in the public domain by the
# contributors.
#
data_7246110
loop_
_publ_author_name
'Wilson, Cameron J. G.'
'Wood, Peter A.'
'Parsons, Simon'
_publ_section_title
;
 Discerning subtle high-pressure phase transitions in glyphosate
;
_journal_issue                   6
_journal_name_full               CrystEngComm
_journal_page_first              988
_journal_page_last               997
_journal_paper_doi               10.1039/D2CE01616H
_journal_volume                  25
_journal_year                    2023
_chemical_formula_moiety         'C3 H8 N O5 P'
_chemical_formula_sum            'C3 H8 N O5 P'
_chemical_formula_weight         169.07
_chemical_name_common            Glyphosate
_chemical_name_systematic        N-(Phosphonomethyl)glycine
_space_group_crystal_system      monoclinic
_space_group_IT_number           14
_space_group_name_Hall           '-P 2ybc'
_space_group_name_H-M_alt        'P 1 21/c 1'
_atom_sites_solution_hydrogens   geom
_audit_creation_date             2022-03-01
_audit_creation_method
;
Olex2 1.3
(compiled 2020.11.12 svn.r5f609507 for OlexSys, GUI svn.r6408)
;
_audit_update_record
;
2022-11-30 deposited with the CCDC.	2023-01-11 downloaded from the CCDC.
;
_cell_angle_alpha                90
_cell_angle_beta                 106.235(4)
_cell_angle_gamma                90
_cell_formula_units_Z            4
_cell_length_a                   8.6720(6)
_cell_length_b                   7.9508(3)
_cell_length_c                   9.8213(3)
_cell_measurement_reflns_used    1943
_cell_measurement_temperature    293.15
_cell_measurement_theta_max      20.427
_cell_measurement_theta_min      2.644
_cell_volume                     650.17(6)
_computing_cell_refinement       'SAINT V8.40B (?, 2016)'
_computing_data_reduction        'SAINT V8.40B (?, 2016)'
_computing_molecular_graphics    'Olex2 1.3 (Dolomanov et al., 2009)'
_computing_publication_material  'Olex2 1.3 (Dolomanov et al., 2009)'
_computing_structure_refinement  'XL  (Sheldrick, 2008)'
_diffrn_ambient_temperature      293.15
_diffrn_measured_fraction_theta_full 0.391
_diffrn_measured_fraction_theta_max 0.383
_diffrn_measurement_device_type  'Bruker AXS D8 Venture'
_diffrn_measurement_method       'φ and ω scans'
_diffrn_radiation_type           AgK\a
_diffrn_radiation_wavelength     0.56086
_diffrn_reflns_av_R_equivalents  0.0422
_diffrn_reflns_av_unetI/netI     0.0215
_diffrn_reflns_Laue_measured_fraction_full 0.391
_diffrn_reflns_Laue_measured_fraction_max 0.383
_diffrn_reflns_limit_h_max       5
_diffrn_reflns_limit_h_min       -5
_diffrn_reflns_limit_k_max       9
_diffrn_reflns_limit_k_min       -9
_diffrn_reflns_limit_l_max       12
_diffrn_reflns_limit_l_min       -12
_diffrn_reflns_number            5852
_diffrn_reflns_point_group_measured_fraction_full 0.391
_diffrn_reflns_point_group_measured_fraction_max 0.383
_diffrn_reflns_theta_full        19.665
_diffrn_reflns_theta_max         20.583
_diffrn_reflns_theta_min         2.644
_diffrn_source_current           0.9
_diffrn_source_power             0.045
_diffrn_source_voltage           50.0
_diffrn_standards_number         0
_exptl_absorpt_coefficient_mu    0.206
_exptl_absorpt_correction_T_max  0.7445
_exptl_absorpt_correction_T_min  0.6677
_exptl_absorpt_correction_type   multi-scan
_exptl_absorpt_process_details
;
SADABS-2016/2 (Bruker,2016/2) was used for absorption correction.
wR2(int) was 0.0581 before and 0.0477 after correction.
The Ratio of minimum to maximum transmission is 0.8968.
The λ/2 correction factor is Not present.
;
_exptl_crystal_colour            'clear colourless'
_exptl_crystal_colour_lustre     clear
_exptl_crystal_colour_primary    colourless
_exptl_crystal_density_diffrn    1.727
_exptl_crystal_description       plate
_exptl_crystal_F_000             352
_exptl_crystal_preparation       'Powder sample received from Sigma-Aldrich'
_exptl_crystal_recrystallization_method
'The material was recrystallised from water by slow evaporation'
_exptl_crystal_size_max          0.19
_exptl_crystal_size_mid          0.17
_exptl_crystal_size_min          0.05
_refine_diff_density_max         0.103
_refine_diff_density_min         -0.144
_refine_diff_density_rms         0.028
_refine_ls_extinction_method     none
_refine_ls_goodness_of_fit_ref   1.071
_refine_ls_hydrogen_treatment    constr
_refine_ls_matrix_type           full
_refine_ls_number_parameters     93
_refine_ls_number_reflns         511
_refine_ls_number_restraints     82
_refine_ls_restrained_S_all      0.995
_refine_ls_R_factor_all          0.0330
_refine_ls_R_factor_gt           0.0253
_refine_ls_shift/su_max          0.000
_refine_ls_shift/su_mean         0.000
_refine_ls_structure_factor_coef Fsqd
_refine_ls_weighting_details
'w=1/[σ²(Fo²)+(0.0350P)²+0.2507P] where P=(Fo²+2Fc²)/3'
_refine_ls_weighting_scheme      calc
_refine_ls_wR_factor_gt          0.0612
_refine_ls_wR_factor_ref         0.0642
_reflns_Friedel_coverage         0.000
_reflns_number_gt                435
_reflns_number_total             511
_reflns_threshold_expression     'I > 2σ(I)'
_cod_data_source_file            d2ce01616h2.cif
_cod_data_source_block           C3H8NO5P_Ag_0p206GPa
_cod_depositor_comments
'Adding full bibliography for 7246103--7246118.cif.'
_cod_database_code               7246110
_shelx_shelxl_version_number     2019/1
_shelx_space_group_comment
;
The symmetry employed for this shelxl refinement is uniquely defined
by the following loop, which should always be used as a source of
symmetry information in preference to the above space-group names.
They are only intended as comments.
;
_shelx_estimated_absorpt_t_max   0.990
_shelx_estimated_absorpt_t_min   0.962
_olex2_refinement_description
;
1. Fixed Uiso
 At 1.2 times of:
  All C(H,H) groups, All N(H,H) groups
 At 1.5 times of:
  All O(H) groups
2. Restrained distances
 O1-C1
 1.31 with sigma of 0.01
 O2-C1
 1.204 with sigma of 0.01
 O2-O1
 2.25 with sigma of 0.03
 C2-C1
 1.512 with sigma of 0.01
 C2-O1
 2.305 with sigma of 0.03
 C2-O2
 2.399 with sigma of 0.03
 N3-C2
 1.481 with sigma of 0.01
 N3-C1
 2.481 with sigma of 0.03
 C4-N3
 1.488 with sigma of 0.01
 C4-C2
 2.486 with sigma of 0.03
 P5-C4
 1.815 with sigma of 0.01
 P5-N3
 2.742 with sigma of 0.03
 O3-P5
 1.574 with sigma of 0.01
 O3-C4
 2.676 with sigma of 0.03
 O4-P5
 1.498 with sigma of 0.01
 O4-C4
 2.659 with sigma of 0.03
 O4-O3
 2.544 with sigma of 0.03
 O5-P5
 1.5 with sigma of 0.01
 O5-C4
 2.704 with sigma of 0.03
 O5-O3
 2.456 with sigma of 0.03
 O5-O4
 2.58 with sigma of 0.03
3. Rigid body (RIGU) restrains
 All non-hydrogen atoms
 with sigma for 1-2 distances of 0.005 and sigma for 1-3 distances of 0.005
4.a Secondary CH2 refined with riding coordinates:
 C2(H2A,H2B), N3(H3A,H3B), C4(H4A,H4B)
4.b Idealised tetrahedral OH refined as rotating group:
 O1(H1), O3(H3)
;
_shelx_res_file
;
TITL ag_cw22029_0m in P2(1)/c
    ag_cw22029_0m.res
    created by SHELXL-2019/1 at 13:51:06 on 01-Mar-2022
CELL 0.56086 8.672 7.9508 9.8213 90 106.2349 90
ZERR 4 0.0006 0.0003 0.0003 0 0.0035 0
LATT 1
SYMM -X,0.5+Y,0.5-Z
SFAC C H N O P
DISP C 0.0013 0.0009 7.4
DISP H 0 0 0.7
DISP N 0.003 0.002 11.7
DISP O 0.0058 0.0036 18.2
DISP P 0.0671 0.0586 203.6
UNIT 12 32 4 20 4
DFIX 1.31 0.01 O1 C1
DFIX 1.204 0.01 O2 C1
DFIX 2.25 0.03 O2 O1
DFIX 1.512 0.01 C2 C1
DFIX 2.305 0.03 C2 O1
DFIX 2.399 0.03 C2 O2
DFIX 1.481 0.01 N3 C2
DFIX 2.481 0.03 N3 C1
DFIX 1.488 0.01 C4 N3
DFIX 2.486 0.03 C4 C2
DFIX 1.815 0.01 P5 C4
DFIX 2.742 0.03 P5 N3
DFIX 1.574 0.01 O3 P5
DFIX 2.676 0.03 O3 C4
DFIX 1.498 0.01 O4 P5
DFIX 2.659 0.03 O4 C4
DFIX 2.544 0.03 O4 O3
DFIX 1.5 0.01 O5 P5
DFIX 2.704 0.03 O5 C4
DFIX 2.456 0.03 O5 O3
DFIX 2.58 0.03 O5 O4
RIGU 0.005 0.005

L.S. 40
PLAN  5
SIZE 0.05 0.17 0.19
TEMP 20
CONF
MORE -1
BOND $H
fmap 2 53
ACTA
OMIT -4 2 6
OMIT -1 3 2
OMIT -1 1 4
REM <olex2.extras>
REM <HklSrc "%.\\ag_cw22029_0m.hkl">
REM </olex2.extras>

WGHT    0.035000    0.250700
FVAR       0.55915
C1    1    0.012847    0.608063    0.349673    11.00000    0.02805    0.01856 =
         0.02995    0.00200    0.01359    0.00014
O1    4   -0.137277    0.584768    0.282147    11.00000    0.02897    0.04657 =
         0.03296   -0.00512    0.01038   -0.00071
AFIX 147
H1    2   -0.193336    0.608336    0.334249    11.00000   -1.50000
AFIX   0
O2    4    0.064918    0.677299    0.463602    11.00000    0.04354    0.03841 =
         0.03208   -0.01129    0.01420   -0.00501
C2    1    0.118523    0.537952    0.265225    11.00000    0.02857    0.03437 =
         0.03169   -0.01082    0.00628   -0.00399
AFIX  23
H2A   2    0.099284    0.418050    0.252308    11.00000   -1.20000
H2B   2    0.089991    0.589948    0.172172    11.00000   -1.20000
AFIX   0
N3    3    0.291190    0.566737    0.334691    11.00000    0.03350    0.01933 =
         0.02538   -0.00032    0.01577    0.00561
AFIX  23
H3A   2    0.348468    0.499151    0.295349    11.00000   -1.20000
H3B   2    0.312278    0.538864    0.425822    11.00000   -1.20000
AFIX   0
C4    1    0.343769    0.743766    0.324431    11.00000    0.01448    0.01933 =
         0.02175    0.00042    0.00117   -0.00075
AFIX  23
H4A   2    0.275379    0.819078    0.359276    11.00000   -1.20000
H4B   2    0.331730    0.771192    0.225765    11.00000   -1.20000
AFIX   0
P5    5    0.550349    0.775639    0.425395    11.00000    0.02820    0.01699 =
         0.02078    0.00174    0.01242    0.00060
O3    4    0.544259    0.780461    0.583771    11.00000    0.03386    0.02422 =
         0.02225    0.00079    0.01402    0.00099
AFIX 147
H3    2    0.521821    0.875874    0.603586    11.00000   -1.50000
AFIX   0
O4    4    0.600920    0.942238    0.379831    11.00000    0.03179    0.02116 =
         0.02752    0.00063    0.01541   -0.00442
O5    4    0.647249    0.622974    0.412819    11.00000    0.02051    0.02326 =
         0.02991    0.00165    0.01189    0.00215
HKLF 4




REM  ag_cw22029_0m in P2(1)/c
REM wR2 = 0.0642, GooF = S = 1.071, Restrained GooF = 0.995 for all data
REM R1 = 0.0253 for 435 Fo > 4sig(Fo) and 0.0330 for all 511 data
REM 93 parameters refined using 82 restraints

END

WGHT      0.0350      0.2507

REM Highest difference peak  0.103,  deepest hole -0.144,  1-sigma level  0.028
Q1    1   0.4757  0.7753  0.4848  11.00000  0.05    0.10
Q2    1   0.5133  0.7761  0.5002  11.00000  0.05    0.10
Q3    1   0.1194  0.3636  0.3188  11.00000  0.05    0.10
Q4    1   0.5822  0.6949  0.3529  11.00000  0.05    0.09
Q5    1   0.1602  0.3726  0.3363  11.00000  0.05    0.08
;
_shelx_res_checksum              95548
_olex2_exptl_crystal_mounting_method 'Merrill Bassett diamond anvil cell'
_olex2_submission_original_sample_id ag_cw22029_0m
_olex2_submission_special_instructions 'No special instructions were received'
loop_
_space_group_symop_operation_xyz
'x, y, z'
'-x, y+1/2, -z+1/2'
'-x, -y, -z'
'x, -y-1/2, z-1/2'
loop_
_atom_site_label
_atom_site_type_symbol
_atom_site_fract_x
_atom_site_fract_y
_atom_site_fract_z
_atom_site_U_iso_or_equiv
_atom_site_adp_type
_atom_site_occupancy
_atom_site_site_symmetry_order
_atom_site_calc_flag
_atom_site_refinement_flags_posn
_atom_site_refinement_flags_adp
_atom_site_refinement_flags_occupancy
_atom_site_disorder_assembly
_atom_site_disorder_group
C1 C 0.0128(8) 0.6081(3) 0.3497(4) 0.024(3) Uani 1 1 d D . . . .
O1 O -0.1373(7) 0.5848(3) 0.2821(3) 0.036(3) Uani 1 1 d D . . . .
H1 H -0.193336 0.608336 0.334249 0.054 Uiso 1 1 calc R U . . .
O2 O 0.0649(6) 0.6773(2) 0.4636(2) 0.037(3) Uani 1 1 d D . . . .
C2 C 0.1185(9) 0.5380(4) 0.2652(4) 0.032(3) Uani 1 1 d D . . . .
H2A H 0.099284 0.418050 0.252308 0.038 Uiso 1 1 calc R U . . .
H2B H 0.089991 0.589948 0.172172 0.038 Uiso 1 1 calc R U . . .
N3 N 0.2912(8) 0.5667(2) 0.3347(3) 0.025(3) Uani 1 1 d D . . . .
H3A H 0.348468 0.499151 0.295349 0.029 Uiso 1 1 calc R U . . .
H3B H 0.312278 0.538864 0.425822 0.029 Uiso 1 1 calc R U . . .
C4 C 0.3438(7) 0.7438(3) 0.3244(3) 0.019(3) Uani 1 1 d D . . . .
H4A H 0.275379 0.819078 0.359276 0.023 Uiso 1 1 calc R U . . .
H4B H 0.331730 0.771192 0.225765 0.023 Uiso 1 1 calc R U . . .
P5 P 0.5503(2) 0.77564(7) 0.42539(8) 0.0209(10) Uani 1 1 d D . . . .
O3 O 0.5443(5) 0.78046(19) 0.58377(19) 0.026(2) Uani 1 1 d D . . . .
H3 H 0.521821 0.875874 0.603586 0.038 Uiso 1 1 calc R U . . .
O4 O 0.6009(5) 0.94224(19) 0.37983(19) 0.025(2) Uani 1 1 d D . . . .
O5 O 0.6472(5) 0.62297(19) 0.41282(19) 0.024(2) Uani 1 1 d D . . . .
loop_
_atom_site_aniso_label
_atom_site_aniso_U_11
_atom_site_aniso_U_22
_atom_site_aniso_U_33
_atom_site_aniso_U_23
_atom_site_aniso_U_13
_atom_site_aniso_U_12
C1 0.028(9) 0.0186(11) 0.030(2) 0.0020(12) 0.014(3) 0.000(2)
O1 0.029(9) 0.0466(13) 0.0330(16) -0.0051(11) 0.010(3) -0.001(2)
O2 0.044(9) 0.0384(11) 0.0321(12) -0.0113(8) 0.014(3) -0.0050(16)
C2 0.029(9) 0.0344(14) 0.032(2) -0.0108(13) 0.006(4) -0.004(3)
N3 0.034(9) 0.0193(11) 0.0254(15) -0.0003(9) 0.016(3) 0.0056(19)
C4 0.014(9) 0.0193(11) 0.0217(14) 0.0004(9) 0.001(3) -0.0008(18)
P5 0.028(3) 0.0170(3) 0.0208(4) 0.0017(2) 0.0124(10) 0.0006(5)
O3 0.034(8) 0.0242(8) 0.0222(10) 0.0008(6) 0.014(2) 0.0010(14)
O4 0.032(8) 0.0212(8) 0.0275(10) 0.0006(6) 0.015(2) -0.0044(13)
O5 0.021(8) 0.0233(9) 0.0299(11) 0.0017(7) 0.012(2) 0.0022(15)
loop_
_atom_type_symbol
_atom_type_description
_atom_type_scat_dispersion_real
_atom_type_scat_dispersion_imag
_atom_type_scat_source
C C 0.0013 0.0009 'International Tables Vol C Tables 4.2.6.8 and 6.1.1.4'
H H 0.0000 0.0000 'International Tables Vol C Tables 4.2.6.8 and 6.1.1.4'
N N 0.0030 0.0020 'International Tables Vol C Tables 4.2.6.8 and 6.1.1.4'
O O 0.0058 0.0036 'International Tables Vol C Tables 4.2.6.8 and 6.1.1.4'
P P 0.0671 0.0586 'International Tables Vol C Tables 4.2.6.8 and 6.1.1.4'
loop_
_geom_angle_atom_site_label_1
_geom_angle_atom_site_label_2
_geom_angle_atom_site_label_3
_geom_angle
_geom_angle_site_symmetry_1
_geom_angle_site_symmetry_3
_geom_angle_publ_flag
O1 C1 C2 110.1(4) . . ?
O2 C1 O1 126.6(6) . . ?
O2 C1 C2 123.3(6) . . ?
C1 O1 H1 109.5 . . ?
C1 C2 H2A 109.1 . . ?
C1 C2 H2B 109.1 . . ?
H2A C2 H2B 107.8 . . ?
N3 C2 C1 112.5(4) . . ?
N3 C2 H2A 109.1 . . ?
N3 C2 H2B 109.1 . . ?
C2 N3 H3A 108.8 . . ?
C2 N3 H3B 108.8 . . ?
C2 N3 C4 113.8(4) . . ?
H3A N3 H3B 107.7 . . ?
C4 N3 H3A 108.8 . . ?
C4 N3 H3B 108.8 . . ?
N3 C4 H4A 109.3 . . ?
N3 C4 H4B 109.3 . . ?
N3 C4 P5 111.7(3) . . ?
H4A C4 H4B 107.9 . . ?
P5 C4 H4A 109.3 . . ?
P5 C4 H4B 109.3 . . ?
O3 P5 C4 104.1(2) . . ?
O4 P5 C4 106.71(17) . . ?
O4 P5 O3 111.51(10) . . ?
O5 P5 C4 109.48(17) . . ?
O5 P5 O3 106.00(13) . . ?
O5 P5 O4 118.1(2) . . ?
P5 O3 H3 109.5 . . ?
loop_
_geom_bond_atom_site_label_1
_geom_bond_atom_site_label_2
_geom_bond_distance
_geom_bond_site_symmetry_2
_geom_bond_publ_flag
C1 O1 1.299(8) . ?
C1 O2 1.215(4) . ?
C1 C2 1.504(7) . ?
O1 H1 0.8200 . ?
C2 H2A 0.9700 . ?
C2 H2B 0.9700 . ?
C2 N3 1.479(7) . ?
N3 H3A 0.8900 . ?
N3 H3B 0.8900 . ?
N3 C4 1.492(4) . ?
C4 H4A 0.9700 . ?
C4 H4B 0.9700 . ?
C4 P5 1.807(6) . ?
P5 O3 1.5715(16) . ?
P5 O4 1.5023(19) . ?
P5 O5 1.501(3) . ?
O3 H3 0.8200 . ?
loop_
_geom_torsion_atom_site_label_1
_geom_torsion_atom_site_label_2
_geom_torsion_atom_site_label_3
_geom_torsion_atom_site_label_4
_geom_torsion
_geom_torsion_site_symmetry_1
_geom_torsion_site_symmetry_2
_geom_torsion_site_symmetry_3
_geom_torsion_site_symmetry_4
_geom_torsion_publ_flag
C1 C2 N3 C4 -74.8(3) . . . . ?
O1 C1 C2 N3 177.8(3) . . . . ?
O2 C1 C2 N3 -1.4(4) . . . . ?
C2 N3 C4 P5 174.4(2) . . . . ?
N3 C4 P5 O3 -75.2(2) . . . . ?
N3 C4 P5 O4 166.72(19) . . . . ?
N3 C4 P5 O5 37.8(2) . . . . ?
