#------------------------------------------------------------------------------
#$Date: 2023-03-04 19:18:00 +0100 (Sat 04 de Mar de 2023) $
#$Revision: 281446 $
#$URL: svn://www.crystallography.net/cod/cif/7/24/61/7246112.cif $
#------------------------------------------------------------------------------
#
# This file is available in the Crystallography Open Database (COD),
# http://www.crystallography.net/
#
# All data on this site have been placed in the public domain by the
# contributors.
#
data_7246112
loop_
_publ_author_name
'Wilson, Cameron J. G.'
'Wood, Peter A.'
'Parsons, Simon'
_publ_section_title
;
 Discerning subtle high-pressure phase transitions in glyphosate
;
_journal_issue                   6
_journal_name_full               CrystEngComm
_journal_page_first              988
_journal_page_last               997
_journal_paper_doi               10.1039/D2CE01616H
_journal_volume                  25
_journal_year                    2023
_chemical_formula_moiety         'C3 H8 N O5 P'
_chemical_formula_sum            'C3 H8 N O5 P'
_chemical_formula_weight         169.07
_chemical_name_common            Glyphosate
_chemical_name_systematic        N-(Phosphonomethyl)glycine
_space_group_crystal_system      monoclinic
_space_group_IT_number           14
_space_group_name_Hall           '-P 2ybc'
_space_group_name_H-M_alt        'P 1 21/c 1'
_atom_sites_solution_hydrogens   geom
_audit_creation_date             2022-03-01
_audit_creation_method
;
Olex2 1.3
(compiled 2020.11.12 svn.r5f609507 for OlexSys, GUI svn.r6408)
;
_audit_update_record
;
2022-11-30 deposited with the CCDC.	2023-01-11 downloaded from the CCDC.
;
_cell_angle_alpha                90
_cell_angle_beta                 109.104(5)
_cell_angle_gamma                90
_cell_formula_units_Z            4
_cell_length_a                   8.6285(9)
_cell_length_b                   7.7531(4)
_cell_length_c                   9.4944(5)
_cell_measurement_reflns_used    2138
_cell_measurement_temperature    293.15
_cell_measurement_theta_max      20.10
_cell_measurement_theta_min      2.74
_cell_volume                     600.17(8)
_computing_cell_refinement       'SAINT V8.40B (?, 2016)'
_computing_data_reduction        'SAINT V8.40B (?, 2016)'
_computing_molecular_graphics    'Olex2 1.3 (Dolomanov et al., 2009)'
_computing_publication_material  'Olex2 1.3 (Dolomanov et al., 2009)'
_computing_structure_refinement  'XL  (Sheldrick, 2008)'
_diffrn_ambient_temperature      293.15
_diffrn_measured_fraction_theta_full 0.393
_diffrn_measured_fraction_theta_max 0.378
_diffrn_measurement_device_type  'Bruker AXS D8 Venture'
_diffrn_measurement_method       'φ and ω scans'
_diffrn_radiation_type           AgK\a
_diffrn_radiation_wavelength     0.56086
_diffrn_reflns_av_R_equivalents  0.0363
_diffrn_reflns_av_unetI/netI     0.0181
_diffrn_reflns_Laue_measured_fraction_full 0.393
_diffrn_reflns_Laue_measured_fraction_max 0.378
_diffrn_reflns_limit_h_max       5
_diffrn_reflns_limit_h_min       -5
_diffrn_reflns_limit_k_max       9
_diffrn_reflns_limit_k_min       -9
_diffrn_reflns_limit_l_max       11
_diffrn_reflns_limit_l_min       -11
_diffrn_reflns_number            5320
_diffrn_reflns_point_group_measured_fraction_full 0.393
_diffrn_reflns_point_group_measured_fraction_max 0.378
_diffrn_reflns_theta_full        19.665
_diffrn_reflns_theta_max         20.571
_diffrn_reflns_theta_min         2.740
_diffrn_source_current           0.9
_diffrn_source_power             0.045
_diffrn_source_voltage           50.0
_diffrn_standards_number         0
_exptl_absorpt_coefficient_mu    0.223
_exptl_absorpt_correction_T_max  0.7445
_exptl_absorpt_correction_T_min  0.6615
_exptl_absorpt_correction_type   multi-scan
_exptl_absorpt_process_details
;
SADABS-2016/2 (Bruker,2016/2) was used for absorption correction.
wR2(int) was 0.0589 before and 0.0464 after correction.
The Ratio of minimum to maximum transmission is 0.8885.
The λ/2 correction factor is Not present.
;
_exptl_crystal_colour            'clear colourless'
_exptl_crystal_colour_lustre     clear
_exptl_crystal_colour_primary    colourless
_exptl_crystal_density_diffrn    1.871
_exptl_crystal_description       plate
_exptl_crystal_F_000             352
_exptl_crystal_preparation       'Powder sample received from Sigma-Aldrich'
_exptl_crystal_recrystallization_method
'The material was recrystallised from water by slow evaporation'
_exptl_crystal_size_max          0.19
_exptl_crystal_size_mid          0.17
_exptl_crystal_size_min          0.05
_refine_diff_density_max         0.120
_refine_diff_density_min         -0.138
_refine_diff_density_rms         0.030
_refine_ls_extinction_method     none
_refine_ls_goodness_of_fit_ref   1.103
_refine_ls_hydrogen_treatment    constr
_refine_ls_matrix_type           full
_refine_ls_number_parameters     93
_refine_ls_number_reflns         468
_refine_ls_number_restraints     82
_refine_ls_restrained_S_all      1.023
_refine_ls_R_factor_all          0.0290
_refine_ls_R_factor_gt           0.0236
_refine_ls_shift/su_max          0.000
_refine_ls_shift/su_mean         0.000
_refine_ls_structure_factor_coef Fsqd
_refine_ls_weighting_details
'w=1/[σ²(Fo²)+(0.0329P)²+0.3053P] where P=(Fo²+2Fc²)/3'
_refine_ls_weighting_scheme      calc
_refine_ls_wR_factor_gt          0.0592
_refine_ls_wR_factor_ref         0.0622
_reflns_Friedel_coverage         0.000
_reflns_number_gt                416
_reflns_number_total             468
_reflns_threshold_expression     'I > 2σ(I)'
_cod_data_source_file            d2ce01616h2.cif
_cod_data_source_block           C3H8NO5P_Ag_1p940GPa
_cod_depositor_comments
'Adding full bibliography for 7246103--7246118.cif.'
_cod_database_code               7246112
_shelx_shelxl_version_number     2019/1
_shelx_space_group_comment
;
The symmetry employed for this shelxl refinement is uniquely defined
by the following loop, which should always be used as a source of
symmetry information in preference to the above space-group names.
They are only intended as comments.
;
_shelx_estimated_absorpt_t_max   0.989
_shelx_estimated_absorpt_t_min   0.959
_olex2_refinement_description
;
1. Fixed Uiso
 At 1.2 times of:
  All C(H,H) groups, All N(H,H) groups
 At 1.5 times of:
  All O(H) groups
2. Restrained distances
 O1-C1
 1.31 with sigma of 0.01
 O2-C1
 1.204 with sigma of 0.01
 O2-O1
 2.25 with sigma of 0.03
 C2-C1
 1.512 with sigma of 0.01
 C2-O1
 2.305 with sigma of 0.03
 C2-O2
 2.399 with sigma of 0.03
 N3-C2
 1.481 with sigma of 0.01
 N3-C1
 2.481 with sigma of 0.03
 C4-N3
 1.488 with sigma of 0.01
 C4-C2
 2.486 with sigma of 0.03
 P5-C4
 1.815 with sigma of 0.01
 P5-N3
 2.742 with sigma of 0.03
 O3-P5
 1.574 with sigma of 0.01
 O3-C4
 2.676 with sigma of 0.03
 O4-P5
 1.498 with sigma of 0.01
 O4-C4
 2.659 with sigma of 0.03
 O4-O3
 2.544 with sigma of 0.03
 O5-P5
 1.5 with sigma of 0.01
 O5-C4
 2.704 with sigma of 0.03
 O5-O3
 2.456 with sigma of 0.03
 O5-O4
 2.58 with sigma of 0.03
3. Rigid body (RIGU) restrains
 All non-hydrogen atoms
 with sigma for 1-2 distances of 0.005 and sigma for 1-3 distances of 0.005
4.a Secondary CH2 refined with riding coordinates:
 C2(H2A,H2B), N3(H3A,H3B), C4(H4A,H4B)
4.b Idealised tetrahedral OH refined as rotating group:
 O1(H1), O3(H3)
;
_shelx_res_file
;
TITL ag_cw22030_0m in P2(1)/c
    ag_cw22030_0m.res
    created by SHELXL-2019/1 at 14:04:42 on 01-Mar-2022
CELL 0.56086 8.6285 7.7531 9.4944 90 109.104 90
ZERR 4 0.0009 0.0004 0.0005 0 0.0048 0
LATT 1
SYMM -X,0.5+Y,0.5-Z
SFAC C H N O P
DISP C 0.0013 0.0009 7.4
DISP H 0 0 0.7
DISP N 0.003 0.002 11.7
DISP O 0.0058 0.0036 18.2
DISP P 0.0671 0.0586 203.6
UNIT 12 32 4 20 4
DFIX 1.31 0.01 O1 C1
DFIX 1.204 0.01 O2 C1
DFIX 2.25 0.03 O2 O1
DFIX 1.512 0.01 C2 C1
DFIX 2.305 0.03 C2 O1
DFIX 2.399 0.03 C2 O2
DFIX 1.481 0.01 N3 C2
DFIX 2.481 0.03 N3 C1
DFIX 1.488 0.01 C4 N3
DFIX 2.486 0.03 C4 C2
DFIX 1.815 0.01 P5 C4
DFIX 2.742 0.03 P5 N3
DFIX 1.574 0.01 O3 P5
DFIX 2.676 0.03 O3 C4
DFIX 1.498 0.01 O4 P5
DFIX 2.659 0.03 O4 C4
DFIX 2.544 0.03 O4 O3
DFIX 1.5 0.01 O5 P5
DFIX 2.704 0.03 O5 C4
DFIX 2.456 0.03 O5 O3
DFIX 2.58 0.03 O5 O4
RIGU 0.005 0.005

L.S. 40
PLAN  5
SIZE 0.05 0.17 0.19
TEMP 20
CONF
MORE -1
BOND $H
fmap 2 53
ACTA
OMIT -1 1 4
OMIT -1 3 2
REM <olex2.extras>
REM <HklSrc "%.\\ag_cw22030_0m.hkl">
REM </olex2.extras>

WGHT    0.032900    0.305300
FVAR       0.56433
C1    1    0.011152    0.613878    0.345640    11.00000    0.01610    0.01414 =
         0.02421    0.00310    0.00890   -0.00045
O1    4   -0.143817    0.592885    0.276405    11.00000    0.02027    0.03725 =
         0.02750   -0.00469    0.01260   -0.00250
AFIX 147
H1    2   -0.194785    0.607464    0.334742    11.00000   -1.50000
AFIX   0
O2    4    0.073665    0.679777    0.467756    11.00000    0.02971    0.03331 =
         0.02429   -0.00973    0.01054   -0.00265
C2    1    0.109863    0.547161    0.252990    11.00000    0.01879    0.02504 =
         0.02211   -0.00707    0.00503   -0.00452
AFIX  23
H2A   2    0.087843    0.425117    0.234277    11.00000   -1.20000
H2B   2    0.075893    0.606076    0.157609    11.00000   -1.20000
AFIX   0
N3    3    0.286563    0.572551    0.326153    11.00000    0.02086    0.01523 =
         0.01932   -0.00030    0.01049    0.00215
AFIX  23
H3A   2    0.340519    0.502050    0.284532    11.00000   -1.20000
H3B   2    0.312177    0.543039    0.421650    11.00000   -1.20000
AFIX   0
C4    1    0.343245    0.752122    0.317430    11.00000    0.01299    0.01534 =
         0.01636    0.00121    0.00378    0.00008
AFIX  23
H4A   2    0.276591    0.831550    0.351959    11.00000   -1.20000
H4B   2    0.329936    0.780186    0.214567    11.00000   -1.20000
AFIX   0
P5    5    0.554947    0.776718    0.429241    11.00000    0.02879    0.01381 =
         0.01524    0.00133    0.01112    0.00002
O3    4    0.547884    0.772488    0.592294    11.00000    0.01976    0.02065 =
         0.01628    0.00098    0.00820    0.00182
AFIX 147
H3    2    0.515512    0.865933    0.612055    11.00000   -1.50000
AFIX   0
O4    4    0.611797    0.948243    0.391914    11.00000    0.02388    0.01729 =
         0.02183    0.00041    0.01220   -0.00365
O5    4    0.651102    0.619933    0.415219    11.00000    0.02989    0.01890 =
         0.02256    0.00288    0.01381    0.00522
HKLF 4




REM  ag_cw22030_0m in P2(1)/c
REM wR2 = 0.0622, GooF = S = 1.103, Restrained GooF = 1.023 for all data
REM R1 = 0.0236 for 416 Fo > 4sig(Fo) and 0.0290 for all 468 data
REM 93 parameters refined using 82 restraints

END

WGHT      0.0329      0.3053

REM Highest difference peak  0.120,  deepest hole -0.138,  1-sigma level  0.030
Q1    1   0.1360  0.5118  0.1444  11.00000  0.05    0.12
Q2    1   0.1746  0.5052  0.1564  11.00000  0.05    0.12
Q3    1   0.2398  0.7637  0.3621  11.00000  0.05    0.12
Q4    1   0.4208  0.6618  0.3620  11.00000  0.05    0.11
Q5    1   0.7177  0.7013  0.4830  11.00000  0.05    0.11
;
_shelx_res_checksum              30516
_olex2_exptl_crystal_mounting_method 'Merrill Bassett diamond anvil cell'
_olex2_submission_original_sample_id ag_cw22030_0m
_olex2_submission_special_instructions 'No special instructions were received'
loop_
_space_group_symop_operation_xyz
'x, y, z'
'-x, y+1/2, -z+1/2'
'-x, -y, -z'
'x, -y-1/2, z-1/2'
loop_
_atom_site_label
_atom_site_type_symbol
_atom_site_fract_x
_atom_site_fract_y
_atom_site_fract_z
_atom_site_U_iso_or_equiv
_atom_site_adp_type
_atom_site_occupancy
_atom_site_site_symmetry_order
_atom_site_calc_flag
_atom_site_refinement_flags_posn
_atom_site_refinement_flags_adp
_atom_site_refinement_flags_occupancy
_atom_site_disorder_assembly
_atom_site_disorder_group
C1 C 0.0112(9) 0.6139(3) 0.3456(4) 0.018(3) Uani 1 1 d D . . . .
O1 O -0.1438(7) 0.5929(3) 0.2764(3) 0.027(3) Uani 1 1 d D . . . .
H1 H -0.194785 0.607464 0.334742 0.041 Uiso 1 1 calc R U . . .
O2 O 0.0737(6) 0.6798(2) 0.4678(2) 0.029(2) Uani 1 1 d D . . . .
C2 C 0.1099(9) 0.5472(4) 0.2530(4) 0.022(3) Uani 1 1 d D . . . .
H2A H 0.087843 0.425117 0.234277 0.027 Uiso 1 1 calc R U . . .
H2B H 0.075893 0.606076 0.157609 0.027 Uiso 1 1 calc R U . . .
N3 N 0.2866(8) 0.5726(3) 0.3262(3) 0.018(3) Uani 1 1 d D . . . .
H3A H 0.340519 0.502050 0.284532 0.021 Uiso 1 1 calc R U . . .
H3B H 0.312177 0.543039 0.421650 0.021 Uiso 1 1 calc R U . . .
C4 C 0.3432(7) 0.7521(3) 0.3174(3) 0.015(2) Uani 1 1 d D . . . .
H4A H 0.276591 0.831550 0.351959 0.018 Uiso 1 1 calc R U . . .
H4B H 0.329936 0.780186 0.214567 0.018 Uiso 1 1 calc R U . . .
P5 P 0.5549(2) 0.77672(7) 0.42924(8) 0.0183(10) Uani 1 1 d D . . . .
O3 O 0.5479(5) 0.7725(2) 0.5923(2) 0.018(2) Uani 1 1 d D . . . .
H3 H 0.515512 0.865933 0.612055 0.027 Uiso 1 1 calc R U . . .
O4 O 0.6118(5) 0.94824(19) 0.39191(19) 0.020(2) Uani 1 1 d D . . . .
O5 O 0.6511(5) 0.61993(19) 0.4152(2) 0.023(2) Uani 1 1 d D . . . .
loop_
_atom_site_aniso_label
_atom_site_aniso_U_11
_atom_site_aniso_U_22
_atom_site_aniso_U_33
_atom_site_aniso_U_23
_atom_site_aniso_U_13
_atom_site_aniso_U_12
C1 0.016(9) 0.0141(10) 0.0242(19) 0.0031(12) 0.009(3) 0.000(2)
O1 0.020(8) 0.0372(11) 0.0275(15) -0.0047(11) 0.013(3) -0.003(2)
O2 0.030(8) 0.0333(10) 0.0243(11) -0.0097(8) 0.011(2) -0.0027(16)
C2 0.019(9) 0.0250(12) 0.022(2) -0.0071(12) 0.005(4) -0.005(3)
N3 0.021(9) 0.0152(10) 0.0193(15) -0.0003(9) 0.010(3) 0.0021(19)
C4 0.013(8) 0.0153(10) 0.0164(15) 0.0012(9) 0.004(3) 0.0001(18)
P5 0.029(3) 0.0138(3) 0.0152(4) 0.0013(2) 0.0111(10) 0.0000(4)
O3 0.020(7) 0.0206(8) 0.0163(10) 0.0010(6) 0.008(2) 0.0018(13)
O4 0.024(7) 0.0173(8) 0.0218(10) 0.0004(6) 0.012(2) -0.0037(13)
O5 0.030(7) 0.0189(8) 0.0226(10) 0.0029(7) 0.014(2) 0.0052(14)
loop_
_atom_type_symbol
_atom_type_description
_atom_type_scat_dispersion_real
_atom_type_scat_dispersion_imag
_atom_type_scat_source
C C 0.0013 0.0009 'International Tables Vol C Tables 4.2.6.8 and 6.1.1.4'
H H 0.0000 0.0000 'International Tables Vol C Tables 4.2.6.8 and 6.1.1.4'
N N 0.0030 0.0020 'International Tables Vol C Tables 4.2.6.8 and 6.1.1.4'
O O 0.0058 0.0036 'International Tables Vol C Tables 4.2.6.8 and 6.1.1.4'
P P 0.0671 0.0586 'International Tables Vol C Tables 4.2.6.8 and 6.1.1.4'
loop_
_geom_angle_atom_site_label_1
_geom_angle_atom_site_label_2
_geom_angle_atom_site_label_3
_geom_angle
_geom_angle_site_symmetry_1
_geom_angle_site_symmetry_3
_geom_angle_publ_flag
O1 C1 C2 110.4(4) . . ?
O2 C1 O1 126.7(5) . . ?
O2 C1 C2 122.8(6) . . ?
C1 O1 H1 109.5 . . ?
C1 C2 H2A 109.2 . . ?
C1 C2 H2B 109.2 . . ?
H2A C2 H2B 107.9 . . ?
N3 C2 C1 112.1(4) . . ?
N3 C2 H2A 109.2 . . ?
N3 C2 H2B 109.2 . . ?
C2 N3 H3A 108.7 . . ?
C2 N3 H3B 108.7 . . ?
C2 N3 C4 114.1(4) . . ?
H3A N3 H3B 107.6 . . ?
C4 N3 H3A 108.7 . . ?
C4 N3 H3B 108.7 . . ?
N3 C4 H4A 109.5 . . ?
N3 C4 H4B 109.5 . . ?
N3 C4 P5 110.8(3) . . ?
H4A C4 H4B 108.1 . . ?
P5 C4 H4A 109.5 . . ?
P5 C4 H4B 109.5 . . ?
O3 P5 C4 102.7(2) . . ?
O4 P5 C4 107.60(17) . . ?
O4 P5 O3 111.90(10) . . ?
O4 P5 O5 117.6(2) . . ?
O5 P5 C4 110.23(16) . . ?
O5 P5 O3 105.75(12) . . ?
P5 O3 H3 109.5 . . ?
loop_
_geom_bond_atom_site_label_1
_geom_bond_atom_site_label_2
_geom_bond_distance
_geom_bond_site_symmetry_2
_geom_bond_publ_flag
C1 O1 1.293(8) . ?
C1 O2 1.219(4) . ?
C1 C2 1.502(7) . ?
O1 H1 0.8200 . ?
C2 H2A 0.9700 . ?
C2 H2B 0.9700 . ?
C2 N3 1.467(7) . ?
N3 H3A 0.8900 . ?
N3 H3B 0.8900 . ?
N3 C4 1.487(4) . ?
C4 H4A 0.9700 . ?
C4 H4B 0.9700 . ?
C4 P5 1.797(5) . ?
P5 O3 1.5694(16) . ?
P5 O4 1.500(2) . ?
P5 O5 1.502(3) . ?
O3 H3 0.8200 . ?
loop_
_geom_torsion_atom_site_label_1
_geom_torsion_atom_site_label_2
_geom_torsion_atom_site_label_3
_geom_torsion_atom_site_label_4
_geom_torsion
_geom_torsion_site_symmetry_1
_geom_torsion_site_symmetry_2
_geom_torsion_site_symmetry_3
_geom_torsion_site_symmetry_4
_geom_torsion_publ_flag
C1 C2 N3 C4 -77.4(3) . . . . ?
O1 C1 C2 N3 178.6(3) . . . . ?
O2 C1 C2 N3 -0.5(4) . . . . ?
C2 N3 C4 P5 172.8(2) . . . . ?
N3 C4 P5 O3 -72.6(2) . . . . ?
N3 C4 P5 O4 169.18(19) . . . . ?
N3 C4 P5 O5 39.7(2) . . . . ?
