#------------------------------------------------------------------------------
#$Date: 2023-03-04 19:18:00 +0100 (Sat 04 de Mar de 2023) $
#$Revision: 281446 $
#$URL: svn://www.crystallography.net/cod/cif/7/24/61/7246114.cif $
#------------------------------------------------------------------------------
#
# This file is available in the Crystallography Open Database (COD),
# http://www.crystallography.net/
#
# All data on this site have been placed in the public domain by the
# contributors.
#
data_7246114
loop_
_publ_author_name
'Wilson, Cameron J. G.'
'Wood, Peter A.'
'Parsons, Simon'
_publ_section_title
;
 Discerning subtle high-pressure phase transitions in glyphosate
;
_journal_issue                   6
_journal_name_full               CrystEngComm
_journal_page_first              988
_journal_page_last               997
_journal_paper_doi               10.1039/D2CE01616H
_journal_volume                  25
_journal_year                    2023
_chemical_formula_moiety         'C3 H8 N O5 P'
_chemical_formula_sum            'C3 H8 N O5 P'
_chemical_formula_weight         169.07
_chemical_name_common            Glyphosate
_chemical_name_systematic        N-(Phosphonomethyl)glycine
_space_group_crystal_system      monoclinic
_space_group_IT_number           14
_space_group_name_Hall           '-P 2ybc'
_space_group_name_H-M_alt        'P 1 21/c 1'
_atom_sites_solution_hydrogens   geom
_audit_creation_date             2022-03-01
_audit_creation_method
;
Olex2 1.3
(compiled 2020.11.12 svn.r5f609507 for OlexSys, GUI svn.r6408)
;
_audit_update_record
;
2022-11-30 deposited with the CCDC.	2023-01-11 downloaded from the CCDC.
;
_cell_angle_alpha                90
_cell_angle_beta                 111.625(13)
_cell_angle_gamma                90
_cell_formula_units_Z            4
_cell_length_a                   8.526(2)
_cell_length_b                   7.5312(9)
_cell_length_c                   9.2654(12)
_cell_measurement_reflns_used    1017
_cell_measurement_temperature    293.15
_cell_measurement_theta_max      18.98
_cell_measurement_theta_min      2.84
_cell_volume                     553.07(17)
_computing_cell_refinement       'SAINT V8.40B (?, 2016)'
_computing_data_reduction        'SAINT V8.40B (?, 2016)'
_computing_molecular_graphics    'Olex2 1.3 (Dolomanov et al., 2009)'
_computing_publication_material  'Olex2 1.3 (Dolomanov et al., 2009)'
_computing_structure_refinement  'XL  (Sheldrick, 2008)'
_diffrn_ambient_temperature      293.15
_diffrn_measured_fraction_theta_full 0.471
_diffrn_measured_fraction_theta_max 0.462
_diffrn_measurement_device_type  'Bruker AXS D8 Venture'
_diffrn_measurement_method       'φ and ω scans'
_diffrn_radiation_type           AgK\a
_diffrn_radiation_wavelength     0.56086
_diffrn_reflns_av_R_equivalents  0.0619
_diffrn_reflns_av_unetI/netI     0.0372
_diffrn_reflns_Laue_measured_fraction_full 0.471
_diffrn_reflns_Laue_measured_fraction_max 0.462
_diffrn_reflns_limit_h_max       7
_diffrn_reflns_limit_h_min       -7
_diffrn_reflns_limit_k_max       9
_diffrn_reflns_limit_k_min       -9
_diffrn_reflns_limit_l_max       11
_diffrn_reflns_limit_l_min       -11
_diffrn_reflns_number            4936
_diffrn_reflns_point_group_measured_fraction_full 0.471
_diffrn_reflns_point_group_measured_fraction_max 0.462
_diffrn_reflns_theta_full        19.665
_diffrn_reflns_theta_max         20.521
_diffrn_reflns_theta_min         2.835
_diffrn_source_current           0.9
_diffrn_source_power             0.045
_diffrn_source_voltage           50.0
_diffrn_standards_number         0
_exptl_absorpt_coefficient_mu    0.242
_exptl_absorpt_correction_T_max  0.7445
_exptl_absorpt_correction_T_min  0.6271
_exptl_absorpt_correction_type   multi-scan
_exptl_absorpt_process_details
;
SADABS-2016/2 (Bruker,2016/2) was used for absorption correction.
wR2(int) was 0.0679 before and 0.0568 after correction.
The Ratio of minimum to maximum transmission is 0.8423.
The λ/2 correction factor is Not present.
;
_exptl_crystal_colour            'clear colourless'
_exptl_crystal_colour_lustre     clear
_exptl_crystal_colour_primary    colourless
_exptl_crystal_density_diffrn    2.031
_exptl_crystal_description       plate
_exptl_crystal_F_000             352
_exptl_crystal_preparation       'Powder sample received from Sigma-Aldrich'
_exptl_crystal_recrystallization_method
'The material was recrystallised from water by slow evaporation'
_exptl_crystal_size_max          0.15
_exptl_crystal_size_mid          0.135
_exptl_crystal_size_min          0.05
_refine_diff_density_max         0.206
_refine_diff_density_min         -0.274
_refine_diff_density_rms         0.051
_refine_ls_extinction_method     none
_refine_ls_goodness_of_fit_ref   1.106
_refine_ls_hydrogen_treatment    constr
_refine_ls_matrix_type           full
_refine_ls_number_parameters     93
_refine_ls_number_reflns         526
_refine_ls_number_restraints     82
_refine_ls_restrained_S_all      1.053
_refine_ls_R_factor_all          0.0516
_refine_ls_R_factor_gt           0.0333
_refine_ls_shift/su_max          0.000
_refine_ls_shift/su_mean         0.000
_refine_ls_structure_factor_coef Fsqd
_refine_ls_weighting_details
'w=1/[σ²(Fo²)+(0.0298P)²+0.6061P] where P=(Fo²+2Fc²)/3'
_refine_ls_weighting_scheme      calc
_refine_ls_wR_factor_gt          0.0708
_refine_ls_wR_factor_ref         0.0797
_reflns_Friedel_coverage         0.000
_reflns_number_gt                420
_reflns_number_total             526
_reflns_threshold_expression     'I > 2σ(I)'
_cod_data_source_file            d2ce01616h2.cif
_cod_data_source_block           C3H8NO5P_Ag_4p813GPa
_cod_depositor_comments
'Adding full bibliography for 7246103--7246118.cif.'
_cod_original_cell_volume        553.06(17)
_cod_database_code               7246114
_shelx_shelxl_version_number     2019/1
_shelx_space_group_comment
;
The symmetry employed for this shelxl refinement is uniquely defined
by the following loop, which should always be used as a source of
symmetry information in preference to the above space-group names.
They are only intended as comments.
;
_shelx_estimated_absorpt_t_max   0.988
_shelx_estimated_absorpt_t_min   0.965
_olex2_refinement_description
;
1. Fixed Uiso
 At 1.2 times of:
  All C(H,H) groups, All N(H,H) groups
 At 1.5 times of:
  All O(H) groups
2. Restrained distances
 O1-C1
 1.31 with sigma of 0.01
 O2-C1
 1.204 with sigma of 0.01
 O2-O1
 2.25 with sigma of 0.03
 C2-C1
 1.512 with sigma of 0.01
 C2-O1
 2.305 with sigma of 0.03
 C2-O2
 2.399 with sigma of 0.03
 N3-C2
 1.481 with sigma of 0.01
 N3-C1
 2.481 with sigma of 0.03
 C4-N3
 1.488 with sigma of 0.01
 C4-C2
 2.486 with sigma of 0.03
 P5-C4
 1.815 with sigma of 0.01
 P5-N3
 2.742 with sigma of 0.03
 O3-P5
 1.574 with sigma of 0.01
 O3-C4
 2.676 with sigma of 0.03
 O4-P5
 1.498 with sigma of 0.01
 O4-C4
 2.659 with sigma of 0.03
 O4-O3
 2.544 with sigma of 0.03
 O5-P5
 1.5 with sigma of 0.01
 O5-C4
 2.704 with sigma of 0.03
 O5-O3
 2.456 with sigma of 0.03
 O5-O4
 2.58 with sigma of 0.03
3. Rigid body (RIGU) restrains
 All non-hydrogen atoms
 with sigma for 1-2 distances of 0.005 and sigma for 1-3 distances of 0.005
4.a Secondary CH2 refined with riding coordinates:
 C2(H2A,H2B), N3(H3A,H3B), C4(H4A,H4B)
4.b Idealised tetrahedral OH refined as rotating group:
 O1(H1), O3(H3)
;
_shelx_res_file
;
TITL ag_cw21015_0m in P2(1)/c
    ag_cw21015_0m.res
    created by SHELXL-2019/1 at 11:26:07 on 01-Mar-2022
CELL 0.56086 8.5259 7.5312 9.2654 90 111.6253 90
ZERR 4 0.002 0.0009 0.0012 0 0.0132 0
LATT 1
SYMM -X,0.5+Y,0.5-Z
SFAC C H N O P
DISP C 0.0013 0.0009 7.4
DISP H 0 0 0.7
DISP N 0.003 0.002 11.7
DISP O 0.0058 0.0036 18.2
DISP P 0.0671 0.0586 203.6
UNIT 12 32 4 20 4
DFIX 1.31 0.01 O1 C1
DFIX 1.204 0.01 O2 C1
DFIX 2.25 0.03 O2 O1
DFIX 1.512 0.01 C2 C1
DFIX 2.305 0.03 C2 O1
DFIX 2.399 0.03 C2 O2
DFIX 1.481 0.01 N3 C2
DFIX 2.481 0.03 N3 C1
DFIX 1.488 0.01 C4 N3
DFIX 2.486 0.03 C4 C2
DFIX 1.815 0.01 P5 C4
DFIX 2.742 0.03 P5 N3
DFIX 1.574 0.01 O3 P5
DFIX 2.676 0.03 O3 C4
DFIX 1.498 0.01 O4 P5
DFIX 2.659 0.03 O4 C4
DFIX 2.544 0.03 O4 O3
DFIX 1.5 0.01 O5 P5
DFIX 2.704 0.03 O5 C4
DFIX 2.456 0.03 O5 O3
DFIX 2.58 0.03 O5 O4
RIGU 0.005 0.005

L.S. 20
PLAN  5
SIZE 0.05 0.135 0.15
TEMP 20
CONF
MORE -1
BOND $H
fmap 2
ACTA
OMIT 0 1 6
OMIT -1 1 10
OMIT -7 6 7
OMIT 1 4 6
OMIT 2 5 4
OMIT 3 8 3
OMIT 0 5 9
OMIT 1 6 7
OMIT -1 0 2
REM <olex2.extras>
REM <HklSrc "%.\\ag_cw21015_0m.hkl">
REM </olex2.extras>

WGHT    0.029800    0.606100
FVAR       0.30976
C1    1    0.008588    0.616446    0.341155    11.00000    0.01229    0.01326 =
         0.01551    0.00312    0.00276    0.00610
O1    4   -0.155528    0.600650    0.269253    11.00000    0.01453    0.04543 =
         0.02222   -0.00421    0.00737    0.00035
AFIX 147
H1    2   -0.201622    0.606821    0.332695    11.00000   -1.50000
AFIX   0
O2    4    0.078987    0.678807    0.467492    11.00000    0.02795    0.03612 =
         0.02152   -0.00761    0.00844    0.00178
C2    1    0.096054    0.554920    0.236833    11.00000    0.01180    0.02345 =
         0.02486   -0.00499    0.00758   -0.00306
AFIX  23
H2A   2    0.069502    0.431020    0.210456    11.00000   -1.20000
H2B   2    0.056451    0.623360    0.141441    11.00000   -1.20000
AFIX   0
N3    3    0.278360    0.576094    0.313360    11.00000    0.01346    0.01641 =
         0.02079    0.00054    0.01126    0.00338
AFIX  23
H3A   2    0.329337    0.502849    0.269159    11.00000   -1.20000
H3B   2    0.308429    0.544222    0.412406    11.00000   -1.20000
AFIX   0
C4    1    0.338277    0.758020    0.306698    11.00000    0.01260    0.01641 =
         0.01298   -0.00335   -0.00229   -0.00430
AFIX  23
H4A   2    0.271021    0.841633    0.338946    11.00000   -1.20000
H4B   2    0.326081    0.786388    0.200976    11.00000   -1.20000
AFIX   0
P5    5    0.556793    0.776393    0.432724    11.00000    0.03793    0.01416 =
         0.01863    0.00102    0.01898   -0.00005
O3    4    0.545265    0.764030    0.597273    11.00000    0.03275    0.02050 =
         0.01667    0.00162    0.01370    0.00160
AFIX 147
H3    2    0.509645    0.858170    0.617577    11.00000   -1.50000
AFIX   0
O4    4    0.623164    0.952503    0.405766    11.00000    0.01805    0.01782 =
         0.02007    0.00187    0.00974   -0.00075
O5    4    0.655286    0.615324    0.419769    11.00000    0.03946    0.01907 =
         0.02326    0.00380    0.01765    0.00582
HKLF 4




REM  ag_cw21015_0m in P2(1)/c
REM wR2 = 0.0797, GooF = S = 1.106, Restrained GooF = 1.053 for all data
REM R1 = 0.0333 for 420 Fo > 4sig(Fo) and 0.0516 for all 526 data
REM 93 parameters refined using 82 restraints

END

WGHT      0.0298      0.6061

REM Highest difference peak  0.206,  deepest hole -0.274,  1-sigma level  0.051
Q1    1  -0.2202  0.7491  0.2250  11.00000  0.05    0.21
Q2    1   0.5944  0.7690  0.5412  11.00000  0.05    0.17
Q3    1  -0.1825  0.7284  0.4585  11.00000  0.05    0.16
Q4    1   0.5587  0.6555  0.6760  11.00000  0.05    0.16
Q5    1  -0.0475  0.7439  0.0881  11.00000  0.05    0.15
;
_shelx_res_checksum              51589
_olex2_exptl_crystal_mounting_method 'Merrill Bassett diamond anvil cell'
_olex2_submission_original_sample_id C3H8NO5P_Ag_4p813
_olex2_submission_special_instructions 'No special instructions were received'
loop_
_space_group_symop_operation_xyz
'x, y, z'
'-x, y+1/2, -z+1/2'
'-x, -y, -z'
'x, -y-1/2, z-1/2'
loop_
_atom_site_label
_atom_site_type_symbol
_atom_site_fract_x
_atom_site_fract_y
_atom_site_fract_z
_atom_site_U_iso_or_equiv
_atom_site_adp_type
_atom_site_occupancy
_atom_site_site_symmetry_order
_atom_site_calc_flag
_atom_site_refinement_flags_posn
_atom_site_refinement_flags_adp
_atom_site_refinement_flags_occupancy
_atom_site_disorder_assembly
_atom_site_disorder_group
C1 C 0.0086(11) 0.6164(5) 0.3412(6) 0.014(3) Uani 1 1 d D . . . .
O1 O -0.1555(9) 0.6007(5) 0.2693(5) 0.027(3) Uani 1 1 d D . . . .
H1 H -0.201622 0.606821 0.332695 0.041 Uiso 1 1 calc R U . . .
O2 O 0.0790(7) 0.6788(3) 0.4675(4) 0.029(2) Uani 1 1 d D . . . .
C2 C 0.0961(11) 0.5549(5) 0.2368(6) 0.020(3) Uani 1 1 d D . . . .
H2A H 0.069502 0.431020 0.210456 0.024 Uiso 1 1 calc R U . . .
H2B H 0.056451 0.623360 0.141441 0.024 Uiso 1 1 calc R U . . .
N3 N 0.2784(9) 0.5761(4) 0.3134(5) 0.015(3) Uani 1 1 d D . . . .
H3A H 0.329337 0.502849 0.269159 0.019 Uiso 1 1 calc R U . . .
H3B H 0.308429 0.544222 0.412406 0.019 Uiso 1 1 calc R U . . .
C4 C 0.3383(9) 0.7580(4) 0.3067(5) 0.016(2) Uani 1 1 d D . . . .
H4A H 0.271021 0.841633 0.338946 0.019 Uiso 1 1 calc R U . . .
H4B H 0.326081 0.786388 0.200976 0.019 Uiso 1 1 calc R U . . .
P5 P 0.5568(3) 0.77639(11) 0.43272(16) 0.0211(11) Uani 1 1 d D . . . .
O3 O 0.5453(7) 0.7640(3) 0.5973(3) 0.022(2) Uani 1 1 d D . . . .
H3 H 0.509645 0.858170 0.617577 0.033 Uiso 1 1 calc R U . . .
O4 O 0.6232(6) 0.9525(3) 0.4058(3) 0.018(2) Uani 1 1 d D . . . .
O5 O 0.6553(6) 0.6153(3) 0.4198(3) 0.026(2) Uani 1 1 d D . . . .
loop_
_atom_site_aniso_label
_atom_site_aniso_U_11
_atom_site_aniso_U_22
_atom_site_aniso_U_33
_atom_site_aniso_U_23
_atom_site_aniso_U_13
_atom_site_aniso_U_12
C1 0.012(9) 0.0133(15) 0.016(4) 0.0031(17) 0.003(5) 0.006(3)
O1 0.015(9) 0.0454(17) 0.022(3) -0.0042(17) 0.007(5) 0.000(3)
O2 0.028(8) 0.0361(15) 0.022(2) -0.0076(12) 0.008(4) 0.0018(19)
C2 0.012(10) 0.0235(17) 0.025(4) -0.0050(19) 0.008(5) -0.003(3)
N3 0.013(9) 0.0164(14) 0.021(3) 0.0005(14) 0.011(5) 0.003(2)
C4 0.013(8) 0.0164(17) 0.013(3) -0.0033(15) -0.002(4) -0.004(2)
P5 0.038(3) 0.0142(4) 0.0186(9) 0.0010(4) 0.0190(17) -0.0001(6)
O3 0.033(8) 0.0205(12) 0.017(2) 0.0016(10) 0.014(4) 0.0016(17)
O4 0.018(7) 0.0178(12) 0.020(2) 0.0019(10) 0.010(3) -0.0008(16)
O5 0.039(7) 0.0191(12) 0.023(2) 0.0038(11) 0.018(4) 0.0058(17)
loop_
_atom_type_symbol
_atom_type_description
_atom_type_scat_dispersion_real
_atom_type_scat_dispersion_imag
_atom_type_scat_source
C C 0.0013 0.0009 'International Tables Vol C Tables 4.2.6.8 and 6.1.1.4'
H H 0.0000 0.0000 'International Tables Vol C Tables 4.2.6.8 and 6.1.1.4'
N N 0.0030 0.0020 'International Tables Vol C Tables 4.2.6.8 and 6.1.1.4'
O O 0.0058 0.0036 'International Tables Vol C Tables 4.2.6.8 and 6.1.1.4'
P P 0.0671 0.0586 'International Tables Vol C Tables 4.2.6.8 and 6.1.1.4'
loop_
_geom_angle_atom_site_label_1
_geom_angle_atom_site_label_2
_geom_angle_atom_site_label_3
_geom_angle
_geom_angle_site_symmetry_1
_geom_angle_site_symmetry_3
_geom_angle_publ_flag
O1 C1 C2 109.6(5) . . ?
O2 C1 O1 126.0(6) . . ?
O2 C1 C2 124.3(7) . . ?
C1 O1 H1 109.5 . . ?
C1 C2 H2A 109.6 . . ?
C1 C2 H2B 109.6 . . ?
H2A C2 H2B 108.1 . . ?
N3 C2 C1 110.3(5) . . ?
N3 C2 H2A 109.6 . . ?
N3 C2 H2B 109.6 . . ?
C2 N3 H3A 108.8 . . ?
C2 N3 H3B 108.8 . . ?
C2 N3 C4 113.9(5) . . ?
H3A N3 H3B 107.7 . . ?
C4 N3 H3A 108.8 . . ?
C4 N3 H3B 108.8 . . ?
N3 C4 H4A 109.7 . . ?
N3 C4 H4B 109.7 . . ?
N3 C4 P5 109.6(4) . . ?
H4A C4 H4B 108.2 . . ?
P5 C4 H4A 109.7 . . ?
P5 C4 H4B 109.7 . . ?
O3 P5 C4 101.8(3) . . ?
O4 P5 C4 108.9(2) . . ?
O4 P5 O3 112.20(15) . . ?
O4 P5 O5 116.4(2) . . ?
O5 P5 C4 111.1(2) . . ?
O5 P5 O3 105.47(17) . . ?
P5 O3 H3 109.5 . . ?
loop_
_geom_bond_atom_site_label_1
_geom_bond_atom_site_label_2
_geom_bond_distance
_geom_bond_site_symmetry_2
_geom_bond_publ_flag
C1 O1 1.315(8) . ?
C1 O2 1.197(6) . ?
C1 C2 1.495(6) . ?
O1 H1 0.8200 . ?
C2 H2A 0.9700 . ?
C2 H2B 0.9700 . ?
C2 N3 1.460(7) . ?
N3 H3A 0.8900 . ?
N3 H3B 0.8900 . ?
N3 C4 1.471(5) . ?
C4 H4A 0.9700 . ?
C4 H4B 0.9700 . ?
C4 P5 1.803(7) . ?
P5 O3 1.566(2) . ?
P5 O4 1.499(3) . ?
P5 O5 1.505(3) . ?
O3 H3 0.8200 . ?
loop_
_geom_torsion_atom_site_label_1
_geom_torsion_atom_site_label_2
_geom_torsion_atom_site_label_3
_geom_torsion_atom_site_label_4
_geom_torsion
_geom_torsion_site_symmetry_1
_geom_torsion_site_symmetry_2
_geom_torsion_site_symmetry_3
_geom_torsion_site_symmetry_4
_geom_torsion_publ_flag
C1 C2 N3 C4 -80.7(4) . . . . ?
O1 C1 C2 N3 178.5(4) . . . . ?
O2 C1 C2 N3 2.0(6) . . . . ?
C2 N3 C4 P5 169.9(3) . . . . ?
N3 C4 P5 O3 -70.2(3) . . . . ?
N3 C4 P5 O4 171.1(2) . . . . ?
N3 C4 P5 O5 41.7(3) . . . . ?
