#------------------------------------------------------------------------------
#$Date: 2023-03-04 19:18:00 +0100 (Sat 04 de Mar de 2023) $
#$Revision: 281446 $
#$URL: svn://www.crystallography.net/cod/cif/7/24/61/7246118.cif $
#------------------------------------------------------------------------------
#
# This file is available in the Crystallography Open Database (COD),
# http://www.crystallography.net/
#
# All data on this site have been placed in the public domain by the
# contributors.
#
data_7246118
loop_
_publ_author_name
'Wilson, Cameron J. G.'
'Wood, Peter A.'
'Parsons, Simon'
_publ_section_title
;
 Discerning subtle high-pressure phase transitions in glyphosate
;
_journal_issue                   6
_journal_name_full               CrystEngComm
_journal_page_first              988
_journal_page_last               997
_journal_paper_doi               10.1039/D2CE01616H
_journal_volume                  25
_journal_year                    2023
_chemical_formula_moiety         'C3 H8 N O5 P'
_chemical_formula_sum            'C3 H8 N O5 P'
_chemical_formula_weight         169.07
_chemical_name_common            Glyphosate
_chemical_name_systematic        N-(Phosphonomethyl)glycine
_space_group_crystal_system      monoclinic
_space_group_IT_number           14
_space_group_name_Hall           '-P 2ybc'
_space_group_name_H-M_alt        'P 1 21/c 1'
_atom_sites_solution_hydrogens   geom
_audit_creation_date             2022-03-01
_audit_creation_method
;
Olex2 1.3
(compiled 2020.11.12 svn.r5f609507 for OlexSys, GUI svn.r6408)
;
_audit_update_record
;
2022-11-30 deposited with the CCDC.	2023-01-11 downloaded from the CCDC.
;
_cell_angle_alpha                90
_cell_angle_beta                 109.454(4)
_cell_angle_gamma                90
_cell_formula_units_Z            4
_cell_length_a                   8.6185(7)
_cell_length_b                   7.7238(3)
_cell_length_c                   9.4573(4)
_cell_measurement_reflns_used    2122
_cell_measurement_temperature    293.15
_cell_measurement_theta_max      20.21
_cell_measurement_theta_min      2.75
_cell_volume                     593.61(6)
_computing_cell_refinement       'SAINT V8.40B (?, 2016)'
_computing_data_reduction        'SAINT V8.40B (?, 2016)'
_computing_molecular_graphics    'Olex2 1.3 (Dolomanov et al., 2009)'
_computing_publication_material  'Olex2 1.3 (Dolomanov et al., 2009)'
_computing_structure_refinement  'XL  (Sheldrick, 2008)'
_diffrn_ambient_temperature      293.15
_diffrn_measured_fraction_theta_full 0.390
_diffrn_measured_fraction_theta_max 0.382
_diffrn_measurement_device_type  'Bruker AXS D8 Venture'
_diffrn_measurement_method       'φ and ω scans'
_diffrn_radiation_type           AgK\a
_diffrn_radiation_wavelength     0.56086
_diffrn_reflns_av_R_equivalents  0.0378
_diffrn_reflns_av_unetI/netI     0.0191
_diffrn_reflns_Laue_measured_fraction_full 0.390
_diffrn_reflns_Laue_measured_fraction_max 0.382
_diffrn_reflns_limit_h_max       5
_diffrn_reflns_limit_h_min       -5
_diffrn_reflns_limit_k_max       9
_diffrn_reflns_limit_k_min       -9
_diffrn_reflns_limit_l_max       11
_diffrn_reflns_limit_l_min       -11
_diffrn_reflns_number            5389
_diffrn_reflns_point_group_measured_fraction_full 0.390
_diffrn_reflns_point_group_measured_fraction_max 0.382
_diffrn_reflns_theta_full        19.665
_diffrn_reflns_theta_max         20.601
_diffrn_reflns_theta_min         2.753
_diffrn_source_current           0.9
_diffrn_source_power             0.045
_diffrn_source_voltage           50.0
_diffrn_standards_number         0
_exptl_absorpt_coefficient_mu    0.225
_exptl_absorpt_correction_T_max  0.7445
_exptl_absorpt_correction_T_min  0.6363
_exptl_absorpt_correction_type   multi-scan
_exptl_absorpt_process_details
;
SADABS-2016/2 (Bruker,2016/2) was used for absorption correction.
wR2(int) was 0.0580 before and 0.0473 after correction.
The Ratio of minimum to maximum transmission is 0.8547.
The λ/2 correction factor is Not present.
;
_exptl_crystal_colour            'clear colourless'
_exptl_crystal_colour_lustre     clear
_exptl_crystal_colour_primary    colourless
_exptl_crystal_density_diffrn    1.892
_exptl_crystal_description       plate
_exptl_crystal_F_000             352
_exptl_crystal_preparation       'Powder sample received from Sigma-Aldrich'
_exptl_crystal_recrystallization_method
'The material was recrystallised from water by slow evaporation'
_exptl_crystal_size_max          0.19
_exptl_crystal_size_mid          0.17
_exptl_crystal_size_min          0.05
_refine_diff_density_max         0.111
_refine_diff_density_min         -0.144
_refine_diff_density_rms         0.031
_refine_ls_extinction_method     none
_refine_ls_goodness_of_fit_ref   1.097
_refine_ls_hydrogen_treatment    constr
_refine_ls_matrix_type           full
_refine_ls_number_parameters     93
_refine_ls_number_reflns         468
_refine_ls_number_restraints     82
_refine_ls_restrained_S_all      1.021
_refine_ls_R_factor_all          0.0310
_refine_ls_R_factor_gt           0.0242
_refine_ls_shift/su_max          0.000
_refine_ls_shift/su_mean         0.000
_refine_ls_structure_factor_coef Fsqd
_refine_ls_weighting_details
'w=1/[σ²(Fo²)+(0.0342P)²+0.3677P] where P=(Fo²+2Fc²)/3'
_refine_ls_weighting_scheme      calc
_refine_ls_wR_factor_gt          0.0626
_refine_ls_wR_factor_ref         0.0658
_reflns_Friedel_coverage         0.000
_reflns_number_gt                411
_reflns_number_total             468
_reflns_threshold_expression     'I > 2σ(I)'
_cod_data_source_file            d2ce01616h2.cif
_cod_data_source_block           C3H8NO5P_Ag_2p244GPa
_cod_depositor_comments
'Adding full bibliography for 7246103--7246118.cif.'
_cod_database_code               7246118
_shelx_shelxl_version_number     2019/1
_shelx_space_group_comment
;
The symmetry employed for this shelxl refinement is uniquely defined
by the following loop, which should always be used as a source of
symmetry information in preference to the above space-group names.
They are only intended as comments.
;
_shelx_estimated_absorpt_t_max   0.989
_shelx_estimated_absorpt_t_min   0.958
_olex2_refinement_description
;
1. Fixed Uiso
 At 1.2 times of:
  All C(H,H) groups, All N(H,H) groups
 At 1.5 times of:
  All O(H) groups
2. Restrained distances
 O1-C1
 1.31 with sigma of 0.01
 O2-C1
 1.204 with sigma of 0.01
 O2-O1
 2.25 with sigma of 0.03
 C2-C1
 1.512 with sigma of 0.01
 C2-O1
 2.305 with sigma of 0.03
 C2-O2
 2.399 with sigma of 0.03
 N3-C2
 1.481 with sigma of 0.01
 N3-C1
 2.481 with sigma of 0.03
 C4-N3
 1.488 with sigma of 0.01
 C4-C2
 2.486 with sigma of 0.03
 P5-C4
 1.815 with sigma of 0.01
 P5-N3
 2.742 with sigma of 0.03
 O3-P5
 1.574 with sigma of 0.01
 O3-C4
 2.676 with sigma of 0.03
 O4-P5
 1.498 with sigma of 0.01
 O4-C4
 2.659 with sigma of 0.03
 O4-O3
 2.544 with sigma of 0.03
 O5-P5
 1.5 with sigma of 0.01
 O5-C4
 2.704 with sigma of 0.03
 O5-O3
 2.456 with sigma of 0.03
 O5-O4
 2.58 with sigma of 0.03
3. Rigid body (RIGU) restrains
 All non-hydrogen atoms
 with sigma for 1-2 distances of 0.005 and sigma for 1-3 distances of 0.005
4.a Secondary CH2 refined with riding coordinates:
 C2(H2A,H2B), N3(H3A,H3B), C4(H4A,H4B)
4.b Idealised tetrahedral OH refined as rotating group:
 O1(H1), O3(H3)
;
_shelx_res_file
;
TITL ag_cw22031_0m in P2(1)/c
    ag_cw22031_0m.res
    created by SHELXL-2019/1 at 14:33:31 on 01-Mar-2022
CELL 0.56086 8.6185 7.7238 9.4573 90 109.454 90
ZERR 4 0.0007 0.0003 0.0004 0 0.0038 0
LATT 1
SYMM -X,0.5+Y,0.5-Z
SFAC C H N O P
DISP C 0.0013 0.0009 7.4
DISP H 0 0 0.7
DISP N 0.003 0.002 11.7
DISP O 0.0058 0.0036 18.2
DISP P 0.0671 0.0586 203.6
UNIT 12 32 4 20 4
DFIX 1.31 0.01 O1 C1
DFIX 1.204 0.01 O2 C1
DFIX 2.25 0.03 O2 O1
DFIX 1.512 0.01 C2 C1
DFIX 2.305 0.03 C2 O1
DFIX 2.399 0.03 C2 O2
DFIX 1.481 0.01 N3 C2
DFIX 2.481 0.03 N3 C1
DFIX 1.488 0.01 C4 N3
DFIX 2.486 0.03 C4 C2
DFIX 1.815 0.01 P5 C4
DFIX 2.742 0.03 P5 N3
DFIX 1.574 0.01 O3 P5
DFIX 2.676 0.03 O3 C4
DFIX 1.498 0.01 O4 P5
DFIX 2.659 0.03 O4 C4
DFIX 2.544 0.03 O4 O3
DFIX 1.5 0.01 O5 P5
DFIX 2.704 0.03 O5 C4
DFIX 2.456 0.03 O5 O3
DFIX 2.58 0.03 O5 O4
RIGU 0.005 0.005

L.S. 40
PLAN  5
SIZE 0.05 0.17 0.19
TEMP 20
CONF
MORE -1
BOND $H
fmap 2 53
ACTA
REM <olex2.extras>
REM <HklSrc "%.\\ag_cw22031_0m.hkl">
REM </olex2.extras>

WGHT    0.034200    0.367700
FVAR       0.55368
C1    1    0.010868    0.614503    0.345254    11.00000    0.01310    0.01382 =
         0.02199    0.00224    0.00702   -0.00315
O1    4   -0.144763    0.593932    0.275526    11.00000    0.01443    0.03557 =
         0.02625   -0.00500    0.00931   -0.00161
AFIX 147
H1    2   -0.195776    0.613543    0.333117    11.00000   -1.50000
AFIX   0
O2    4    0.074433    0.679808    0.467898    11.00000    0.02709    0.03313 =
         0.02120   -0.00941    0.00656   -0.00092
C2    1    0.107871    0.548357    0.250881    11.00000    0.01252    0.02430 =
         0.02109   -0.00743    0.00287   -0.00534
AFIX  23
H2A   2    0.085114    0.426088    0.231090    11.00000   -1.20000
H2B   2    0.073079    0.608603    0.155438    11.00000   -1.20000
AFIX   0
N3    3    0.286034    0.572987    0.324611    11.00000    0.01896    0.01355 =
         0.01846   -0.00012    0.00983    0.00302
AFIX  23
H3A   2    0.339413    0.502441    0.282223    11.00000   -1.20000
H3B   2    0.312487    0.542752    0.420559    11.00000   -1.20000
AFIX   0
C4    1    0.342803    0.753170    0.316478    11.00000    0.00366    0.01546 =
         0.01597    0.00188    0.00244    0.00105
AFIX  23
H4A   2    0.276211    0.832793    0.351192    11.00000   -1.20000
H4B   2    0.329289    0.781755    0.213180    11.00000   -1.20000
AFIX   0
P5    5    0.555345    0.776791    0.429815    11.00000    0.02512    0.01335 =
         0.01415    0.00127    0.00940    0.00005
O3    4    0.547494    0.771116    0.593210    11.00000    0.02445    0.01957 =
         0.01556    0.00153    0.01063    0.00265
AFIX 147
H3    2    0.493625    0.853599    0.605796    11.00000   -1.50000
AFIX   0
O4    4    0.613938    0.948902    0.393782    11.00000    0.01448    0.01704 =
         0.01988    0.00061    0.00860   -0.00263
O5    4    0.651688    0.619161    0.415376    11.00000    0.02265    0.01781 =
         0.02177    0.00338    0.01147    0.00551
HKLF 4




REM  ag_cw22031_0m in P2(1)/c
REM wR2 = 0.0658, GooF = S = 1.097, Restrained GooF = 1.021 for all data
REM R1 = 0.0242 for 411 Fo > 4sig(Fo) and 0.0310 for all 468 data
REM 93 parameters refined using 82 restraints

END

WGHT      0.0342      0.3677

REM Highest difference peak  0.111,  deepest hole -0.144,  1-sigma level  0.031
Q1    1   0.1656  0.5205  0.1564  11.00000  0.05    0.11
Q2    1   0.4346  0.6644  0.3623  11.00000  0.05    0.11
Q3    1   0.5054  0.7634  0.4987  11.00000  0.05    0.10
Q4    1   0.5545  0.7794  0.5230  11.00000  0.05    0.10
Q5    1   0.5438  0.6967  0.3725  11.00000  0.05    0.10
;
_shelx_res_checksum              52305
_olex2_exptl_crystal_mounting_method 'Merrill Bassett diamond anvil cell'
_olex2_submission_original_sample_id ag_cw22031_0m
_olex2_submission_special_instructions 'No special instructions were received'
loop_
_space_group_symop_operation_xyz
'x, y, z'
'-x, y+1/2, -z+1/2'
'-x, -y, -z'
'x, -y-1/2, z-1/2'
loop_
_atom_site_label
_atom_site_type_symbol
_atom_site_fract_x
_atom_site_fract_y
_atom_site_fract_z
_atom_site_U_iso_or_equiv
_atom_site_adp_type
_atom_site_occupancy
_atom_site_site_symmetry_order
_atom_site_calc_flag
_atom_site_refinement_flags_posn
_atom_site_refinement_flags_adp
_atom_site_refinement_flags_occupancy
_atom_site_disorder_assembly
_atom_site_disorder_group
C1 C 0.0109(9) 0.6145(3) 0.3453(4) 0.016(3) Uani 1 1 d D . . . .
O1 O -0.1448(8) 0.5939(3) 0.2755(3) 0.025(3) Uani 1 1 d D . . . .
H1 H -0.195776 0.613543 0.333117 0.037 Uiso 1 1 calc R U . . .
O2 O 0.0744(6) 0.6798(2) 0.4679(2) 0.028(3) Uani 1 1 d D . . . .
C2 C 0.1079(9) 0.5484(4) 0.2509(4) 0.020(3) Uani 1 1 d D . . . .
H2A H 0.085114 0.426088 0.231090 0.024 Uiso 1 1 calc R U . . .
H2B H 0.073079 0.608603 0.155438 0.024 Uiso 1 1 calc R U . . .
N3 N 0.2860(8) 0.5730(3) 0.3246(3) 0.016(3) Uani 1 1 d D . . . .
H3A H 0.339413 0.502441 0.282223 0.019 Uiso 1 1 calc R U . . .
H3B H 0.312487 0.542752 0.420559 0.019 Uiso 1 1 calc R U . . .
C4 C 0.3428(7) 0.7532(3) 0.3165(3) 0.012(3) Uani 1 1 d D . . . .
H4A H 0.276211 0.832793 0.351192 0.014 Uiso 1 1 calc R U . . .
H4B H 0.329289 0.781755 0.213180 0.014 Uiso 1 1 calc R U . . .
P5 P 0.5553(2) 0.77679(7) 0.42982(8) 0.0168(11) Uani 1 1 d D . . . .
O3 O 0.5475(6) 0.7711(2) 0.5932(2) 0.019(2) Uani 1 1 d D . . . .
H3 H 0.493625 0.853599 0.605796 0.028 Uiso 1 1 calc R U . . .
O4 O 0.6139(5) 0.9489(2) 0.39378(19) 0.016(2) Uani 1 1 d D . . . .
O5 O 0.6517(6) 0.6192(2) 0.4154(2) 0.020(2) Uani 1 1 d D . . . .
loop_
_atom_site_aniso_label
_atom_site_aniso_U_11
_atom_site_aniso_U_22
_atom_site_aniso_U_33
_atom_site_aniso_U_23
_atom_site_aniso_U_13
_atom_site_aniso_U_12
C1 0.013(9) 0.0138(10) 0.0220(18) 0.0022(12) 0.007(3) -0.003(2)
O1 0.014(9) 0.0356(11) 0.0263(14) -0.0050(11) 0.009(3) -0.002(2)
O2 0.027(8) 0.0331(10) 0.0212(10) -0.0094(8) 0.007(2) -0.0009(16)
C2 0.013(9) 0.0243(13) 0.0211(18) -0.0074(12) 0.003(3) -0.005(2)
N3 0.019(9) 0.0135(10) 0.0185(14) -0.0001(9) 0.010(3) 0.0030(19)
C4 0.004(8) 0.0155(11) 0.0160(15) 0.0019(8) 0.002(3) 0.0011(18)
P5 0.025(3) 0.0133(3) 0.0142(4) 0.0013(2) 0.0094(10) 0.0000(5)
O3 0.024(8) 0.0196(8) 0.0156(10) 0.0015(6) 0.011(2) 0.0026(14)
O4 0.014(8) 0.0170(8) 0.0199(10) 0.0006(6) 0.009(2) -0.0026(13)
O5 0.023(8) 0.0178(8) 0.0218(10) 0.0034(7) 0.011(2) 0.0055(14)
loop_
_atom_type_symbol
_atom_type_description
_atom_type_scat_dispersion_real
_atom_type_scat_dispersion_imag
_atom_type_scat_source
C C 0.0013 0.0009 'International Tables Vol C Tables 4.2.6.8 and 6.1.1.4'
H H 0.0000 0.0000 'International Tables Vol C Tables 4.2.6.8 and 6.1.1.4'
N N 0.0030 0.0020 'International Tables Vol C Tables 4.2.6.8 and 6.1.1.4'
O O 0.0058 0.0036 'International Tables Vol C Tables 4.2.6.8 and 6.1.1.4'
P P 0.0671 0.0586 'International Tables Vol C Tables 4.2.6.8 and 6.1.1.4'
loop_
_geom_angle_atom_site_label_1
_geom_angle_atom_site_label_2
_geom_angle_atom_site_label_3
_geom_angle
_geom_angle_site_symmetry_1
_geom_angle_site_symmetry_3
_geom_angle_publ_flag
O1 C1 C2 110.1(4) . . ?
O2 C1 O1 126.8(6) . . ?
O2 C1 C2 123.1(6) . . ?
C1 O1 H1 109.5 . . ?
C1 C2 H2A 109.2 . . ?
C1 C2 H2B 109.2 . . ?
H2A C2 H2B 107.9 . . ?
N3 C2 C1 112.0(4) . . ?
N3 C2 H2A 109.2 . . ?
N3 C2 H2B 109.2 . . ?
C2 N3 H3A 108.8 . . ?
C2 N3 H3B 108.8 . . ?
C2 N3 C4 114.0(4) . . ?
H3A N3 H3B 107.7 . . ?
C4 N3 H3A 108.8 . . ?
C4 N3 H3B 108.8 . . ?
N3 C4 H4A 109.5 . . ?
N3 C4 H4B 109.5 . . ?
N3 C4 P5 110.6(3) . . ?
H4A C4 H4B 108.1 . . ?
P5 C4 H4A 109.5 . . ?
P5 C4 H4B 109.5 . . ?
O3 P5 C4 102.4(2) . . ?
O4 P5 C4 107.92(17) . . ?
O4 P5 O3 112.10(10) . . ?
O4 P5 O5 117.3(2) . . ?
O5 P5 C4 110.32(17) . . ?
O5 P5 O3 105.82(13) . . ?
P5 O3 H3 109.5 . . ?
loop_
_geom_bond_atom_site_label_1
_geom_bond_atom_site_label_2
_geom_bond_distance
_geom_bond_site_symmetry_2
_geom_bond_publ_flag
C1 O1 1.292(8) . ?
C1 O2 1.215(4) . ?
C1 C2 1.501(7) . ?
O1 H1 0.8200 . ?
C2 H2A 0.9700 . ?
C2 H2B 0.9700 . ?
C2 N3 1.472(7) . ?
N3 H3A 0.8900 . ?
N3 H3B 0.8900 . ?
N3 C4 1.486(4) . ?
C4 H4A 0.9700 . ?
C4 H4B 0.9700 . ?
C4 P5 1.797(6) . ?
P5 O3 1.5697(18) . ?
P5 O4 1.501(2) . ?
P5 O5 1.505(3) . ?
O3 H3 0.8200 . ?
loop_
_geom_torsion_atom_site_label_1
_geom_torsion_atom_site_label_2
_geom_torsion_atom_site_label_3
_geom_torsion_atom_site_label_4
_geom_torsion
_geom_torsion_site_symmetry_1
_geom_torsion_site_symmetry_2
_geom_torsion_site_symmetry_3
_geom_torsion_site_symmetry_4
_geom_torsion_publ_flag
C1 C2 N3 C4 -77.6(3) . . . . ?
O1 C1 C2 N3 178.7(3) . . . . ?
O2 C1 C2 N3 -0.2(4) . . . . ?
C2 N3 C4 P5 172.4(2) . . . . ?
N3 C4 P5 O3 -72.5(2) . . . . ?
N3 C4 P5 O4 169.1(2) . . . . ?
N3 C4 P5 O5 39.8(3) . . . . ?
