#------------------------------------------------------------------------------
#$Date: 2025-10-06 10:30:27 +0200 (Mon 06 de Oct de 2025) $
#$Revision: 302581 $
#$URL: svn://www.crystallography.net/cod/cif/7/25/07/7250723.cif $
#------------------------------------------------------------------------------
#
# This file is available in the Crystallography Open Database (COD),
# http://www.crystallography.net/
#
# All data on this site have been placed in the public domain by the
# contributors.
#
data_7250723
loop_
_publ_author_name
'Guńka, Piotr A.'
'Milos, Sofija'
'Ende, Martin'
'Alabarse, Frederico'
'Miletich, Ronald'
'Dziubek, Kamil F.'
_publ_section_title
;
 Compressing arsenic⋯halogen secondary bonds: a high-pressure
 structural study of arsenic(iii) oxide intercalates with ammonium halides
;
_journal_issue                   36
_journal_name_full               CrystEngComm
_journal_page_first              5983
_journal_page_last               5988
_journal_paper_doi               10.1039/D5CE00593K
_journal_volume                  27
_journal_year                    2025
_chemical_formula_moiety         '2(As2 O3), Br, H4 N'
_chemical_formula_sum            'As4 Br H4 N O6'
_chemical_formula_weight         493.63
_space_group_crystal_system      hexagonal
_space_group_IT_number           191
_space_group_name_Hall           '-P 6 2'
_space_group_name_H-M_alt        'P 6/m m m'
_atom_sites_solution_hydrogens   difmap
_atom_sites_solution_primary     direct
_audit_creation_date             2024-01-16
_audit_creation_method
;
Olex2 1.5
(compiled 2023.08.24 svn.re1ec141 for OlexSys, GUI svn.r6817)
;
_audit_update_record
;
2025-04-03 deposited with the CCDC.	2025-07-29 downloaded from the CCDC.
;
_cell_angle_alpha                90
_cell_angle_beta                 90
_cell_angle_gamma                120
_cell_formula_units_Z            1
_cell_length_a                   5.2685(3)
_cell_length_b                   5.2685(3)
_cell_length_c                   9.020(8)
_cell_measurement_pressure       5.6e+05(5)
_cell_measurement_reflns_used    313
_cell_measurement_temperature    293(2)
_cell_measurement_theta_max      25.6370
_cell_measurement_theta_min      3.1150
_cell_volume                     216.83(19)
_computing_cell_refinement       'CrysAlisPro 1.171.43.104a (Rigaku OD, 2023)'
_computing_data_collection
'CrysAlisPro 1.171.43.104a (Rigaku OD, 2023) (IMPORT)'
_computing_data_reduction        'CrysAlisPro 1.171.43.104a (Rigaku OD, 2023)'
_computing_molecular_graphics    'Olex2 1.5 (Dolomanov et al., 2009)'
_computing_publication_material  'Olex2 1.5 (Dolomanov et al., 2009)'
_computing_structure_refinement  'SHELXL 2018/3 (Sheldrick, 2015)'
_computing_structure_solution    'SHELXS  (Sheldrick, 2008)'
_diffrn_ambient_pressure         5.6e+05(5)
_diffrn_ambient_temperature      293(2)
_diffrn_detector                 'Hybrid Pixel Array Detector'
_diffrn_detector_area_resol_mean 5.8140
_diffrn_measured_fraction_theta_full 0.395
_diffrn_measured_fraction_theta_max 0.278
_diffrn_measurement_details
;
List of Runs (angles in degrees, time in seconds):

  # Type    Start    End  Width  tₑₓₚ   ω     θ     κ     φ   Frames
#--------------------------------------------------------------------------
  1  φ    -37.00  37.00   0.50    0.25   0.00   0.00   0.00    --   148
;
_diffrn_measurement_device       'abstract diffractometer'
_diffrn_measurement_device_type
'esperanto-CrysAlisPro-abstract goniometer imported esperanto images'
_diffrn_measurement_method       'φ scans'
_diffrn_orient_matrix_type
'CrysAlisPro convention (1999,Acta A55,543-557)'
_diffrn_orient_matrix_UB_11      0.0017092000
_diffrn_orient_matrix_UB_12      -0.0077367000
_diffrn_orient_matrix_UB_13      0.0545908000
_diffrn_orient_matrix_UB_21      -0.1087543000
_diffrn_orient_matrix_UB_22      -0.0573085000
_diffrn_orient_matrix_UB_23      0.0006836000
_diffrn_orient_matrix_UB_31      0.0032491000
_diffrn_orient_matrix_UB_32      -0.0921889000
_diffrn_orient_matrix_UB_33      -0.0049863000
_diffrn_radiation_monochromator  synchrotron
_diffrn_radiation_probe          x-ray
_diffrn_radiation_type           synchrotron
_diffrn_radiation_wavelength     0.49585
_diffrn_reflns_av_R_equivalents  0.0345
_diffrn_reflns_av_unetI/netI     0.0339
_diffrn_reflns_Laue_measured_fraction_full 0.395
_diffrn_reflns_Laue_measured_fraction_max 0.278
_diffrn_reflns_limit_h_max       8
_diffrn_reflns_limit_h_min       -9
_diffrn_reflns_limit_k_max       6
_diffrn_reflns_limit_k_min       -6
_diffrn_reflns_limit_l_max       4
_diffrn_reflns_limit_l_min       -3
_diffrn_reflns_number            486
_diffrn_reflns_point_group_measured_fraction_full 0.395
_diffrn_reflns_point_group_measured_fraction_max 0.278
_diffrn_reflns_theta_full        17.308
_diffrn_reflns_theta_max         25.606
_diffrn_reflns_theta_min         3.115
_diffrn_source                   synchrotron
_exptl_absorpt_coefficient_mu    7.510
_exptl_absorpt_correction_T_max  1.00000
_exptl_absorpt_correction_T_min  0.30271
_exptl_absorpt_correction_type   multi-scan
_exptl_absorpt_process_details
;
CrysAlisPro 1.171.43.104a (Rigaku Oxford Diffraction, 2023)
Empirical absorption correction using spherical harmonics,
implemented in SCALE3 ABSPACK scaling algorithm.
;
_exptl_crystal_colour            colourless
_exptl_crystal_colour_primary    colourless
_exptl_crystal_density_diffrn    3.780
_exptl_crystal_description       plate
_exptl_crystal_F_000             226
_exptl_crystal_size_max          0.082
_exptl_crystal_size_mid          0.06
_exptl_crystal_size_min          0.015
_refine_diff_density_max         0.377
_refine_diff_density_min         -0.348
_refine_diff_density_rms         0.086
_refine_ls_extinction_method     none
_refine_ls_goodness_of_fit_ref   1.287
_refine_ls_hydrogen_treatment    constr
_refine_ls_matrix_type           full
_refine_ls_number_parameters     11
_refine_ls_number_reflns         82
_refine_ls_number_restraints     0
_refine_ls_restrained_S_all      1.287
_refine_ls_R_factor_all          0.0212
_refine_ls_R_factor_gt           0.0200
_refine_ls_shift/su_max          0.000
_refine_ls_shift/su_mean         0.000
_refine_ls_structure_factor_coef Fsqd
_refine_ls_weighting_details
'w=1/[σ²(Fo²)+(0.0132P)²+0.3400P] where P=(Fo²+2Fc²)/3'
_refine_ls_weighting_scheme      calc
_refine_ls_wR_factor_gt          0.0550
_refine_ls_wR_factor_ref         0.0553
_reflns_Friedel_coverage         0.000
_reflns_number_gt                74
_reflns_number_total             82
_reflns_threshold_expression     'I > 2σ(I)'
_cod_data_source_file            d5ce00593k2.cif
_cod_data_source_block           pnh4br_p1
_cod_depositor_comments
'Adding full bibliography for 7250713--7250749.cif.'
_cod_original_cell_volume        216.8(2)
_cod_original_formula_sum        'As4 H4 Br N O6'
_cod_database_code               7250723
_shelx_shelxl_version_number     2018/3
_chemical_oxdiff_formula         As4BrH4NO6
_shelx_space_group_comment
;
The symmetry employed for this shelxl refinement is uniquely defined
by the following loop, which should always be used as a source of
symmetry information in preference to the above space-group names.
They are only intended as comments.
;
_shelx_estimated_absorpt_t_max   0.896
_shelx_estimated_absorpt_t_min   0.578
_diffrn_orient_matrix_axis[1]    matrixX
_diffrn_orient_matrix_axis[2]    matrixY
_diffrn_orient_matrix_axis[3]    matrixZ
_olex2_refinement_description
;
1. Fixed Uiso
 At 1.5 times of:
  All N(H,H) groups
2. Others
 Fixed Sof: H1A(0.041667) H1B(0.125)
 Fixed X: H1A(0) H1B(0)
 Fixed Y: H1A(0) H1B(0.161242)
 Fixed Z: H1A(0.09989) H1B(-0.0333)
;
_shelx_res_file
;
TITL PNH4Br_p1 in P6/mmm #191
    pnh4br_p1.res
    created by SHELXL-2018/3 at 14:38:17 on 16-Jan-2024
CELL 0.49585 5.268456 5.268456 9.020163 90 90 120
ZERR 1 0.000273 0.000273 0.008225 0 0 0
LATT 1
SYMM -Y+X,+X,+Z
SYMM -Y,+X-Y,+Z
SYMM -X,-Y,+Z
SYMM +Y-X,-X,+Z
SYMM +Y,-X+Y,+Z
SYMM -Y+X,-Y,-Z
SYMM -X,-X+Y,-Z
SYMM +Y,+X,-Z
SYMM -Y,-X,-Z
SYMM +Y-X,+Y,-Z
SYMM +X,+X-Y,-Z
SFAC H N O As Br
DISP As 0.3052 1.0753 3083.3928
DISP Br 0.2652 1.3346 3855.0668
DISP H -0 0 0.6076
DISP N 0.002 0.0014 9.3186
DISP O 0.0042 0.0027 13.9362
UNIT 4 1 6 4 1

L.S. 10
PLAN  5
SIZE 0.015 0.06 0.082
CONF
BOND
MORE -1
BOND $H
fmap 2 53
acta
REM <olex2.extras>
REM <HklSrc "%./PNH4Br_p1.hkl">
REM </olex2.extras>

WGHT    0.013200    0.340000
FVAR       7.77687
BR1   5    0.000000    0.000000    0.500000    10.04167    0.01941    0.01941 =
         0.08274    0.00000    0.00000    0.00970
AS1   4    0.333333    0.666667    0.296348    10.16667    0.00961    0.00961 =
         0.06109    0.00000    0.00000    0.00481
O1    3    0.000000    0.500000    0.186916    10.25000    0.00729    0.01564 =
         0.07597    0.00000    0.00000    0.00365
N1    2    0.000000    0.000000    0.000000    10.04167    0.02208
H1A   1   10.000000   10.000000   10.099890    10.04167   -1.50000
H1B   1   10.000000   10.161242    9.966700    10.12500   -1.50000
HKLF 4




REM  PNH4Br_p1 in P6/mmm #191
REM wR2 = 0.0553, GooF = S = 1.287, Restrained GooF = 1.287 for all data
REM R1 = 0.0200 for 74 Fo > 4sig(Fo) and 0.0212 for all 82 data
REM 11 parameters refined using 0 restraints

END

WGHT      0.0132      0.3400

REM Highest difference peak  0.377,  deepest hole -0.348,  1-sigma level  0.086
Q1    1   0.4280  0.5720  0.3237  10.50000  0.05    0.38
Q2    1   0.0000  0.0000  0.2007  10.08333  0.05    0.31
Q3    1   0.1854  0.6777  0.5000  10.50000  0.05    0.27
Q4    1   0.0000  0.3648  0.0000  10.25000  0.05    0.26
Q5    1   0.1789  0.5895  0.0000  10.25000  0.05    0.26
;
_shelx_res_checksum              27543
_olex2_submission_special_instructions 'No special instructions were received'
_oxdiff_exptl_absorpt_empirical_details
;
Empirical correction (ABSPACK) includes:
- Absorption correction using spherical harmonics
- Frame scaling
- Detector area scaling
;
_oxdiff_exptl_absorpt_empirical_full_max 2.489
_oxdiff_exptl_absorpt_empirical_full_min 0.624
loop_
_space_group_symop_operation_xyz
'x, y, z'
'x-y, x, z'
'-y, x-y, z'
'-x, -y, z'
'-x+y, -x, z'
'y, -x+y, z'
'x-y, -y, -z'
'-x, -x+y, -z'
'y, x, -z'
'-y, -x, -z'
'-x+y, y, -z'
'x, x-y, -z'
'-x, -y, -z'
'-x+y, -x, -z'
'y, -x+y, -z'
'x, y, -z'
'x-y, x, -z'
'-y, x-y, -z'
'-x+y, y, z'
'x, x-y, z'
'-y, -x, z'
'y, x, z'
'x-y, -y, z'
'-x, -x+y, z'
loop_
_atom_site_label
_atom_site_type_symbol
_atom_site_fract_x
_atom_site_fract_y
_atom_site_fract_z
_atom_site_U_iso_or_equiv
_atom_site_adp_type
_atom_site_occupancy
_atom_site_site_symmetry_order
_atom_site_calc_flag
_atom_site_refinement_flags_posn
_atom_site_refinement_flags_adp
_atom_site_refinement_flags_occupancy
_atom_site_disorder_assembly
_atom_site_disorder_group
Br1 Br 0.000000 0.000000 0.500000 0.041(3) Uani 1 24 d S T P . .
As1 As 0.333333 0.666667 0.2963(3) 0.0268(16) Uani 1 6 d S T P . .
O1 O 0.000000 0.500000 0.1869(15) 0.034(7) Uani 1 4 d S T P . .
N1 N 0.000000 0.000000 0.000000 0.022(3) Uiso 1 24 d S . P . .
H1A H 0.000000 0.000000 0.099890 0.033 Uiso 0.5 12 d S U P . .
H1B H 0.000000 0.161242 -0.033300 0.033 Uiso 0.25 2 d S U P . .
loop_
_atom_site_aniso_label
_atom_site_aniso_U_11
_atom_site_aniso_U_22
_atom_site_aniso_U_33
_atom_site_aniso_U_23
_atom_site_aniso_U_13
_atom_site_aniso_U_12
Br1 0.0194(4) 0.0194(4) 0.083(11) 0.000 0.000 0.0097(2)
As1 0.0096(3) 0.0096(3) 0.061(5) 0.000 0.000 0.00481(13)
O1 0.0073(14) 0.0156(13) 0.08(2) 0.000 0.000 0.0036(7)
loop_
_atom_type_symbol
_atom_type_description
_atom_type_scat_dispersion_real
_atom_type_scat_dispersion_imag
_atom_type_scat_source
H H 0.0000 0.0000 'International Tables Vol C Tables 4.2.6.8 and 6.1.1.4'
N N 0.0020 0.0014 'International Tables Vol C Tables 4.2.6.8 and 6.1.1.4'
O O 0.0042 0.0027 'International Tables Vol C Tables 4.2.6.8 and 6.1.1.4'
As As 0.3052 1.0753 'International Tables Vol C Tables 4.2.6.8 and 6.1.1.4'
Br Br 0.2652 1.3346 'International Tables Vol C Tables 4.2.6.8 and 6.1.1.4'
loop_
_axis.id
_axis.system
_axis.type
_axis.equipment
_axis.parity
_axis.depends_on
_axis.zero
_axis.vector[1]
_axis.vector[2]
_axis.vector[3]
source abstract . source . . . 1.00000000 0.00000000 0.00000000
omega abstract rotation goniometer -1 . 0.00000000 0.00000000 0.00000000
1.00000000
kappa abstract rotation goniometer -1 omega 0.00000000 -0.76604444 0.00000000
0.64278761
phi abstract rotation goniometer -1 kappa . 0.00000000 0.00000000 1.00000000
theta abstract rotation goniometer -1 . -0.29869268 0.00000000 0.00000000
1.00000000
matrixX abstract general general . phi . 1.00000000 0.00000000 0.00000000
matrixY abstract general general . phi . 0.00000000 1.00000000 0.00000000
matrixZ abstract general general . phi . 0.00000000 0.00000000 1.00000000
dacX abstract translation general . phi . 0.00000000 1.00000000 0.00000000
dacY abstract translation general . phi . -1.00000000 0.00000000 0.00000000
dacZ abstract translation general . phi . 0.00000000 0.00000000 1.00000000
loop_
_geom_angle_atom_site_label_1
_geom_angle_atom_site_label_2
_geom_angle_atom_site_label_3
_geom_angle
_geom_angle_site_symmetry_1
_geom_angle_site_symmetry_3
_geom_angle_publ_flag
O1 As1 O1 93.2(5) . 2_665 ?
O1 As1 O1 93.2(5) . 3_665 ?
O1 As1 O1 93.2(5) 2_665 3_665 ?
As1 O1 As1 114.0(8) . 2 ?
H1A N1 H1A 180.0 . 13 ?
H1A N1 H1B 70.526(16) . 17 ?
H1A N1 H1B 109.474(16) . 5 ?
H1A N1 H1B 70.526(17) 13 4 ?
H1A N1 H1B 70.526(16) . 18 ?
H1A N1 H1B 109.474(17) 13 15 ?
H1A N1 H1B 109.474(16) . 6 ?
H1A N1 H1B 109.474(16) 13 17 ?
H1A N1 H1B 70.526(17) 13 3 ?
H1A N1 H1B 70.526(17) . 16 ?
H1A N1 H1B 109.474(16) 13 13 ?
H1A N1 H1B 109.473(17) . . ?
H1A N1 H1B 109.474(17) . 2 ?
H1A N1 H1B 70.526(17) 13 6 ?
H1A N1 H1B 70.526(17) 13 2 ?
H1A N1 H1B 70.526(16) 13 5 ?
H1A N1 H1B 70.526(17) . 14 ?
H1A N1 H1B 70.526(17) . 15 ?
H1A N1 H1B 109.474(17) 13 14 ?
H1A N1 H1B 109.474(17) . 4 ?
H1A N1 H1B 109.474(17) . 3 ?
H1A N1 H1B 109.474(17) 13 18 ?
H1A N1 H1B 109.474(17) 13 16 ?
H1A N1 H1B 70.526(16) . 13 ?
H1B N1 H1A 70.527(17) . 13 ?
H1B N1 H1B 123.750(6) 13 2 ?
H1B N1 H1B 109.468(17) 16 18 ?
H1B N1 H1B 180.0 2 14 ?
H1B N1 H1B 70.532(17) 13 3 ?
H1B N1 H1B 56.250(6) 3 4 ?
H1B N1 H1B 38.95(3) 2 17 ?
H1B N1 H1B 56.250(6) 13 18 ?
H1B N1 H1B 70.532(17) 3 17 ?
H1B N1 H1B 56.250(6) 15 16 ?
H1B N1 H1B 123.750(6) 4 17 ?
H1B N1 H1B 56.250(6) 2 3 ?
H1B N1 H1B 180.0 5 17 ?
H1B N1 H1B 38.95(3) . 16 ?
H1B N1 H1B 56.250(6) . 6 ?
H1B N1 H1B 141.05(3) 15 18 ?
H1B N1 H1B 123.750(6) 13 6 ?
H1B N1 H1B 56.250(6) 17 18 ?
H1B N1 H1B 70.532(17) 14 6 ?
H1B N1 H1B 141.05(3) . 4 ?
H1B N1 H1B 38.95(3) 15 6 ?
H1B N1 H1B 109.468(17) 2 6 ?
H1B N1 H1B 70.532(17) 16 6 ?
H1B N1 H1B 109.468(17) 4 6 ?
H1B N1 H1B 123.750(6) 17 6 ?
H1B N1 H1B 180.0 . 13 ?
H1B N1 H1B 123.750(6) . 18 ?
H1B N1 H1B 56.250(6) 4 5 ?
H1B N1 H1B 123.750(6) . 14 ?
H1B N1 H1B 109.468(17) 14 18 ?
H1B N1 H1B 70.532(17) 2 18 ?
H1B N1 H1B 109.468(17) 13 15 ?
H1B N1 H1B 38.95(3) 3 18 ?
H1B N1 H1B 141.05(3) 3 6 ?
H1B N1 H1B 70.532(17) 4 18 ?
H1B N1 H1B 70.531(16) . 17 ?
H1B N1 H1B 123.750(6) 5 18 ?
H1B N1 H1B 123.750(6) 2 15 ?
H1B N1 H1B 180.0 6 18 ?
H1B N1 H1B 56.250(6) 14 15 ?
H1B N1 H1B 180.0 4 16 ?
H1B N1 H1B 70.531(17) . 15 ?
H1B N1 H1B 123.750(6) 15 4 ?
H1B N1 H1B 180.0 3 15 ?
H1B N1 H1B 109.469(16) . 5 ?
H1B N1 H1B 141.05(3) 14 17 ?
H1B N1 H1B 109.469(16) . 3 ?
H1B N1 H1B 56.250(6) . 2 ?
H1B N1 H1B 70.532(17) 13 5 ?
H1B N1 H1B 123.750(6) 14 3 ?
H1B N1 H1B 141.05(3) 2 5 ?
H1B N1 H1B 56.250(6) 16 17 ?
H1B N1 H1B 38.95(3) 14 5 ?
H1B N1 H1B 56.250(6) 5 6 ?
H1B N1 H1B 109.468(17) 3 5 ?
H1B N1 H1B 56.250(7) 13 14 ?
H1B N1 H1B 70.532(17) 15 5 ?
H1B N1 H1B 123.750(6) 16 5 ?
H1B N1 H1B 141.05(3) 13 16 ?
H1B N1 H1B 38.95(3) 13 4 ?
H1B N1 H1B 70.532(17) 2 16 ?
H1B N1 H1B 109.468(17) 13 17 ?
H1B N1 H1B 109.468(17) 14 16 ?
H1B N1 H1B 109.468(17) 2 4 ?
H1B N1 H1B 123.750(6) 3 16 ?
H1B N1 H1B 109.468(17) 15 17 ?
H1B N1 H1B 70.532(17) 14 4 ?
loop_
_geom_bond_atom_site_label_1
_geom_bond_atom_site_label_2
_geom_bond_distance
_geom_bond_site_symmetry_2
_geom_bond_publ_flag
As1 O1 1.813(8) . ?
As1 O1 1.813(8) 2_665 ?
As1 O1 1.813(8) 3_665 ?
N1 H1A 0.9010(8) . ?
N1 H1A 0.9010(8) 13 ?
N1 H1B 0.90103(10) 17 ?
N1 H1B 0.90103(10) 15 ?
N1 H1B 0.90103(10) 14 ?
N1 H1B 0.90103(10) 5 ?
N1 H1B 0.90103(10) 6 ?
N1 H1B 0.90103(10) 18 ?
N1 H1B 0.90103(10) 4 ?
N1 H1B 0.90103(10) 13 ?
N1 H1B 0.90103(10) 3 ?
N1 H1B 0.90103(10) 2 ?
N1 H1B 0.90104(10) . ?
N1 H1B 0.90103(10) 16 ?
loop_
_geom_torsion_atom_site_label_1
_geom_torsion_atom_site_label_2
_geom_torsion_atom_site_label_3
_geom_torsion_atom_site_label_4
_geom_torsion
_geom_torsion_site_symmetry_1
_geom_torsion_site_symmetry_2
_geom_torsion_site_symmetry_3
_geom_torsion_site_symmetry_4
_geom_torsion_publ_flag
O1 As1 O1 As1 -133.3(3) 2_665 . . 2 ?
O1 As1 O1 As1 133.3(3) 3_665 . . 2 ?
