#------------------------------------------------------------------------------
#$Date: 2024-04-18 17:56:43 +0200 (jue 18 de abr de 2024) $
#$Revision: 291269 $
#$URL: svn://www.crystallography.net/cod/cif/9/00/07/9000777.cif $
#------------------------------------------------------------------------------
#
# This file is available in the Crystallography Open Database (COD),
# http://www.crystallography.net/. The original data for this entry
# were provided the American Mineralogist Crystal Structure Database,
# http://rruff.geo.arizona.edu/AMS/amcsd.php
#
# The file may be used within the scientific community so long as
# proper attribution is given to the journal article from which the
# data were obtained.
#
data_9000777
loop_
_publ_author_name
'Levien, L.'
'Prewitt, C. T.'
'Weidner, D. J.'
_publ_section_title
;
 Structure and elastic properties of quartz at pressure
 P = 37.6 kbar
;
_journal_name_full               'American Mineralogist'
_journal_page_first              920
_journal_page_last               930
_journal_volume                  65
_journal_year                    1980
_chemical_formula_sum            'O2 Si'
_chemical_name_mineral           Quartz
_symmetry_space_group_name_H-M   'P 32 2 1'
_cell_angle_alpha                90
_cell_angle_beta                 90
_cell_angle_gamma                120
_cell_length_a                   4.7736
_cell_length_b                   4.7736
_cell_length_c                   5.301
_cell_formula_units_Z            3
_cell_volume                     104.612
_database_code_amcsd             0000791
_diffrn_ambient_pressure         3.76e+06
_exptl_crystal_density_diffrn    2.861
_cod_original_formula_sum        'Si O2'
_cod_database_code               9000777
loop_
_space_group_symop_operation_xyz
x,y,z
y,x,2/3-z
-y,x-y,2/3+z
-x,-x+y,1/3-z
-x+y,-x,1/3+z
x-y,-y,-z
loop_
_atom_site_aniso_label
_atom_site_aniso_U_11
_atom_site_aniso_U_22
_atom_site_aniso_U_33
_atom_site_aniso_U_12
_atom_site_aniso_U_13
_atom_site_aniso_U_23
Si 0.00684 0.00589 0.00498 0.00294 -0.00056 -0.00111
O 0.01342 0.01065 0.00982 0.00649 -0.00444 -0.00355
loop_
_atom_site_label
_atom_site_fract_x
_atom_site_fract_y
_atom_site_fract_z
Si 0.45810 0.00000 0.00000
O 0.40790 0.28670 0.10390
loop_
_cod_related_entry_id
_cod_related_entry_database
_cod_related_entry_code
1 AMCSD 0000791
