#------------------------------------------------------------------------------
#$Date: 2024-05-02 12:48:35 +0200 (Thu 02 de May de 2024) $
#$Revision: 291455 $
#$URL: svn://www.crystallography.net/cod/cif/9/00/64/9006433.cif $
#------------------------------------------------------------------------------
#
# This file is available in the Crystallography Open Database (COD),
# http://www.crystallography.net/. The original data for this entry
# were provided the American Mineralogist Crystal Structure Database,
# http://rruff.geo.arizona.edu/AMS/amcsd.php
#
# The file may be used within the scientific community so long as
# proper attribution is given to the journal article from which the
# data were obtained.
#
data_9006433
loop_
_publ_author_name
'Hugh-Jones D A'
'Chopelas, A.'
'Angel, R. J.'
_publ_section_title
;
 Tetrahedral compression in (Mg,Fe)SiO3 orthopyroxenes
 Sample: P = 5.77 GPa, synthetic En60 orthopyroxene
;
_journal_name_full               'Physics and Chemistry of Minerals'
_journal_page_first              301
_journal_page_last               310
_journal_paper_doi               10.1007/s002690050042
_journal_volume                  24
_journal_year                    1997
_chemical_formula_sum            'Fe0.41 Mg0.59 O3 Si'
_chemical_name_mineral           Enstatite
_space_group_IT_number           61
_symmetry_space_group_name_Hall  '-P 2ac 2ab'
_symmetry_space_group_name_H-M   'P b c a'
_cell_angle_alpha                90
_cell_angle_beta                 90
_cell_angle_gamma                90
_cell_length_a                   18.0912
_cell_length_b                   8.724
_cell_length_c                   5.1315
_cell_formula_units_Z            16
_cell_volume                     809.892
_database_code_amcsd             0008015
_diffrn_ambient_pressure         5.77e+06
_exptl_crystal_density_diffrn    3.718
_cod_original_formula_sum        '(Mg.59 Fe.41) Si O3'
_cod_database_code               9006433
loop_
_space_group_symop_operation_xyz
x,y,z
x,1/2-y,1/2+z
-x,1/2+y,1/2-z
1/2-x,1/2+y,z
1/2+x,1/2-y,-z
1/2+x,y,1/2-z
1/2-x,-y,1/2+z
-x,-y,-z
loop_
_atom_site_label
_atom_site_fract_x
_atom_site_fract_y
_atom_site_fract_z
_atom_site_occupancy
_atom_site_U_iso_or_equiv
MgM1 0.37600 0.65660 0.86250 0.59000 0.00089
FeM1 0.37600 0.65660 0.86250 0.41000 0.00089
MgM2 0.37840 0.48090 0.33500 0.59000 0.00063
FeM2 0.37840 0.48090 0.33500 0.41000 0.00063
SiTA 0.27100 0.34320 0.04070 1.00000 0.00013
SiTB 0.47290 0.33730 0.79960 1.00000 0.00013
O1a 0.18260 0.34000 0.03000 1.00000 0.00051
O2a 0.30970 0.50700 0.04000 1.00000 0.00304
O3a 0.30380 0.22900 0.81700 1.00000 0.00038
O1b 0.56110 0.33700 0.80400 1.00000 0.00228
O2b 0.43340 0.48100 0.68900 1.00000 0.00051
O3b 0.44550 0.19000 0.60500 1.00000 ?
loop_
_cod_related_entry_id
_cod_related_entry_database
_cod_related_entry_code
1 AMCSD 0008015
