#------------------------------------------------------------------------------
#$Date: 2024-05-02 12:48:35 +0200 (Thu 02 de May de 2024) $
#$Revision: 291455 $
#$URL: svn://www.crystallography.net/cod/cif/9/00/64/9006437.cif $
#------------------------------------------------------------------------------
#
# This file is available in the Crystallography Open Database (COD),
# http://www.crystallography.net/. The original data for this entry
# were provided the American Mineralogist Crystal Structure Database,
# http://rruff.geo.arizona.edu/AMS/amcsd.php
#
# The file may be used within the scientific community so long as
# proper attribution is given to the journal article from which the
# data were obtained.
#
data_9006437
loop_
_publ_author_name
'Hugh-Jones D A'
'Chopelas, A.'
'Angel, R. J.'
_publ_section_title
;
 Tetrahedral compression in (Mg,Fe)SiO3 orthopyroxenes
 Sample: P = 1.04 GPa, natural orthopyroxene
;
_journal_name_full               'Physics and Chemistry of Minerals'
_journal_page_first              301
_journal_page_last               310
_journal_paper_doi               10.1007/s002690050042
_journal_volume                  24
_journal_year                    1997
_chemical_formula_sum            'Al0.14 Ca0.012 Fe0.24 Mg1.66 O6 Si1.94'
_chemical_name_mineral           Enstatite
_space_group_IT_number           61
_symmetry_space_group_name_Hall  '-P 2ac 2ab'
_symmetry_space_group_name_H-M   'P b c a'
_cell_angle_alpha                90
_cell_angle_beta                 90
_cell_angle_gamma                90
_cell_length_a                   18.189
_cell_length_b                   8.7765
_cell_length_c                   5.1723
_cell_formula_units_Z            8
_cell_volume                     825.684
_database_code_amcsd             0008019
_diffrn_ambient_pressure         1.04e+06
_exptl_crystal_density_diffrn    3.354
_cod_original_formula_sum        'Mg1.66 Fe.24 Ca.012 Al.14 Si1.94 O6'
_cod_database_code               9006437
loop_
_space_group_symop_operation_xyz
x,y,z
x,1/2-y,1/2+z
-x,1/2+y,1/2-z
1/2-x,1/2+y,z
1/2+x,1/2-y,-z
1/2+x,y,1/2-z
1/2-x,-y,1/2+z
-x,-y,-z
loop_
_atom_site_label
_atom_site_fract_x
_atom_site_fract_y
_atom_site_fract_z
_atom_site_occupancy
_atom_site_U_iso_or_equiv
MgM1 0.37540 0.65420 0.86230 1.00000 0.00076
MgM2 0.37800 0.48440 0.35720 0.66000 0.00089
FeM2 0.37800 0.48440 0.35720 0.24000 0.00089
CaM2 0.37800 0.48440 0.35720 0.01200 0.00089
AlM2 0.37800 0.48440 0.35720 0.08000 0.00089
SiTA 0.27030 0.34290 0.04790 0.97000 0.00013
AlTA 0.27030 0.34290 0.04790 0.03000 0.00013
SiTB 0.47520 0.33690 0.80220 0.97000 0.00013
AlTB 0.47520 0.33690 0.80220 0.03000 0.00013
O1a 0.18100 0.33990 0.03200 1.00000 0.00089
O2a 0.30800 0.50360 0.04600 1.00000 0.00089
O3a 0.30300 0.22500 0.82500 1.00000 0.00089
O1b 0.56800 0.33800 0.80400 1.00000 0.00089
O2b 0.43200 0.48300 0.68900 1.00000 0.00089
O3b 0.44500 0.19100 0.60600 1.00000 0.00089
loop_
_cod_related_entry_id
_cod_related_entry_database
_cod_related_entry_code
1 AMCSD 0008019
