#------------------------------------------------------------------------------
#$Date: 2024-05-09 10:47:05 +0200 (Thu 09 de May de 2024) $
#$Revision: 291792 $
#$URL: svn://www.crystallography.net/cod/cif/9/01/00/9010076.cif $
#------------------------------------------------------------------------------
#
# This file is available in the Crystallography Open Database (COD),
# http://www.crystallography.net/. The original data for this entry
# were provided the American Mineralogist Crystal Structure Database,
# http://rruff.geo.arizona.edu/AMS/amcsd.php
#
# The file may be used within the scientific community so long as
# proper attribution is given to the journal article from which the
# data were obtained.
#
data_9010076
loop_
_publ_author_name
'Redhammer, G. J.'
'Amthauer, G.'
'Roth, G.'
'Tippelt, G.'
'Lottermoser, W.'
_publ_section_title
;Single crystal X-ray diffraction and temperature dependent 57Fe Mossbauer
 spectroscopy on the hedenbergite - aegirine (Ca,Na)(Fe2+,Fe3+)Si2O6 solid
 solution Locality: synthetic Sample: Hd102m, T = 298 K
;
_journal_name_full               'American Mineralogist'
_journal_page_first              1271
_journal_page_last               1292
_journal_paper_doi               10.2138/am.2006.2173
_journal_volume                  91
_journal_year                    2006
_chemical_compound_source        Synthetic
_chemical_formula_sum            'Ca0.904 Fe Na0.096 O6 Si2'
_chemical_name_mineral           Hedenbergite
_space_group_IT_number           15
_symmetry_space_group_name_Hall  '-C 2yc'
_symmetry_space_group_name_H-M   'C 1 2/c 1'
_cell_angle_alpha                90
_cell_angle_beta                 105.013
_cell_angle_gamma                90
_cell_length_a                   9.8248
_cell_length_b                   8.9973
_cell_length_c                   5.2549
_cell_formula_units_Z            4
_cell_volume                     448.660
_database_code_amcsd             0004197
_diffrn_ambient_temperature      298
_exptl_crystal_density_diffrn    3.649
_cod_original_formula_sum        '(Ca.904 Na.096) Fe Si2 O6'
_cod_database_code               9010076
loop_
_space_group_symop_operation_xyz
x,y,z
1/2+x,1/2+y,z
x,-y,1/2+z
1/2+x,1/2-y,1/2+z
-x,y,1/2-z
1/2-x,1/2+y,1/2-z
-x,-y,-z
1/2-x,1/2-y,-z
loop_
_atom_site_label
_atom_site_fract_x
_atom_site_fract_y
_atom_site_fract_z
_atom_site_occupancy
_atom_site_U_iso_or_equiv
Ca2 0.00000 0.30060 0.25000 0.90400 0.00860
Na2 0.00000 0.30060 0.25000 0.09600 0.00860
Fe2+1 0.00000 0.90640 0.25000 0.90400 0.00540
Fe3+1 0.00000 0.90640 0.25000 0.09600 0.00540
Si 0.28780 0.09220 0.23280 1.00000 0.00400
O1 0.11890 0.08880 0.15030 1.00000 0.00760
O2 0.36190 0.24760 0.32140 1.00000 0.00880
O3 0.35050 0.01830 0.99540 1.00000 0.00750
loop_
_cod_related_entry_id
_cod_related_entry_database
_cod_related_entry_code
1 AMCSD 0004197
