#------------------------------------------------------------------------------
#$Date: 2024-05-09 10:47:05 +0200 (Thu 09 de May de 2024) $
#$Revision: 291792 $
#$URL: svn://www.crystallography.net/cod/cif/9/01/02/9010280.cif $
#------------------------------------------------------------------------------
#
# This file is available in the Crystallography Open Database (COD),
# http://www.crystallography.net/. The original data for this entry
# were provided the American Mineralogist Crystal Structure Database,
# http://rruff.geo.arizona.edu/AMS/amcsd.php
#
# The file may be used within the scientific community so long as
# proper attribution is given to the journal article from which the
# data were obtained.
#
data_9010280
loop_
_publ_author_name
'Dorsam, G.'
'Liebscher, A.'
'Franz, G.'
'Gottschalk, M.'
_publ_section_title
;
 Crystal chemistry of synthetic Ca2Al3Si3O12OH - Sr2Al3Si3O12OH
 solid solution series of zoisite and clinozoisite
 Sample: Run no. = Au35, X(Sr) = .248
;
_journal_name_full               'American Mineralogist'
_journal_page_first              1133
_journal_page_last               1147
_journal_paper_doi               10.2138/am.2007.2353
_journal_volume                  92
_journal_year                    2007
_chemical_compound_source        Synthetic
_chemical_formula_sum            'Al3 Ca1.504 H O13 Si3 Sr0.496'
_chemical_name_mineral           Clinozoisite
_space_group_IT_number           11
_symmetry_space_group_name_Hall  '-P 2yb'
_symmetry_space_group_name_H-M   'P 1 21/m 1'
_cell_angle_alpha                90
_cell_angle_beta                 115.15
_cell_angle_gamma                90
_cell_length_a                   8.8737
_cell_length_b                   5.5763
_cell_length_c                   10.2014
_cell_formula_units_Z            2
_cell_volume                     456.935
_database_code_amcsd             0004401
_exptl_crystal_density_diffrn    3.474
_cod_original_formula_sum        '(Sr.496 Ca1.504) Al3 Si3 O13 H'
_cod_database_code               9010280
loop_
_space_group_symop_operation_xyz
x,y,z
x,1/2-y,z
-x,1/2+y,-z
-x,-y,-z
loop_
_atom_site_label
_atom_site_fract_x
_atom_site_fract_y
_atom_site_fract_z
_atom_site_occupancy
SrA1 0.76100 0.75000 0.15900 0.03400
CaA1 0.76100 0.75000 0.15900 0.96600
SrA2 0.59900 0.75000 0.42200 0.46200
CaA2 0.59900 0.75000 0.42200 0.53800
Al1 0.00000 0.00000 0.00000 1.00000
Al2 0.00000 0.00000 0.50000 1.00000
Al3 0.28400 0.25000 0.21900 1.00000
Si1 0.33800 0.75000 0.04200 1.00000
Si2 0.67900 0.25000 0.28000 1.00000
Si3 0.17900 0.75000 0.31200 1.00000
O1 0.23400 0.00200 0.04700 1.00000
O2 0.29800 0.98200 0.34900 1.00000
O3 0.78100 0.01000 0.34700 1.00000
O4 0.04800 0.25000 0.12900 1.00000
O5 0.02300 0.75000 0.14200 1.00000
O6 0.06000 0.75000 0.39700 1.00000
O7 0.52600 0.75000 0.16600 1.00000
O8 0.50500 0.25000 0.30300 1.00000
O9 0.65300 0.25000 0.11600 1.00000
O10 0.07000 0.25000 0.42800 1.00000
H 0.04600 0.25000 0.34100 1.00000
loop_
_cod_related_entry_id
_cod_related_entry_database
_cod_related_entry_code
1 AMCSD 0004401
