#------------------------------------------------------------------------------
#$Date: 2023-04-06 14:31:51 +0200 (Thu 06 de Apr de 2023) $
#$Revision: 282478 $
#$URL: svn://www.crystallography.net/cod/cif/9/01/14/9011444.cif $
#------------------------------------------------------------------------------
#
# This file is available in the Crystallography Open Database (COD),
# http://www.crystallography.net/. The original data for this entry
# were provided the American Mineralogist Crystal Structure Database,
# http://rruff.geo.arizona.edu/AMS/amcsd.php
#
# The file may be used within the scientific community so long as
# proper attribution is given to the journal article from which the
# data were obtained.
#
data_9011444
loop_
_publ_author_name
'Abdeen, A. M.'
'Will, G.'
'Schaefer, W.'
'Kirfel, A.'
'Bargouth, M. O.'
'Recker, K.'
'Weiss, A.'
_publ_section_title
;
 X-ray and neutron diffraction study of alums
 II. The crystal structure of methylammonium aluminium alum
 III. The crystal structure of ammonium aluminium alum
 Locality: synthetic
 Sample: X-ray data
;
_journal_issue                   3-4
_journal_name_full               'Zeitschrift fur Kristallographie'
_journal_page_first              147
_journal_page_last               166
_journal_paper_doi               10.1524/zkri.1981.157.3-4.147
_journal_volume                  157
_journal_year                    1981
_chemical_formula_sum            'Al H28 N O20 S2'
_chemical_name_mineral           Tschermigite
_space_group_IT_number           205
_symmetry_space_group_name_Hall  '-P 2ac 2ab 3'
_symmetry_space_group_name_H-M   'P a -3'
_cell_angle_alpha                90
_cell_angle_beta                 90
_cell_angle_gamma                90
_cell_formula_units_Z            4
_cell_length_a                   12.242
_cell_length_b                   12.242
_cell_length_c                   12.242
_cell_volume                     1834.666
_database_code_amcsd             0010843
_diffrn_radiation_probe          x-ray
_exptl_crystal_density_diffrn    6.672
_cod_depositor_comments
;
 Changing the _chemical_formula_sum data item value from
 'Al H24 N O20 S2' to 'Al H28 N O20 S2' after consulting
 the original publication.

 Antanas Vaitkus,
 2017-01-15

 Marking attached hydrogen atoms.

 Antanas Vaitkus,
 2017-01-15

 Changing the _chemical_formula_sum data item value from
 'Al H24 N O12 Os8 S2' to 'Al H24 N O20 S2'.

 Antanas Vaitkus,
 2017-01-15

 Changing the _atom_site_label data item values to match
 the _atom_site_aniso_label data item values after consulting
 the original publication.

 Antanas Vaitkus,
 2017-01-15

 Adding the _diffrn_radiation_probe data item.

 Antanas Vaitkus,
 2017-01-15

 Adding the _cell_formula_units_Z data item.

 Antanas Vaitkus,
 2017-01-15

 Adding the _atom_site_type_symbol data item.

 Antanas Vaitkus,
 2017-01-15
;
_cod_original_cell_volume        1834.667
_cod_original_sg_symbol_H-M      'P a 3'
_cod_original_formula_sum        'N Al S2 Os8 (O12 H24)'
_cod_database_code               9011444
loop_
_symmetry_equiv_pos_as_xyz
x,y,z
1/2+z,x,1/2-y
z,1/2-x,1/2+y
1/2-z,1/2+x,y
-z,-x,-y
1/2+y,1/2-z,-x
1/2-y,-z,1/2+x
-y,1/2+z,1/2-x
y,z,x
x,1/2-y,1/2+z
1/2-x,1/2+y,z
1/2+x,y,1/2-z
-x,-y,-z
1/2-z,-x,1/2+y
-z,1/2+x,1/2-y
1/2+z,1/2-x,-y
z,x,y
1/2-y,1/2+z,x
1/2+y,z,1/2-x
y,1/2-z,1/2+x
-y,-z,-x
-x,1/2+y,1/2-z
1/2+x,1/2-y,-z
1/2-x,-y,1/2+z
loop_
_atom_site_aniso_label
_atom_site_aniso_U_11
_atom_site_aniso_U_22
_atom_site_aniso_U_33
_atom_site_aniso_U_12
_atom_site_aniso_U_13
_atom_site_aniso_U_23
N 0.03644 0.03644 0.03644 0.00228 0.00228 0.00228
Al 0.02050 0.02050 0.02050 0.00000 0.00000 0.00000
S 0.02581 0.02581 0.02581 0.00456 0.00456 0.00456
Os1 0.05922 0.05922 0.05922 -0.01594 -0.01594 -0.01594
Os2 0.04176 0.06378 0.03417 0.02278 0.00911 0.02505
Os1' 0.11313 0.11313 0.11313 -0.04707 -0.04707 -0.04707
Os2' 0.07592 0.16551 0.07820 0.10781 0.04024 0.10174
Wat1 0.03568 0.02885 0.02050 0.00076 -0.00228 0.00076
Wat2 0.04479 0.03568 0.04176 0.00380 -0.00835 -0.00683
loop_
_atom_site_label
_atom_site_type_symbol
_atom_site_fract_x
_atom_site_fract_y
_atom_site_fract_z
_atom_site_occupancy
_atom_site_U_iso_or_equiv
_atom_site_attached_hydrogens
N N 0.50820 0.50820 0.50820 0.50000 0.03648 4
Al Al 0.00000 0.00000 0.00000 1.00000 0.02128 0
S S 0.30830 0.30830 0.30830 1.00000 0.02584 0
Os1 O 0.24010 0.24010 0.24010 0.83100 0.05927 0
Os2 O 0.31300 0.26520 0.41990 0.83100 0.04661 0
Os1' O 0.37090 0.37090 0.37090 0.16900 0.11310 0
Os2' O 0.20980 0.37010 0.28890 0.16900 0.10651 0
Wat1 O 0.01710 -0.01620 0.15200 1.00000 0.02837 2
Wat2 O 0.04540 0.13770 0.29790 1.00000 0.04078 2
loop_
_cod_related_entry_id
_cod_related_entry_database
_cod_related_entry_code
1 AMCSD 0010843
