#------------------------------------------------------------------------------
#$Date: 2023-03-26 09:30:59 +0200 (Sun 26 de Mar de 2023) $
#$Revision: 282067 $
#$URL: svn://www.crystallography.net/cod/cif/9/01/15/9011599.cif $
#------------------------------------------------------------------------------
#
# This file is available in the Crystallography Open Database (COD),
# http://www.crystallography.net/. The original data for this entry
# were provided the American Mineralogist Crystal Structure Database,
# http://rruff.geo.arizona.edu/AMS/amcsd.php
#
# The file may be used within the scientific community so long as
# proper attribution is given to the journal article from which the
# data were obtained.
#
data_9011599
loop_
_publ_author_name
'Hull, A. W.'
'Davey, W. P.'
_publ_section_title
;
 Graphical determination of hexagonal and tetragonal crystal structures
 from X-ray data
;
_journal_name_full               'Physical Review'
_journal_page_first              549
_journal_page_last               570
_journal_paper_doi               10.1103/PhysRev.17.549
_journal_volume                  17
_journal_year                    1921
_chemical_compound_source        Synthetic
_chemical_formula_sum            Zn
_chemical_name_common            Zinc
_chemical_name_mineral           Zinc
_space_group_IT_number           194
_symmetry_space_group_name_Hall  '-P 6c 2c'
_symmetry_space_group_name_H-M   'P 63/m m c'
_cell_angle_alpha                90
_cell_angle_beta                 90
_cell_angle_gamma                120
_cell_length_a                   2.670
_cell_length_b                   2.670
_cell_length_c                   4.966
_cell_formula_units_Z            2
_cell_volume                     30.659
_database_code_amcsd             0015115
_exptl_crystal_density_diffrn    7.083
_cod_database_code               9011599
loop_
_space_group_symop_operation_xyz
x,y,z
-x,-x+y,1/2+z
x,x-y,1/2-z
-x+y,-x,1/2-z
x-y,x,1/2+z
-y,-x,z
y,x,-z
y,-x+y,-z
-y,x-y,z
x-y,-y,1/2+z
-x+y,y,1/2-z
x,y,1/2-z
-x,-y,1/2+z
x,x-y,z
-x,-x+y,-z
x-y,x,-z
-x+y,-x,z
y,x,1/2+z
-y,-x,1/2-z
-y,x-y,1/2-z
y,-x+y,1/2+z
-x+y,y,z
x-y,-y,-z
-x,-y,-z
loop_
_atom_site_label
_atom_site_fract_x
_atom_site_fract_y
_atom_site_fract_z
Zn 0.33333 0.66667 0.25000
loop_
_cod_related_entry_id
_cod_related_entry_database
_cod_related_entry_code
1 ChemSpider 22430
2 AMCSD 0015115
