#------------------------------------------------------------------------------
#$Date: 2023-05-10 19:44:19 +0200 (Wed 10 de May de 2023) $
#$Revision: 283658 $
#$URL: svn://www.crystallography.net/cod/cif/9/01/23/9012317.cif $
#------------------------------------------------------------------------------
#
# This file is available in the Crystallography Open Database (COD),
# http://www.crystallography.net/. The original data for this entry
# were provided the American Mineralogist Crystal Structure Database,
# http://rruff.geo.arizona.edu/AMS/amcsd.php
#
# The file may be used within the scientific community so long as
# proper attribution is given to the journal article from which the
# data were obtained.
#
data_9012317
loop_
_publ_author_name
'Glemser, O.'
'Einerhand, J.'
_publ_section_title
;
 Die struktur hoherer nickelhydroxyde
;
_journal_name_full
'Zeitschrift fur Anorganische und Allgemeine Chemie'
_journal_page_first              43
_journal_page_last               51
_journal_volume                  261
_journal_year                    1950
_chemical_compound_source        Synthetic
_chemical_formula_sum            'H2 Ni O2'
_chemical_name_mineral           Jamborite
_space_group_IT_number           166
_symmetry_space_group_name_Hall  '-P 3* 2'
_symmetry_space_group_name_H-M   'R -3 m :R'
_cell_angle_alpha                22.32
_cell_angle_beta                 22.32
_cell_angle_gamma                22.32
_cell_formula_units_Z            1
_cell_length_a                   7.93
_cell_length_b                   7.93
_cell_length_c                   7.93
_cell_volume                     63.077
_database_code_amcsd             0015760
_exptl_crystal_density_diffrn    2.441
_cod_original_sg_symbol_H-M      'R -3 m'
_cod_original_formula_sum        'Ni (O2 H2)'
_cod_database_code               9012317
loop_
_space_group_symop_operation_xyz
x,y,z
-x,-z,-y
-z,-x,-y
y,x,z
y,z,x
-z,-y,-x
-x,-y,-z
x,z,y
z,x,y
-y,-x,-z
-y,-z,-x
z,y,x
loop_
_atom_site_label
_atom_site_fract_x
_atom_site_fract_y
_atom_site_fract_z
_atom_site_type_symbol
_atom_site_attached_hydrogens
Ni 0.00000 0.00000 0.00000 Ni 0
O-H 0.37000 0.37000 0.37000 O 1
loop_
_cod_changelog_entry_id
_cod_changelog_entry_author
_cod_changelog_entry_date
_cod_changelog_entry_text
1
;cod-tools version 3.8.0
Id: cif_guess_AMCSD_atom_types 9574 2023-05-10 09:00:05Z saulius
;
2023-05-10T18:53:58+03:00
;Derived atom types and hydrogen counts
from atom names that follow the AMCSD naming convention
(Wat == water, O-H == hydroxyl).
;
loop_
_cod_related_entry_id
_cod_related_entry_database
_cod_related_entry_code
1 AMCSD 0015760
