#------------------------------------------------------------------------------
#$Date: 2017-10-06 18:24:22 +0200 (vie 06 de oct de 2017) $
#$Revision: 201816 $
#$URL: svn://www.crystallography.net/cod/cif/9/01/60/9016039.cif $
#------------------------------------------------------------------------------
#
# This file is available in the Crystallography Open Database (COD),
# http://www.crystallography.net/. The original data for this entry
# were provided the American Mineralogist Crystal Structure Database,
# http://rruff.geo.arizona.edu/AMS/amcsd.php
#
# The file may be used within the scientific community so long as
# proper attribution is given to the journal article from which the
# data were obtained.
#
data_9016039
loop_
_publ_author_name
'Thomas, J. O.'
'Tellgren, R.'
'Olovsson, I.'
_publ_section_title
;
 Hydrogen-bond studies. LXXXIV. An X-ray diffraction study
 of the structures of KHCO3 and KDCO3 at 298, 219 and 95 K
 Note: T = 95 K
 Note z-coordinate of O3 has been modified with a negative sign
;
_journal_name_full               'Acta Crystallographica, Section B'
_journal_page_first              1155
_journal_page_last               1166
_journal_paper_doi               10.1107/S0567740874004481
_journal_volume                  30
_journal_year                    1974
_chemical_compound_source        Synthetic
_chemical_formula_sum            'C H K O3'
_chemical_name_mineral           Kalicinite
_space_group_IT_number           14
_symmetry_space_group_name_Hall  '-P 2yab'
_symmetry_space_group_name_H-M   'P 1 21/a 1'
_cell_angle_alpha                90
_cell_angle_beta                 103.980
_cell_angle_gamma                90
_cell_length_a                   15.1150
_cell_length_b                   5.6044
_cell_length_c                   3.6609
_cell_volume                     300.931
_database_code_amcsd             0018504
_exptl_crystal_density_diffrn    2.210
_cod_original_formula_sum        'K H C O3'
_cod_database_code               9016039
loop_
_space_group_symop_operation_xyz
x,y,z
1/2+x,1/2-y,z
1/2-x,1/2+y,-z
-x,-y,-z
loop_
_atom_site_label
_atom_site_fract_x
_atom_site_fract_y
_atom_site_fract_z
K 0.16595 0.03487 0.29497
H 0.02500 0.70400 -0.43700
C 0.11972 0.52447 -0.14471
O(1) 0.19339 0.54594 0.09602
O(2) 0.08305 0.32975 -0.27538
O(3) 0.07652 0.73126 -0.27632
loop_
_cod_related_entry_id
_cod_related_entry_database
_cod_related_entry_code
1 AMCSD 0018504
