#------------------------------------------------------------------------------
#$Date: 2023-03-27 09:00:38 +0200 (Mon 27 de Mar de 2023) $
#$Revision: 282074 $
#$URL: svn://www.crystallography.net/cod/cif/9/01/68/9016897.cif $
#------------------------------------------------------------------------------
#
# This file is available in the Crystallography Open Database (COD),
# http://www.crystallography.net/. The original data for this entry
# were provided the American Mineralogist Crystal Structure Database,
# http://rruff.geo.arizona.edu/AMS/amcsd.php
#
# The file may be used within the scientific community so long as
# proper attribution is given to the journal article from which the
# data were obtained.
#
data_9016897
loop_
_publ_author_name
'Whittle, K. R.'
'Hyatt, N. C.'
'Smith, K. L.'
'Margiolaki, I.'
'Berry, F. J.'
'Knight, K. S.'
'Lumpkin, G. R.'
_publ_section_title
;
 Combined neutron and X-ray diffraction determination
 of disorder in doped zirconolite-2M
 Note: CaZrFeNbO7, model 2
;
_journal_name_full               'American Mineralogist'
_journal_page_first              291
_journal_page_last               298
_journal_volume                  97
_journal_year                    2012
_chemical_compound_source        Synthetic
_chemical_formula_sum            'Ca2 Fe2 Nb2 O14 Zr2'
_chemical_name_mineral           Laachite
_space_group_IT_number           15
_space_group_name_Hall           '-C 2yc'
_space_group_name_H-M_alt        'C 1 2/c 1'
_symmetry_space_group_name_H-M   'C 1 2/c 1'
_cell_angle_alpha                90
_cell_angle_beta                 100.66950
_cell_angle_gamma                90
_cell_length_a                   12.670281
_cell_length_b                   7.378349
_cell_length_c                   11.525772
_cell_volume                     1058.867
_database_code_amcsd             0020830
_exptl_crystal_density_diffrn    4.919
_cod_data_source_file            inputs/fixed/downloads/05/05249.cif
_cod_data_source_block           05249
_cod_original_formula_sum        'Ca2 Zr2 Nb2 Fe2 O14'
_cod_database_code               9016897
loop_
_space_group_symop_operation_xyz
x,y,z
1/2+x,1/2+y,z
x,-y,1/2+z
1/2+x,1/2-y,1/2+z
-x,y,1/2-z
1/2-x,1/2+y,1/2-z
-x,-y,-z
1/2-x,1/2-y,-z
loop_
_atom_site_label
_atom_site_fract_x
_atom_site_fract_y
_atom_site_fract_z
_atom_site_occupancy
_atom_site_U_iso_or_equiv
Ca 0.37635 0.12246 0.49596 1.00000 0.01700
Zr 0.11908 0.12845 0.97488 1.00000 0.02392
Nb1 0.24863 0.12375 0.74284 1.00000 0.01296
Fe2 0.46956 0.06860 0.25137 0.50000 0.02149
Fe3 0.00000 0.13058 0.25000 1.00000 0.00598
O1 0.30168 0.12885 0.28364 1.00000 0.01360
O2 0.46909 0.14037 0.09745 1.00000 0.01540
O3 0.20563 0.08250 0.56867 1.00000 0.01490
O4 0.39660 0.16677 0.71722 1.00000 0.01530
O5 0.70941 0.18171 0.58284 1.00000 0.01350
O6 -0.00607 0.12100 0.41584 1.00000 0.01360
O7 0.10921 0.05150 0.79405 1.00000 0.01890
loop_
_cod_related_entry_id
_cod_related_entry_database
_cod_related_entry_code
1 AMCSD 0020830
