#------------------------------------------------------------------------------
#$Date: 2023-03-27 09:00:38 +0200 (Mon 27 de Mar de 2023) $
#$Revision: 282074 $
#$URL: svn://www.crystallography.net/cod/cif/9/01/73/9017317.cif $
#------------------------------------------------------------------------------
#
# This file is available in the Crystallography Open Database (COD),
# http://www.crystallography.net/. The original data for this entry
# were provided the American Mineralogist Crystal Structure Database,
# http://rruff.geo.arizona.edu/AMS/amcsd.php
#
# The file may be used within the scientific community so long as
# proper attribution is given to the journal article from which the
# data were obtained.
#
data_9017317
loop_
_publ_author_name
'Swaminathan, S.'
'Craven, B. M.'
_publ_section_title
;
 The crystal structure and molecular thermal motion of urea
 at 12, 60 and 123 K from neutron diffraction
 Note: neutron data, T = 60 K
;
_journal_name_full               'Acta Crystallographica, Section B'
_journal_page_first              300
_journal_page_last               306
_journal_volume                  40
_journal_year                    1984
_chemical_compound_source        Synthetic
_chemical_formula_sum            'C H4 N2 O'
_chemical_name_mineral           Urea
_space_group_IT_number           113
_space_group_name_Hall           'P -4 2ab'
_space_group_name_H-M_alt        'P -4 21 m'
_symmetry_space_group_name_H-M   'P -4 21 m'
_cell_angle_alpha                90
_cell_angle_beta                 90
_cell_angle_gamma                90
_cell_length_a                   5.570
_cell_length_b                   5.570
_cell_length_c                   4.688
_cell_volume                     145.445
_database_code_amcsd             0020673
_diffrn_ambient_temperature      60
_exptl_crystal_density_diffrn    1.371
_cod_data_source_file            inputs/fixed/downloads/11/11354.cif
_cod_data_source_block           11354
_cod_database_code               9017317
loop_
_space_group_symop_operation_xyz
x,y,z
1/2-y,1/2-x,z
y,-x,-z
1/2-x,1/2+y,-z
-x,-y,z
1/2+y,1/2+x,z
-y,x,-z
1/2+x,1/2-y,-z
loop_
_atom_site_aniso_label
_atom_site_aniso_U_11
_atom_site_aniso_U_22
_atom_site_aniso_U_33
_atom_site_aniso_U_12
_atom_site_aniso_U_13
_atom_site_aniso_U_23
C 0.00880 0.00470 0.00470 -0.00010 0.00000 0.00000
H1 0.03250 0.03250 0.01960 -0.01700 -0.00250 -0.00250
H2 0.03310 0.03310 0.01220 -0.01080 0.00210 0.00210
N 0.01670 0.01670 0.00690 -0.00840 0.00030 0.00030
O 0.01210 0.00390 0.00390 0.00010 0.00000 0.00000
loop_
_atom_site_label
_atom_site_fract_x
_atom_site_fract_y
_atom_site_fract_z
C 0.00000 0.50000 0.32650
H1 0.25690 0.75690 0.28320
H2 0.14380 0.64380 -0.03710
N 0.14550 0.64550 0.17710
O 0.00000 0.50000 0.59540
loop_
_cod_related_entry_id
_cod_related_entry_database
_cod_related_entry_code
1 AMCSD 0020673
