#------------------------------------------------------------------------------
#$Date: 2023-03-27 09:00:38 +0200 (Mon 27 de Mar de 2023) $
#$Revision: 282074 $
#$URL: svn://www.crystallography.net/cod/cif/9/01/73/9017380.cif $
#------------------------------------------------------------------------------
#
# This file is available in the Crystallography Open Database (COD),
# http://www.crystallography.net/. The original data for this entry
# were provided the American Mineralogist Crystal Structure Database,
# http://rruff.geo.arizona.edu/AMS/amcsd.php
#
# The file may be used within the scientific community so long as
# proper attribution is given to the journal article from which the
# data were obtained.
#
data_9017380
loop_
_publ_author_name
'Christensen, A. N.'
'Lehmann, M. S.'
'Convert, P.'
_publ_section_title
;
 Deuteration of crystalline hydroxides.
 Hydrogen bonds of gamma-AlOO(H,D) and gamma-FeOO(H,D)
;
_journal_name_full               'Acta Chemica Scandinavica A'
_journal_page_first              303
_journal_page_last               308
_journal_volume                  36
_journal_year                    1982
_chemical_compound_source        Synthetic
_chemical_formula_sum            'Al H O2'
_chemical_name_mineral           Bohmite
_space_group_IT_number           36
_space_group_name_Hall           'C 2c -2'
_space_group_name_H-M_alt        'C m c 21'
_symmetry_space_group_name_H-M   'C m c 21'
_cell_angle_alpha                90
_cell_angle_beta                 90
_cell_angle_gamma                90
_cell_length_a                   2.876
_cell_length_b                   12.24
_cell_length_c                   3.709
_cell_volume                     130.565
_database_code_amcsd             0020686
_exptl_crystal_density_diffrn    3.052
_cod_data_source_file            inputs/fixed/downloads/14/14133.cif
_cod_data_source_block           14133
_cod_original_formula_sum        'Al O2 H'
_cod_database_code               9017380
loop_
_space_group_symop_operation_xyz
x,y,z
1/2+x,1/2+y,z
x,-y,1/2+z
1/2+x,1/2-y,1/2+z
-x,y,z
1/2-x,1/2+y,z
-x,-y,1/2+z
1/2-x,1/2-y,1/2+z
loop_
_atom_site_label
_atom_site_fract_x
_atom_site_fract_y
_atom_site_fract_z
_atom_site_U_iso_or_equiv
Al 0.00000 -0.31660 0.25000 0.00203
O1 0.00000 0.29010 0.23130 0.00203
O2 0.00000 0.08180 0.23440 0.00203
H 0.50000 0.52020 0.38040 0.00203
loop_
_cod_related_entry_id
_cod_related_entry_database
_cod_related_entry_code
1 AMCSD 0020686
