#------------------------------------------------------------------------------
#$Date: 2015-01-27 20:58:39 +0100 (Tue 27 de Jan de 2015) $
#$Revision: 130149 $
#$URL: svn://www.crystallography.net/cod/cif/1/00/81/1008192.cif $
#------------------------------------------------------------------------------
#
# This file is available in the Crystallography Open Database (COD),
# http://www.crystallography.net/
#
# All data on this site have been placed in the public domain by the
# contributors.
#
data_1008192
loop_
_publ_author_name
'Deschizeaux, M N'
'Loubert, J C'
'Vegas, A'
'Collomb, A'
'Chenavas, J'
'Marezio, M'
_publ_section_title
;
Synthetis and crystal structure of (Th Cu₃) ((Mn₂)³⁺ (Mn₂)⁴⁺)
O₁₂, a new ferrimagnetic Perovskite-like compound
;
_journal_coden_ASTM              JSSCBI
_journal_name_full               'Journal of Solid State Chemistry'
_journal_page_first              45
_journal_page_last               51
_journal_paper_doi               10.1016/0022-4596(76)90148-1
_journal_volume                  19
_journal_year                    1976
_chemical_formula_structural     '(Th Cu3) (Mn2 Mn2) O12'
_chemical_formula_sum            'Cu3 Mn4 O12 Th'
_chemical_name_systematic
;
Thorium tricopper dimanganese(III) dimanganese(IV) oxide
;
_space_group_IT_number           204
_symmetry_cell_setting           cubic
_symmetry_Int_Tables_number      204
_symmetry_space_group_name_Hall  '-I 2 2 3'
_symmetry_space_group_name_H-M   'I m -3'
_cell_angle_alpha                90
_cell_angle_beta                 90
_cell_angle_gamma                90
_cell_formula_units_Z            2
_cell_length_a                   7.359(1)
_cell_length_b                   7.359(1)
_cell_length_c                   7.359(1)
_cell_volume                     398.5
_refine_ls_R_factor_all          0.011
_cod_database_code               1008192
loop_
_symmetry_equiv_pos_as_xyz
x,y,z
x,-y,-z
-x,y,-z
-x,-y,z
y,z,x
-y,-z,x
y,-z,-x
-y,z,-x
z,x,y
-z,x,-y
-z,-x,y
z,-x,-y
-x,-y,-z
-x,y,z
x,-y,z
x,y,-z
-y,-z,-x
y,z,-x
-y,z,x
y,-z,x
-z,-x,-y
z,-x,y
z,x,-y
-z,x,y
1/2+x,1/2+y,1/2+z
1/2+x,1/2-y,1/2-z
1/2-x,1/2+y,1/2-z
1/2-x,1/2-y,1/2+z
1/2+y,1/2+z,1/2+x
1/2-y,1/2-z,1/2+x
1/2+y,1/2-z,1/2-x
1/2-y,1/2+z,1/2-x
1/2+z,1/2+x,1/2+y
1/2-z,1/2+x,1/2-y
1/2-z,1/2-x,1/2+y
1/2+z,1/2-x,1/2-y
1/2-x,1/2-y,1/2-z
1/2-x,1/2+y,1/2+z
1/2+x,1/2-y,1/2+z
1/2+x,1/2+y,1/2-z
1/2-y,1/2-z,1/2-x
1/2+y,1/2+z,1/2-x
1/2-y,1/2+z,1/2+x
1/2+y,1/2-z,1/2+x
1/2-z,1/2-x,1/2-y
1/2+z,1/2-x,1/2+y
1/2+z,1/2+x,1/2-y
1/2-z,1/2+x,1/2+y
loop_
_atom_site_label
_atom_site_type_symbol
_atom_site_symmetry_multiplicity
_atom_site_Wyckoff_symbol
_atom_site_fract_x
_atom_site_fract_y
_atom_site_fract_z
_atom_site_occupancy
_atom_site_attached_hydrogens
_atom_site_calc_flag
Th1 Th4+ 2 a 0. 0. 0. 1. 0 d
Cu1 Cu2+ 6 b 0. 0.5 0.5 1. 0 d
Mn1 Mn4+ 8 c 0.25 0.25 0.25 1. 0 d
O1 O2- 24 g 0.2988(4) 0.1771(4) 0. 1. 0 d
loop_
_atom_type_symbol
_atom_type_oxidation_number
Th4+ 4.000
Cu2+ 2.000
Mn4+ 3.500
O2- -2.000
