#------------------------------------------------------------------------------
#$Date: 2012-02-28 13:14:52 +0100 (Tue 28 de Feb de 2012) $
#$Revision: 35911 $
#$URL: svn://www.crystallography.net/cod/cif/1/00/82/1008228.cif $
#------------------------------------------------------------------------------
#
# This file is available in the Crystallography Open Database (COD),
# http://www.crystallography.net/
#
# All data on this site have been placed in the public domain by the
# contributors.
#
data_1008228
_chemical_name_systematic          'Barium tetrairon(III) octachromium oxide'
_chemical_formula_structural       'Ba O (Fe2 O3)2 (Cr2 O3)4'
_chemical_formula_sum              'Ba Cr8 Fe4 O19'
_publ_section_title
;
Etude de la substitution de Fe par Al, Ga et Cr dans l'hexaferrite de
baryum, Ba O, (Fe₂ O₃)₆
;
loop_
_publ_author_name
  'Bertaut, F'
  'Deschamps, A'
  'Pauthenet, R'
_journal_name_full
;
Comptes Rendus Hebdomadaires des Seances de l'Academie des Sciences
(1884 - 1965)
;
_journal_coden_ASTM                COREAF
_journal_volume                    246
_journal_year                      1958
_journal_page_first                2594
_journal_page_last                 2597
_cell_length_a                     5.844
_cell_length_b                     5.844
_cell_length_c                     22.82
_cell_angle_alpha                  90
_cell_angle_beta                   90
_cell_angle_gamma                  120
_cell_volume                       674.9
_cell_formula_units_Z              2
loop_
_atom_site_label
_atom_site_fract_x
_atom_site_fract_y
_atom_site_fract_z
? ? ? ?
_cod_database_code 1008228
