#------------------------------------------------------------------------------
#$Date: 2016-02-18 16:37:37 +0100 (jue 18 de feb de 2016) $
#$Revision: 176729 $
#$URL: svn://www.crystallography.net/cod/cif/1/01/00/1010067.cif $
#------------------------------------------------------------------------------
#
# This file is available in the Crystallography Open Database (COD),
# http://www.crystallography.net/
#
# All data on this site have been placed in the public domain by the
# contributors.
#
data_1010067
loop_
_publ_author_name
'Jaeger, F M'
'Beintema, J'
_publ_section_title
;
The crystalstructure of cesium-, thallium- and rubidiumperrhenates
;
_journal_coden_ASTM              PKNAAU
_journal_name_full
;
Proceedings of the Koninklijke Nederlandse Academie van Wetenschappen
;
_journal_page_first              523
_journal_page_last               528
_journal_volume                  36
_journal_year                    1933
_chemical_formula_structural     'RB RE O4'
_chemical_formula_sum            'O4 Rb Re'
_chemical_name_systematic        'Rubidium rhenate'
_space_group_IT_number           88
_symmetry_cell_setting           tetragonal
_symmetry_Int_Tables_number      88
_symmetry_space_group_name_Hall  '-I 4ad'
_symmetry_space_group_name_H-M   'I 41/a :2'
_cell_angle_alpha                90
_cell_angle_beta                 90
_cell_angle_gamma                90
_cell_formula_units_Z            4
_cell_length_a                   5.8
_cell_length_b                   5.8
_cell_length_c                   13.17
_cell_volume                     443.0
_cod_original_sg_symbol_H-M      'I 41/a Z'
_cod_database_code               1010067
loop_
_symmetry_equiv_pos_as_xyz
x,y,z
-x,1/2-y,z
3/4-y,1/4+x,1/4+z
1/4+y,1/4-x,1/4+z
-x,-y,-z
x,1/2+y,-z
1/4+y,3/4-x,3/4-z
3/4-y,3/4+x,3/4-z
1/2+x,1/2+y,1/2+z
1/2-x,-y,1/2+z
1/4-y,3/4+x,3/4+z
3/4+y,3/4-x,3/4+z
1/2-x,1/2-y,1/2-z
1/2+x,y,1/2-z
3/4+y,1/4-x,1/4-z
1/4-y,1/4+x,1/4-z
loop_
_atom_site_label
_atom_site_fract_x
_atom_site_fract_y
_atom_site_fract_z
? ? ? ?
