#------------------------------------------------------------------------------
#$Date: 2016-09-18 21:09:47 +0200 (dom 18 de sep de 2016) $
#$Revision: 186639 $
#$URL: svn://www.crystallography.net/cod/cif/1/01/05/1010517.cif $
#------------------------------------------------------------------------------
#
# This file is available in the Crystallography Open Database (COD),
# http://www.crystallography.net/
#
# All data on this site have been placed in the public domain by the
# contributors.
#
data_1010517
loop_
_publ_author_name
'Hoard, J L'
'Goldstein, L'
_publ_section_title
;
The Structure of Potassium Hexachlorothalliate Dihydrate
;
_journal_coden_ASTM              JCPSA6
_journal_name_full               'Journal of Chemical Physics'
_journal_page_first              645
_journal_page_last               649
_journal_paper_doi               10.1063/1.1749568
_journal_volume                  3
_journal_year                    1935
_chemical_formula_structural     'K3 Tl Cl6 (H2 O)2'
_chemical_formula_sum            'Cl6 H4 K3 O2 Tl'
_chemical_name_systematic        'Potassium hexachlorothallate dihydrate'
_space_group_IT_number           139
_symmetry_cell_setting           tetragonal
_symmetry_Int_Tables_number      139
_symmetry_space_group_name_Hall  '-I 4 2'
_symmetry_space_group_name_H-M   'I 4/m m m'
_cell_angle_alpha                90
_cell_angle_beta                 90
_cell_angle_gamma                90
_cell_formula_units_Z            14
_cell_length_a                   15.841(20)
_cell_length_b                   15.841(20)
_cell_length_c                   18.005(20)
_cell_volume                     4518.1
_exptl_crystal_density_meas      2.86
_cod_original_formula_sum        'H4 Cl6 K3 O2 Tl'
_cod_database_code               1010517
loop_
_symmetry_equiv_pos_as_xyz
x,y,z
-x,-y,z
-x,y,z
x,-y,z
-y,x,z
y,-x,z
y,x,z
-y,-x,z
-x,-y,-z
x,y,-z
x,-y,-z
-x,y,-z
y,-x,-z
-y,x,-z
-y,-x,-z
y,x,-z
1/2+x,1/2+y,1/2+z
1/2-x,1/2-y,1/2+z
1/2-x,1/2+y,1/2+z
1/2+x,1/2-y,1/2+z
1/2-y,1/2+x,1/2+z
1/2+y,1/2-x,1/2+z
1/2+y,1/2+x,1/2+z
1/2-y,1/2-x,1/2+z
1/2-x,1/2-y,1/2-z
1/2+x,1/2+y,1/2-z
1/2+x,1/2-y,1/2-z
1/2-x,1/2+y,1/2-z
1/2+y,1/2-x,1/2-z
1/2-y,1/2+x,1/2-z
1/2-y,1/2-x,1/2-z
1/2+y,1/2+x,1/2-z
loop_
_atom_site_label
_atom_site_type_symbol
_atom_site_symmetry_multiplicity
_atom_site_Wyckoff_symbol
_atom_site_fract_x
_atom_site_fract_y
_atom_site_fract_z
_atom_site_occupancy
_atom_site_attached_hydrogens
_atom_site_calc_flag
Tl1 Tl3+ 2 a 0. 0. 0. 1. 0 d
Tl2 Tl3+ 4 c 0. 0.5 0. 1. 0 d
Tl3 Tl3+ 8 f 0.25 0.25 0.25 1. 0 d
Cl1 Cl1- 4 e 0. 0. 0.142 1. 0 d
Cl2 Cl1- 8 i 0.161 0. 0. 1. 0 d
Cl3 Cl1- 8 g 0. 0.5 0.142 1. 0 d
Cl4 Cl1- 16 l 0.386 0.114 0. 1. 0 d
Cl5 Cl1- 16 m 0.181 -0.181 0.362 1. 0 d
Cl6 Cl1- 16 m 0.16 -0.16 0.163 1. 0 d
Cl7 Cl1- 16 k 0.364 0.864 0.25 1. 0 d
K1 K1+ 2 b 0. 0. 0.5 1. 0 d
K2 K1+ 8 h 0.214 0.214 0. 1. 0 d
K3 K1+ 16 n 0. 0.295 0.132 1. 0 d
K4 K1+ 16 n 0. 0.293 0.376 1. 0 d
O1 O2- 4 e 0. 0. 0.347 1. 2 d
O2 O2- 8 j 0.173 0. 0.5 1. 2 d
O3 O2- 16 n 0. 0.157 0.276 1. 2 d
loop_
_atom_type_symbol
_atom_type_oxidation_number
Tl3+ 3.000
Cl1- -1.000
K1+ 1.000
O2- -2.000
