#------------------------------------------------------------------------------
#$Date: 2022-09-25 21:10:12 +0200 (dom 25 de sep de 2022) $
#$Revision: 278158 $
#$URL: svn://www.crystallography.net/cod/cif/1/01/07/1010721.cif $
#------------------------------------------------------------------------------
#
# This file is available in the Crystallography Open Database (COD),
# http://www.crystallography.net/
#
# All data on this site have been placed in the public domain by the
# contributors.
#
data_1010721
loop_
_publ_author_name
'Schwarz von Bergkampf, E'
_publ_section_title
;
Roentgenuntersuchung des Diborankaliums und seiner Hydrolysenprodukte,
besonders des Dioxy-Diborankaliums
;
_journal_coden_ASTM              ZAACAB
_journal_name_full
;
Zeitschrift fuer Anorganische und Allgemeine Chemie
;
_journal_page_first              254
_journal_page_last               257
_journal_paper_doi               10.1002/zaac.19352250308
_journal_volume                  225
_journal_year                    1935
_chemical_formula_structural     'K2 B2 H4 O2'
_chemical_formula_sum            'B2 H4 K2 O2'
_chemical_name_systematic        'Potassium dioxotetrahydridodiborate'
_cod_original_formula_sum        'H4 B2 K2 O2'
_cod_database_code               1010721
loop_
_atom_site_label
_atom_site_fract_x
_atom_site_fract_y
_atom_site_fract_z
? ? ? ?
