#------------------------------------------------------------------------------
#$Date: 2022-09-25 21:10:12 +0200 (dom 25 de sep de 2022) $
#$Revision: 278158 $
#$URL: svn://www.crystallography.net/cod/cif/1/01/08/1010855.cif $
#------------------------------------------------------------------------------
#
# This file is available in the Crystallography Open Database (COD),
# http://www.crystallography.net/
#
# All data on this site have been placed in the public domain by the
# contributors.
#
data_1010855
loop_
_publ_author_name
'Wyckoff, R W G'
_publ_section_title
;
The crystal structures of the hexaammoniates of the nickel halides
;
_journal_coden_ASTM              JACSAT
_journal_name_full               'Journal of the American Chemical Society'
_journal_page_first              1239
_journal_page_last               1245
_journal_paper_doi               10.1021/ja01427a007
_journal_volume                  44
_journal_year                    1922
_chemical_formula_structural     'Ni Br2 (N H3)6'
_chemical_formula_sum            'Br2 H18 N6 Ni'
_chemical_name_systematic        'Hexaamminenickel bromide'
_cell_angle_alpha                90
_cell_angle_beta                 90
_cell_angle_gamma                90
_cell_formula_units_Z            4
_cell_length_a                   10.48
_cell_length_b                   10.48
_cell_length_c                   10.48
_cell_volume                     1151.0
_cod_original_formula_sum        'H18 Br2 N6 Ni'
_cod_database_code               1010855
loop_
_atom_site_label
_atom_site_fract_x
_atom_site_fract_y
_atom_site_fract_z
? ? ? ?
