#------------------------------------------------------------------------------
#$Date: 2022-09-25 21:10:12 +0200 (dom 25 de sep de 2022) $
#$Revision: 278158 $
#$URL: svn://www.crystallography.net/cod/cif/1/01/08/1010857.cif $
#------------------------------------------------------------------------------
#
# This file is available in the Crystallography Open Database (COD),
# http://www.crystallography.net/
#
# All data on this site have been placed in the public domain by the
# contributors.
#
data_1010857
loop_
_publ_author_name
'Andrews, M R'
'Dushman, S'
_publ_section_title
;
Diffusion of Carbon Thru Tungsten and Tungsten Carbide
;
_journal_coden_ASTM              JPCHAX
_journal_name_full               'Journal of Physical Chemistry'
_journal_page_first              462
_journal_page_last               472
_journal_volume                  29
_journal_year                    1925
_chemical_formula_structural     'W2 C'
_chemical_formula_sum            'C W2'
_chemical_name_systematic        'Tungsten carbide (2/1)'
_cod_original_formula_sum        'W2 C'
_cod_database_code               1010857
loop_
_atom_site_label
_atom_site_fract_x
_atom_site_fract_y
_atom_site_fract_z
? ? ? ?
