#------------------------------------------------------------------------------
#$Date: 2017-10-13 01:32:00 +0200 (vie 13 de oct de 2017) $
#$Revision: 201954 $
#$URL: svn://www.crystallography.net/cod/cif/1/50/61/1506143.cif $
#------------------------------------------------------------------------------
#
# This file is available in the Crystallography Open Database (COD),
# http://www.crystallography.net/
#
# All data on this site have been placed in the public domain by the
# contributors.
#
data_1506143
loop_
_publ_author_name
'Mandel, Sarah M.'
'Singh, Pradeep N. D.'
'Muthukrishnan, Sivaramakrishnan'
'Chang, Mingxin'
'Krause, Jeanette A.'
'Gudmundsdóttir, Anna D'
_publ_section_title
;
 Solid-state photolysis of alpha-azidoacetophenones.
;
_journal_issue                   19
_journal_name_full               'Organic letters'
_journal_page_first              4207
_journal_page_last               4210
_journal_paper_doi               10.1021/ol061398s
_journal_volume                  8
_journal_year                    2006
_chemical_formula_moiety         'C14 H11 N3 O'
_chemical_formula_sum            'C14 H11 N3 O'
_chemical_formula_weight         237.26
_chemical_name_systematic
; 
 ? 
;
_space_group_IT_number           61
_symmetry_cell_setting           orthorhombic
_symmetry_space_group_name_Hall  '-P 2ac 2ab'
_symmetry_space_group_name_H-M   'P b c a'
_atom_sites_solution_hydrogens   geom
_atom_sites_solution_primary     direct
_atom_sites_solution_secondary   difmap
_audit_creation_method           SHELXL
_cell_angle_alpha                90.00
_cell_angle_beta                 90.00
_cell_angle_gamma                90.00
_cell_formula_units_Z            8
_cell_length_a                   10.5307(9)
_cell_length_b                   7.9709(7)
_cell_length_c                   29.396(3)
_cell_measurement_reflns_used    3784
_cell_measurement_temperature    294(2)
_cell_measurement_theta_max      28.31
_cell_measurement_theta_min      2.38
_cell_volume                     2467.5(4)
_computing_cell_refinement       'SAINT v5.A06 (Bruker)'
_computing_data_collection       'SMART v4.050 (Bruker)'
_computing_data_reduction        'SAINT v5.A06 (Bruker)'
_computing_molecular_graphics    'SHELXTL v5.03 (Sheldrick)'
_computing_publication_material  'SHELXTL v5.03, 6.14 (Sheldrick)'
_computing_structure_refinement  'SHELXTL v5.03, 6.14 (Sheldrick)'
_computing_structure_solution    'SHELXTL v5.03 (Sheldrick)'
_diffrn_ambient_temperature      294(2)
_diffrn_detector_area_resol_mean 0.75
_diffrn_measured_fraction_theta_full 0.998
_diffrn_measured_fraction_theta_max 0.998
_diffrn_measurement_device_type  'Bruker SMART 1K CCD'
_diffrn_measurement_method       'ω scans'
_diffrn_radiation_monochromator  graphite
_diffrn_radiation_source         'fine-focus sealed tube'
_diffrn_radiation_type           MoK\a
_diffrn_radiation_wavelength     0.71073
_diffrn_reflns_av_R_equivalents  0.0532
_diffrn_reflns_av_sigmaI/netI    0.0366
_diffrn_reflns_limit_h_max       14
_diffrn_reflns_limit_h_min       -11
_diffrn_reflns_limit_k_max       9
_diffrn_reflns_limit_k_min       -10
_diffrn_reflns_limit_l_max       39
_diffrn_reflns_limit_l_min       -31
_diffrn_reflns_number            15299
_diffrn_reflns_theta_full        28.31
_diffrn_reflns_theta_max         28.31
_diffrn_reflns_theta_min         2.38
_diffrn_standards_decay_%        0
_diffrn_standards_number         0
_exptl_absorpt_coefficient_mu    0.084
_exptl_absorpt_correction_T_max  0.9818
_exptl_absorpt_correction_T_min  0.9561
_exptl_absorpt_correction_type   multi-scan
_exptl_absorpt_process_details   'SADABS (Sheldrick)'
_exptl_crystal_colour            colorless
_exptl_crystal_density_diffrn    1.277
_exptl_crystal_density_meas      ?
_exptl_crystal_description       'rectangular blocks'
_exptl_crystal_F_000             992
_exptl_crystal_size_max          0.54
_exptl_crystal_size_mid          0.26
_exptl_crystal_size_min          0.22
_refine_diff_density_max         0.448
_refine_diff_density_min         -0.149
_refine_diff_density_rms         0.033
_refine_ls_extinction_coef       0.0101(19)
_refine_ls_extinction_expression Fc^*^=kFc[1+0.001xFc²λ³/sin(2θ)]^-1/4^
_refine_ls_extinction_method     SHELXL
_refine_ls_goodness_of_fit_ref   1.002
_refine_ls_hydrogen_treatment    constr
_refine_ls_matrix_type           full
_refine_ls_number_parameters     164
_refine_ls_number_reflns         3073
_refine_ls_number_restraints     0
_refine_ls_restrained_S_all      1.002
_refine_ls_R_factor_all          0.1045
_refine_ls_R_factor_gt           0.0517
_refine_ls_shift/su_max          0.002
_refine_ls_shift/su_mean         0.000
_refine_ls_structure_factor_coef Fsqd
_refine_ls_weighting_details
'calc w=1/[σ²(Fo²)+(0.0926P)²+0.0000P] where P=(Fo²+2Fc²)/3'
_refine_ls_weighting_scheme      calc
_refine_ls_wR_factor_gt          0.1428
_refine_ls_wR_factor_ref         0.1667
_reflns_number_gt                1652
_reflns_number_total             3073
_reflns_threshold_expression     >2σ(I)
_cod_data_source_file            ol061398ssi20060608_024510.cif
_cod_data_source_block           1C
_cod_depositor_comments
;
The following automatic conversions were performed:

'_symmetry_cell_setting' value 'Orthorhombic' changed to
'orthorhombic' according to
/home/saulius/struct/CIF-dictionaries/cif_core.dic dictionary named
'cif_core.dic' version 2.4.1 from 2010-06-29.

Automatic conversion script
Id: cif_fix_values 1715 2011-07-08 13:25:40Z adriana 

The following automatic conversions were performed:

'_exptl_crystal_density_meas' value 'not measured' was changed to '?'
- the value is perceived as not measured.

Automatic conversion script
Id: cif_fix_values 3008 2015-01-20 13:52:24Z robertas 
;
_cod_original_sg_symbol_H-M      Pbca
_cod_database_code               1506143
loop_
_symmetry_equiv_pos_as_xyz
'x, y, z'
'-x+1/2, -y, z+1/2'
'-x, y+1/2, -z+1/2'
'x+1/2, -y+1/2, -z'
'-x, -y, -z'
'x-1/2, y, -z-1/2'
'x, -y-1/2, z-1/2'
'-x-1/2, y-1/2, z'
loop_
_atom_site_aniso_label
_atom_site_aniso_U_11
_atom_site_aniso_U_22
_atom_site_aniso_U_33
_atom_site_aniso_U_23
_atom_site_aniso_U_13
_atom_site_aniso_U_12
O1 0.0529(8) 0.1097(12) 0.0864(10) -0.0117(8) 0.0055(7) 0.0126(7)
N1 0.0934(13) 0.0797(13) 0.0851(12) -0.0170(10) 0.0085(11) -0.0064(10)
N2 0.0905(14) 0.100(2) 0.0643(11) -0.0134(11) -0.0007(10) 0.0136(11)
N3 0.158(2) 0.158(2) 0.0794(15) 0.002(2) 0.0361(15) 0.003(2)
C1 0.0625(11) 0.0717(13) 0.0667(11) -0.0038(9) 0.0011(9) -0.0006(9)
C2 0.0506(10) 0.0524(10) 0.0678(10) 0.0092(8) 0.0022(8) 0.0065(8)
C3 0.0459(9) 0.0483(9) 0.0628(10) 0.0111(8) -0.0001(7) 0.0026(7)
C4 0.0475(9) 0.0616(11) 0.0688(11) 0.0021(9) -0.0050(8) 0.0011(8)
C5 0.0448(9) 0.0648(11) 0.0735(11) 0.0032(9) 0.0036(8) 0.0033(8)
C6 0.0518(10) 0.0475(9) 0.0633(10) 0.0129(8) -0.0002(8) 0.0004(7)
C7 0.0495(10) 0.0619(11) 0.0647(10) 0.0086(9) -0.0042(8) -0.0046(8)
C8 0.0429(9) 0.0640(11) 0.0694(11) 0.0106(9) 0.0019(8) 0.0008(8)
C9 0.0602(11) 0.0506(10) 0.0662(11) 0.0049(9) 0.0054(8) -0.0060(8)
C10 0.0662(12) 0.0688(13) 0.0916(15) -0.0070(11) 0.0086(11) -0.0002(10)
C11 0.085(2) 0.083(2) 0.118(2) -0.0241(15) 0.029(2) -0.0023(12)
C12 0.115(2) 0.100(2) 0.094(2) -0.0336(15) 0.038(2) -0.033(2)
C13 0.109(2) 0.096(2) 0.0679(14) -0.0032(11) 0.0086(13) -0.0284(15)
C14 0.0791(13) 0.0693(12) 0.0702(12) 0.0075(11) 0.0022(10) -0.0072(10)
loop_
_atom_site_label
_atom_site_type_symbol
_atom_site_fract_x
_atom_site_fract_y
_atom_site_fract_z
_atom_site_U_iso_or_equiv
_atom_site_thermal_displace_type
_atom_site_occupancy
_atom_site_calc_flag
_atom_site_refinement_flags
O1 O 0.10340(12) 0.1713(2) 0.50902(5) 0.0830(5) Uani 1 d .
N1 N 0.2655(2) 0.3088(3) 0.57043(7) 0.0860(6) Uani 1 d .
N2 N 0.2046(2) 0.2245(3) 0.59736(7) 0.0849(6) Uani 1 d .
N3 N 0.1468(3) 0.1634(4) 0.62520(8) 0.1321(9) Uani 1 d .
C1 C 0.3158(2) 0.2180(3) 0.53118(6) 0.0670(5) Uani 1 d .
H1A H 0.3638 0.1219 0.54192 0.080 Uiso 1 calc R
H1B H 0.3740 0.2907 0.51490 0.080 Uiso 1 calc R
C2 C 0.2146(2) 0.1578(2) 0.49862(6) 0.0570(5) Uani 1 d .
C3 C 0.25526(15) 0.0796(2) 0.45529(6) 0.0523(4) Uani 1 d .
C4 C 0.3824(2) 0.0689(2) 0.44259(6) 0.0593(5) Uani 1 d .
H4 H 0.4450 0.1116 0.46168 0.071 Uiso 1 calc R
C5 C 0.4161(2) -0.0046(2) 0.40187(6) 0.0610(5) Uani 1 d .
H5 H 0.5015 -0.0106 0.39399 0.073 Uiso 1 calc R
C6 C 0.3257(2) -0.0698(2) 0.37227(6) 0.0542(4) Uani 1 d .
C7 C 0.1984(2) -0.0577(2) 0.38512(6) 0.0587(5) Uani 1 d .
H7 H 0.1358 -0.0994 0.36588 0.070 Uiso 1 calc R
C8 C 0.1641(2) 0.0147(2) 0.42564(6) 0.0588(5) Uani 1 d .
H8 H 0.0786 0.0206 0.43349 0.071 Uiso 1 calc R
C9 C 0.3642(2) -0.1485(2) 0.32875(6) 0.0590(5) Uani 1 d .
C10 C 0.4740(2) -0.2456(3) 0.32587(8) 0.0755(6) Uani 1 d .
H10 H 0.5235 -0.2622 0.35167 0.091 Uiso 1 calc R
C11 C 0.5096(3) -0.3166(3) 0.28545(10) 0.0954(8) Uani 1 d .
H11 H 0.5832 -0.3811 0.28413 0.114 Uiso 1 calc R
C12 C 0.4388(3) -0.2941(4) 0.24703(10) 0.1027(9) Uani 1 d .
H12 H 0.4640 -0.3429 0.21975 0.123 Uiso 1 calc R
C13 C 0.3300(3) -0.1993(3) 0.24884(8) 0.0907(7) Uani 1 d .
H13 H 0.2819 -0.1831 0.22269 0.109 Uiso 1 calc R
C14 C 0.2918(2) -0.1276(3) 0.28956(6) 0.0729(6) Uani 1 d .
H14 H 0.2173 -0.0650 0.29069 0.087 Uiso 1 calc R
loop_
_atom_type_symbol
_atom_type_description
_atom_type_scat_dispersion_real
_atom_type_scat_dispersion_imag
_atom_type_scat_source
C C 0.0033 0.0016 'International Tables Vol C Tables 4.2.6.8 and 6.1.1.4'
H H 0.0000 0.0000 'International Tables Vol C Tables 4.2.6.8 and 6.1.1.4'
N N 0.0061 0.0033 'International Tables Vol C Tables 4.2.6.8 and 6.1.1.4'
O O 0.0106 0.0060 'International Tables Vol C Tables 4.2.6.8 and 6.1.1.4'
loop_
_geom_angle_atom_site_label_1
_geom_angle_atom_site_label_2
_geom_angle_atom_site_label_3
_geom_angle
N2 N1 C1 115.5(2)
N3 N2 N1 171.8(3)
N1 C1 C2 113.6(2)
O1 C2 C3 122.1(2)
O1 C2 C1 119.5(2)
C3 C2 C1 118.32(15)
C4 C3 C8 118.1(2)
C4 C3 C2 122.3(2)
C8 C3 C2 119.59(15)
C5 C4 C3 120.4(2)
C4 C5 C6 121.7(2)
C5 C6 C7 117.5(2)
C5 C6 C9 120.74(15)
C7 C6 C9 121.7(2)
C8 C7 C6 121.1(2)
C7 C8 C3 121.1(2)
C14 C9 C10 118.1(2)
C14 C9 C6 121.0(2)
C10 C9 C6 121.0(2)
C11 C10 C9 120.7(2)
C12 C11 C10 120.9(2)
C11 C12 C13 119.7(2)
C12 C13 C14 120.2(2)
C13 C14 C9 120.5(2)
loop_
_geom_bond_atom_site_label_1
_geom_bond_atom_site_label_2
_geom_bond_distance
O1 C2 1.215(2)
N1 N2 1.220(3)
N1 C1 1.462(3)
N2 N3 1.130(3)
C1 C2 1.511(3)
C2 C3 1.482(2)
C3 C4 1.393(2)
C3 C8 1.396(2)
C4 C5 1.379(2)
C5 C6 1.391(2)
C6 C7 1.396(2)
C6 C9 1.481(2)
C7 C8 1.372(3)
C9 C14 1.391(3)
C9 C10 1.394(3)
C10 C11 1.369(3)
C11 C12 1.366(4)
C12 C13 1.373(4)
C13 C14 1.386(3)
loop_
_geom_torsion_atom_site_label_1
_geom_torsion_atom_site_label_2
_geom_torsion_atom_site_label_3
_geom_torsion_atom_site_label_4
_geom_torsion
C1 N1 N2 N3 178.4(1000)
N2 N1 C1 C2 68.2(2)
N1 C1 C2 O1 -7.8(3)
N1 C1 C2 C3 173.9(2)
O1 C2 C3 C4 177.8(2)
C1 C2 C3 C4 -3.9(2)
O1 C2 C3 C8 -1.7(2)
C1 C2 C3 C8 176.6(2)
C8 C3 C4 C5 -0.3(2)
C2 C3 C4 C5 -179.8(2)
C3 C4 C5 C6 0.1(3)
C4 C5 C6 C7 0.3(3)
C4 C5 C6 C9 -179.9(2)
C5 C6 C7 C8 -0.6(3)
C9 C6 C7 C8 179.7(2)
C6 C7 C8 C3 0.4(3)
C4 C3 C8 C7 0.0(2)
C2 C3 C8 C7 179.6(2)
C5 C6 C9 C14 -142.6(2)
C7 C6 C9 C14 37.2(2)
C5 C6 C9 C10 37.4(2)
C7 C6 C9 C10 -142.8(2)
C14 C9 C10 C11 0.6(3)
C6 C9 C10 C11 -179.4(2)
C9 C10 C11 C12 0.0(4)
C10 C11 C12 C13 -0.1(4)
C11 C12 C13 C14 -0.4(4)
C12 C13 C14 C9 1.1(3)
C10 C9 C14 C13 -1.1(3)
C6 C9 C14 C13 178.8(2)
loop_
_cod_related_entry_id
_cod_related_entry_code
_cod_related_entry_database
1 9185168 ChemSpider
