#------------------------------------------------------------------------------
#$Date: 2016-02-14 15:26:36 +0100 (dom 14 de feb de 2016) $
#$Revision: 176435 $
#$URL: svn://www.crystallography.net/cod/cif/1/50/89/1508997.cif $
#------------------------------------------------------------------------------
#
# This file is available in the Crystallography Open Database (COD),
# http://www.crystallography.net/
#
# All data on this site have been placed in the public domain by the
# contributors.
#
data_1508997
loop_
_publ_author_name
'Verbovits'kii, Yu.V.'
'Kotur, B.Ya.'
_publ_section_title
;
 Phase equilibria and the crystal structure of compounds in the (Ti, Hf) -
 Ag - Ga systems
;
_journal_name_full               'Dopov. Nats. Akad. Nauk. Ukr.'
_journal_page_first              132
_journal_page_last               136
_journal_volume                  2003
_journal_year                    2003
_chemical_formula_sum            'Ag0.52 Ga2.48 Ti'
_chemical_name_systematic        'Titanium silver gallium (1/0.52/2.48)'
_space_group_IT_number           221
_symmetry_space_group_name_Hall  '-P 4 2 3'
_symmetry_space_group_name_H-M   'P m -3 m'
_cell_angle_alpha                90
_cell_angle_beta                 90
_cell_angle_gamma                90
_cell_formula_units_Z            1
_cell_length_a                   3.984
_cell_length_b                   3.984
_cell_length_c                   3.984
_cell_volume                     63.235
_citation_journal_id_ASTM        DNAUFL
_cod_data_source_file            silver0-1_123.cif
_cod_data_source_block           Ag0.52Ga2.48Ti1
_cod_original_cell_volume        63.23507
_cod_original_formula_sum        'Ag0.52 Ga2.48 Ti1'
_cod_database_code               1508997
loop_
_symmetry_equiv_pos_as_xyz
x,y,z
-y,x,z
-x,-y,z
y,-x,z
x,-y,-z
y,x,-z
-x,y,-z
-y,-x,-z
z,x,y
-x,z,y
-z,-x,y
x,-z,y
z,-x,-y
x,z,-y
-z,x,-y
-x,-z,-y
y,z,x
y,-z,-x
z,y,-x
-y,z,-x
-z,-y,-x
-y,-z,x
z,-y,x
-z,y,x
-x,-y,-z
y,-x,-z
x,y,-z
-y,x,-z
-x,y,z
-y,-x,z
x,-y,z
y,x,z
-z,-x,-y
x,-z,-y
z,x,-y
-x,z,-y
-z,x,y
-x,-z,y
z,-x,y
x,z,y
-y,-z,-x
-y,z,x
-z,-y,x
y,-z,x
z,y,x
y,z,-x
-z,y,-x
z,-y,-x
loop_
_atom_site_label
_atom_site_type_symbol
_atom_site_fract_x
_atom_site_fract_y
_atom_site_fract_z
_atom_site_occupancy
Ag1 Ag 0 0.5 0.5 0.173
Ti1 Ti 0 0 0 1
Ga1 Ga 0 0.5 0.5 0.827
