#------------------------------------------------------------------------------
#$Date: 2016-02-18 16:37:37 +0100 (jue 18 de feb de 2016) $
#$Revision: 176729 $
#$URL: svn://www.crystallography.net/cod/cif/1/50/90/1509036.cif $
#------------------------------------------------------------------------------
#
# This file is available in the Crystallography Open Database (COD),
# http://www.crystallography.net/
#
# All data on this site have been placed in the public domain by the
# contributors.
#
data_1509036
loop_
_publ_author_name
'Hellner, E.'
_publ_section_title
;
 Das Zweistoffsystem Silber-Indium
;
_journal_name_full               'Zeitschrift fuer Metallkunde'
_journal_page_first              17
_journal_page_last               19
_journal_volume                  42
_journal_year                    1951
_chemical_formula_sum            'Ag0.75 In0.25'
_chemical_name_systematic        'Silver indium (0.75/0.25) - HT'
_space_group_IT_number           194
_symmetry_space_group_name_Hall  '-P 6c 2c'
_symmetry_space_group_name_H-M   'P 63/m m c'
_cell_angle_alpha                90
_cell_angle_beta                 90
_cell_angle_gamma                120
_cell_formula_units_Z            2
_cell_length_a                   2.948
_cell_length_b                   2.948
_cell_length_c                   4.794
_cell_volume                     36.081
_citation_journal_id_ASTM        ZEMTAE
_cod_data_source_file            silver0-1_165.cif
_cod_data_source_block           Ag0.75In0.25
_cod_original_cell_volume        36.08142
_cod_database_code               1509036
loop_
_symmetry_equiv_pos_as_xyz
x,y,z
x-y,x,z+1/2
-y,x-y,z
-x,-y,z+1/2
-x+y,-x,z
y,-x+y,z+1/2
-y,-x,-z+1/2
x-y,-y,-z
x,x-y,-z+1/2
y,x,-z
-x+y,y,-z+1/2
-x,-x+y,-z
-x,-y,-z
-x+y,-x,-z-1/2
y,-x+y,-z
x,y,-z-1/2
x-y,x,-z
-y,x-y,-z-1/2
y,x,z-1/2
-x+y,y,z
-x,-x+y,z-1/2
-y,-x,z
x-y,-y,z-1/2
x,x-y,z
loop_
_atom_site_label
_atom_site_type_symbol
_atom_site_fract_x
_atom_site_fract_y
_atom_site_fract_z
_atom_site_occupancy
In1 In 0.3333 0.6667 0.25 0.25
Ag1 Ag 0.3333 0.6667 0.25 0.75
