#------------------------------------------------------------------------------
#$Date: 2018-09-27 06:13:35 +0200 (jue 27 de sep de 2018) $
#$Revision: 211196 $
#$URL: svn://www.crystallography.net/cod/cif/1/50/91/1509174.cif $
#------------------------------------------------------------------------------
#
# This file is available in the Crystallography Open Database (COD),
# http://www.crystallography.net/
#
# All data on this site have been placed in the public domain by the
# contributors.
#
data_1509174
loop_
_publ_author_name
'Tonejc, A.M.'
'Bonefacic, A.'
'Tonejc, A.'
_publ_section_title
;
 Atomic volume expansion of Ag + 52 wt.% Cd alloy
;
_journal_name_full               'Physics Letters A'
_journal_page_first              145
_journal_page_last               146
_journal_paper_doi               10.1016/0375-9601(74)90710-5
_journal_volume                  49
_journal_year                    1974
_chemical_formula_sum            'Ag Cd'
_space_group_IT_number           194
_symmetry_space_group_name_Hall  '-P 6c 2c'
_symmetry_space_group_name_H-M   'P 63/m m c'
_cell_angle_alpha                90
_cell_angle_beta                 90
_cell_angle_gamma                120
_cell_formula_units_Z            1
_cell_length_a                   3.007
_cell_length_b                   3.007
_cell_length_c                   4.852
_cell_volume                     37.994
_citation_journal_id_ASTM        PYLAAG
_cod_data_source_file            silver1-2_134.cif
_cod_data_source_block           Ag1Cd1
_cod_original_cell_volume        37.99429
_cod_original_formula_sum        'Ag1 Cd1'
_cod_database_code               1509174
loop_
_symmetry_equiv_pos_as_xyz
x,y,z
x-y,x,z+1/2
-y,x-y,z
-x,-y,z+1/2
-x+y,-x,z
y,-x+y,z+1/2
-y,-x,-z+1/2
x-y,-y,-z
x,x-y,-z+1/2
y,x,-z
-x+y,y,-z+1/2
-x,-x+y,-z
-x,-y,-z
-x+y,-x,-z-1/2
y,-x+y,-z
x,y,-z-1/2
x-y,x,-z
-y,x-y,-z-1/2
y,x,z-1/2
-x+y,y,z
-x,-x+y,z-1/2
-y,-x,z
x-y,-y,z-1/2
x,x-y,z
loop_
_atom_site_label
_atom_site_type_symbol
_atom_site_fract_x
_atom_site_fract_y
_atom_site_fract_z
_atom_site_occupancy
_atom_site_U_iso_or_equiv
Ag1 Ag 0.3333 0.6667 0.25 0.5 0.0
Cd1 Cd 0.3333 0.6667 0.25 0.5 0.0
