#------------------------------------------------------------------------------
#$Date: 2016-02-14 15:26:36 +0100 (dom 14 de feb de 2016) $
#$Revision: 176435 $
#$URL: svn://www.crystallography.net/cod/cif/1/51/00/1510010.cif $
#------------------------------------------------------------------------------
#
# This file is available in the Crystallography Open Database (COD),
# http://www.crystallography.net/
#
# All data on this site have been placed in the public domain by the
# contributors.
#
data_1510010
loop_
_publ_author_name
'Perenthaler, E.'
'Beyeler, H.U.'
'Schulz, H.'
_publ_section_title
;
 Structure investigations, atomic potentials, and phase transitions of the
 fast ionic conductor Ag3 S I
;
_journal_name_full               'Solid State Ionics'
_journal_page_first              493
_journal_page_last               496
_journal_paper_doi               10.1016/0167-2738(81)90300-3
_journal_volume                  5
_journal_year                    1981
_chemical_formula_sum            'Ag3 I S'
_chemical_name_systematic        'Ag3 S I'
_space_group_IT_number           221
_symmetry_space_group_name_Hall  '-P 4 2 3'
_symmetry_space_group_name_H-M   'P m -3 m'
_cell_angle_alpha                90
_cell_angle_beta                 90
_cell_angle_gamma                90
_cell_formula_units_Z            1
_cell_length_a                   4.89
_cell_length_b                   4.89
_cell_length_c                   4.89
_cell_volume                     116.930
_citation_journal_id_ASTM        SSIOD3
_cod_data_source_file            silver3-x_41.cif
_cod_data_source_block           Ag3I1S1
_cod_original_cell_volume        116.9302
_cod_original_formula_sum        'Ag3 I1 S1'
_cod_database_code               1510010
loop_
_symmetry_equiv_pos_as_xyz
x,y,z
-y,x,z
-x,-y,z
y,-x,z
x,-y,-z
y,x,-z
-x,y,-z
-y,-x,-z
z,x,y
-x,z,y
-z,-x,y
x,-z,y
z,-x,-y
x,z,-y
-z,x,-y
-x,-z,-y
y,z,x
y,-z,-x
z,y,-x
-y,z,-x
-z,-y,-x
-y,-z,x
z,-y,x
-z,y,x
-x,-y,-z
y,-x,-z
x,y,-z
-y,x,-z
-x,y,z
-y,-x,z
x,-y,z
y,x,z
-z,-x,-y
x,-z,-y
z,x,-y
-x,z,-y
-z,x,y
-x,-z,y
z,-x,y
x,z,y
-y,-z,-x
-y,z,x
-z,-y,x
y,-z,x
z,y,x
y,z,-x
-z,y,-x
z,-y,-x
loop_
_atom_site_label
_atom_site_type_symbol
_atom_site_fract_x
_atom_site_fract_y
_atom_site_fract_z
_atom_site_occupancy
_atom_site_U_iso_or_equiv
Ag1 Ag+1 0.5 0.5 0 1 0.0
S1 S-2 0.5 0.5 0.5 1 0.0
I1 I-1 0 0 0 1 0.0
