#------------------------------------------------------------------------------
#$Date: 2016-02-18 16:37:37 +0100 (jue 18 de feb de 2016) $
#$Revision: 176729 $
#$URL: svn://www.crystallography.net/cod/cif/1/51/01/1510106.cif $
#------------------------------------------------------------------------------
#
# This file is available in the Crystallography Open Database (COD),
# http://www.crystallography.net/
#
# All data on this site have been placed in the public domain by the
# contributors.
#
data_1510106
loop_
_publ_author_name
'Tsuei, C.C.'
'Newkirk, L.R.'
_publ_section_title
;
 Superconducting transition temperatures and lattice parameters of
 simple-cubic metastable Te-Au solutions containing Fe and Mn
;
_journal_name_full
;
Physical Review, Serie 3. B - Solid State (1,1970-17,1977)
;
_journal_page_first              755
_journal_page_last               761
_journal_volume                  3
_journal_year                    1971
_chemical_formula_sum            'Au0.3 Mn0.02 Te0.68'
_chemical_name_systematic        '(Au15 Mn Te34)0.02'
_space_group_IT_number           221
_symmetry_space_group_name_Hall  '-P 4 2 3'
_symmetry_space_group_name_H-M   'P m -3 m'
_cell_angle_alpha                90
_cell_angle_beta                 90
_cell_angle_gamma                90
_cell_formula_units_Z            1
_cell_length_a                   2.9725
_cell_length_b                   2.9725
_cell_length_c                   2.9725
_cell_volume                     26.264
_citation_journal_id_ASTM        PLRBAQ
_cod_data_source_file            gold_16.cif
_cod_data_source_block           Au0.3Mn0.02Te0.68
_cod_original_cell_volume        26.26429
_cod_database_code               1510106
loop_
_symmetry_equiv_pos_as_xyz
x,y,z
-y,x,z
-x,-y,z
y,-x,z
x,-y,-z
y,x,-z
-x,y,-z
-y,-x,-z
z,x,y
-x,z,y
-z,-x,y
x,-z,y
z,-x,-y
x,z,-y
-z,x,-y
-x,-z,-y
y,z,x
y,-z,-x
z,y,-x
-y,z,-x
-z,-y,-x
-y,-z,x
z,-y,x
-z,y,x
-x,-y,-z
y,-x,-z
x,y,-z
-y,x,-z
-x,y,z
-y,-x,z
x,-y,z
y,x,z
-z,-x,-y
x,-z,-y
z,x,-y
-x,z,-y
-z,x,y
-x,-z,y
z,-x,y
x,z,y
-y,-z,-x
-y,z,x
-z,-y,x
y,-z,x
z,y,x
y,z,-x
-z,y,-x
z,-y,-x
loop_
_atom_site_label
_atom_site_type_symbol
_atom_site_fract_x
_atom_site_fract_y
_atom_site_fract_z
_atom_site_occupancy
_atom_site_U_iso_or_equiv
Te1 Te 0 0 0 0.686 0.0
Mn1 Mn 0 0 0 0.02 0.0
Au1 Au 0 0 0 0.294 0.0
