#------------------------------------------------------------------------------
#$Date: 2016-02-18 16:37:37 +0100 (jue 18 de feb de 2016) $
#$Revision: 176729 $
#$URL: svn://www.crystallography.net/cod/cif/1/51/04/1510493.cif $
#------------------------------------------------------------------------------
#
# This file is available in the Crystallography Open Database (COD),
# http://www.crystallography.net/
#
# All data on this site have been placed in the public domain by the
# contributors.
#
data_1510493
loop_
_publ_author_name
'Kienast, G.'
'Verma, J.'
_publ_section_title
;
 Das Verhalten der Alkalimetalle zu Kupfer, Silber und Gold
;
_journal_name_full
'Zeitschrift fuer Anorganische und Allgemeine Chemie'
_journal_page_first              143
_journal_page_last               169
_journal_paper_doi               10.1002/zaac.19613100304
_journal_volume                  310
_journal_year                    1961
_chemical_formula_sum            'Au0.9 Li1.1'
_chemical_name_systematic        '(Au0.9 Li0.1) Li'
_space_group_IT_number           221
_symmetry_space_group_name_Hall  '-P 4 2 3'
_symmetry_space_group_name_H-M   'P m -3 m'
_cell_angle_alpha                90
_cell_angle_beta                 90
_cell_angle_gamma                90
_cell_formula_units_Z            1
_cell_length_a                   3.098
_cell_length_b                   3.098
_cell_length_c                   3.098
_cell_volume                     29.733
_citation_journal_id_ASTM        ZAACAB
_cod_data_source_file            gold_59.cif
_cod_data_source_block           Au0.9Li1.1
_cod_original_cell_volume        29.73338
_cod_database_code               1510493
loop_
_symmetry_equiv_pos_as_xyz
x,y,z
-y,x,z
-x,-y,z
y,-x,z
x,-y,-z
y,x,-z
-x,y,-z
-y,-x,-z
z,x,y
-x,z,y
-z,-x,y
x,-z,y
z,-x,-y
x,z,-y
-z,x,-y
-x,-z,-y
y,z,x
y,-z,-x
z,y,-x
-y,z,-x
-z,-y,-x
-y,-z,x
z,-y,x
-z,y,x
-x,-y,-z
y,-x,-z
x,y,-z
-y,x,-z
-x,y,z
-y,-x,z
x,-y,z
y,x,z
-z,-x,-y
x,-z,-y
z,x,-y
-x,z,-y
-z,x,y
-x,-z,y
z,-x,y
x,z,y
-y,-z,-x
-y,z,x
-z,-y,x
y,-z,x
z,y,x
y,z,-x
-z,y,-x
z,-y,-x
loop_
_atom_site_label
_atom_site_type_symbol
_atom_site_fract_x
_atom_site_fract_y
_atom_site_fract_z
_atom_site_occupancy
_atom_site_U_iso_or_equiv
Li2 Li 0.5 0.5 0.5 1 0.0
Li1 Li 0 0 0 0.1 0.0
Au1 Au 0 0 0 0.9 0.0
