#------------------------------------------------------------------------------
#$Date: 2016-02-18 16:37:37 +0100 (jue 18 de feb de 2016) $
#$Revision: 176729 $
#$URL: svn://www.crystallography.net/cod/cif/1/51/05/1510550.cif $
#------------------------------------------------------------------------------
#
# This file is available in the Crystallography Open Database (COD),
# http://www.crystallography.net/
#
# All data on this site have been placed in the public domain by the
# contributors.
#
data_1510550
loop_
_publ_author_name
'Jansen, M.'
'Mudring, A.V.'
_publ_section_title
;
 Gemischte Alkalimetallauridaurate der Zusammensetzung Rb7-x Csx Au5O2
;
_journal_name_full
'Zeitschrift fuer Anorganische und Allgemeine Chemie'
_journal_page_first              2200
_journal_page_last               2200
_journal_volume                  628
_journal_year                    2002
_chemical_formula_sum            'Au5 Cs1.89 O2 Rb5.11'
_chemical_name_systematic        'Cs (Cs0.89 Rb1.11) (Au O2) (Rb Au)4'
_space_group_IT_number           71
_symmetry_space_group_name_Hall  '-I 2 2'
_symmetry_space_group_name_H-M   'I m m m'
_cell_angle_alpha                90
_cell_angle_beta                 90
_cell_angle_gamma                90
_cell_formula_units_Z            2
_cell_length_a                   5.735
_cell_length_b                   9.368
_cell_length_c                   16.9
_cell_volume                     907.961
_citation_journal_id_ASTM        ZAACAB
_cod_data_source_file            gold_653.cif
_cod_data_source_block           Au5Cs1.89O2Rb5.11
_cod_original_cell_volume        907.9606
_cod_database_code               1510550
loop_
_symmetry_equiv_pos_as_xyz
x,y,z
-x,-y,z
x,-y,-z
-x,y,-z
-x,-y,-z
x,y,-z
-x,y,z
x,-y,z
x+1/2,y+1/2,z+1/2
-x+1/2,-y+1/2,z+1/2
x+1/2,-y+1/2,-z+1/2
-x+1/2,y+1/2,-z+1/2
-x+1/2,-y+1/2,-z+1/2
x+1/2,y+1/2,-z+1/2
-x+1/2,y+1/2,z+1/2
x+1/2,-y+1/2,z+1/2
loop_
_atom_site_label
_atom_site_type_symbol
_atom_site_fract_x
_atom_site_fract_y
_atom_site_fract_z
_atom_site_occupancy
_atom_site_U_iso_or_equiv
Rb1 Rb+1 0 0.289 0.5 0.555 0.0
Cs2 Cs+1 0 0.289 0.5 0.445 0.0
Rb2 Rb+1 0 0.222 0.166 1 0.0
Cs1 Cs+1 0.5 0 0.5 1 0.0
Au3 Au-1 0.5 0 0.193 1 0.0
Au1 Au+1 0 0 0 1 0.0
Au2 Au-1 0 0 0.348 1 0.0
O1 O-2 0 0.22 0 1 0.0
