#------------------------------------------------------------------------------
#$Date: 2016-02-14 15:26:36 +0100 (dom 14 de feb de 2016) $
#$Revision: 176435 $
#$URL: svn://www.crystallography.net/cod/cif/1/51/08/1510805.cif $
#------------------------------------------------------------------------------
#
# This file is available in the Crystallography Open Database (COD),
# http://www.crystallography.net/
#
# All data on this site have been placed in the public domain by the
# contributors.
#
data_1510805
loop_
_publ_author_name
'Johnston, D.C.'
'Meisner, G.P.'
'Ku, H.C.'
'Acker, F.'
_publ_section_title
;
 Superconducting and magnetic properties of new ternary borides with the
 Ce Co3 B2-type structure
;
_journal_name_full               'Solid State Communications'
_journal_page_first              91
_journal_page_last               96
_journal_paper_doi               10.1016/0038-1098(80)90221-5
_journal_volume                  35
_journal_year                    1980
_chemical_formula_sum            'B2 Os3 U'
_chemical_name_systematic        'Os3 U B2'
_space_group_IT_number           191
_symmetry_space_group_name_Hall  '-P 6 2'
_symmetry_space_group_name_H-M   'P 6/m m m'
_cell_angle_alpha                90
_cell_angle_beta                 90
_cell_angle_gamma                120
_cell_formula_units_Z            1
_cell_length_a                   5.523
_cell_length_b                   5.523
_cell_length_c                   2.976
_cell_volume                     78.616
_citation_journal_id_ASTM        SSCOA4
_cod_data_source_file            boron_309.cif
_cod_data_source_block           B2Os3U1
_cod_original_cell_volume        78.61649
_cod_original_formula_sum        'B2 Os3 U1'
_cod_database_code               1510805
loop_
_symmetry_equiv_pos_as_xyz
x,y,z
x-y,x,z
-y,x-y,z
-x,-y,z
-x+y,-x,z
y,-x+y,z
-y,-x,-z
x-y,-y,-z
x,x-y,-z
y,x,-z
-x+y,y,-z
-x,-x+y,-z
-x,-y,-z
-x+y,-x,-z
y,-x+y,-z
x,y,-z
x-y,x,-z
-y,x-y,-z
y,x,z
-x+y,y,z
-x,-x+y,z
-y,-x,z
x-y,-y,z
x,x-y,z
loop_
_atom_site_label
_atom_site_type_symbol
_atom_site_fract_x
_atom_site_fract_y
_atom_site_fract_z
_atom_site_occupancy
_atom_site_U_iso_or_equiv
U1 U 0 0 0 1 0.0
B1 B 0.3333 0.6667 0 1 0.0
Os1 Os 0.5 0 0.5 1 0.0
