#------------------------------------------------------------------------------
#$Date: 2016-02-18 16:37:37 +0100 (jue 18 de feb de 2016) $
#$Revision: 176729 $
#$URL: svn://www.crystallography.net/cod/cif/1/51/10/1511016.cif $
#------------------------------------------------------------------------------
#
# This file is available in the Crystallography Open Database (COD),
# http://www.crystallography.net/
#
# All data on this site have been placed in the public domain by the
# contributors.
#
data_1511016
loop_
_publ_author_name
'Briant, C.L.'
'Taub, A.I.'
_publ_section_title
;
 Composition dependence of ductility in boron-doped, nickel-base L12
 alloys
;
_journal_name_full               'Acta Metallurgica'
_journal_page_first              1597
_journal_page_last               1603
_journal_paper_doi               10.1016/0001-6160(87)90107-6
_journal_volume                  35
_journal_year                    1987
_chemical_formula_sum            'B0.04 Ga0.52 Ni3 Si0.48'
_chemical_name_systematic        '(B Ga13 Ni75 Si12)0.04'
_space_group_IT_number           221
_symmetry_space_group_name_Hall  '-P 4 2 3'
_symmetry_space_group_name_H-M   'P m -3 m'
_cell_angle_alpha                90
_cell_angle_beta                 90
_cell_angle_gamma                90
_cell_formula_units_Z            1
_cell_length_a                   3.5458
_cell_length_b                   3.5458
_cell_length_c                   3.5458
_cell_volume                     44.580
_citation_journal_id_ASTM        AMETAR
_cod_data_source_file            boron0-1_1.cif
_cod_data_source_block           B0.04Ga0.52Ni3Si0.48
_cod_original_cell_volume        44.58027
_cod_database_code               1511016
loop_
_symmetry_equiv_pos_as_xyz
x,y,z
-y,x,z
-x,-y,z
y,-x,z
x,-y,-z
y,x,-z
-x,y,-z
-y,-x,-z
z,x,y
-x,z,y
-z,-x,y
x,-z,y
z,-x,-y
x,z,-y
-z,x,-y
-x,-z,-y
y,z,x
y,-z,-x
z,y,-x
-y,z,-x
-z,-y,-x
-y,-z,x
z,-y,x
-z,y,x
-x,-y,-z
y,-x,-z
x,y,-z
-y,x,-z
-x,y,z
-y,-x,z
x,-y,z
y,x,z
-z,-x,-y
x,-z,-y
z,x,-y
-x,z,-y
-z,x,y
-x,-z,y
z,-x,y
x,z,y
-y,-z,-x
-y,z,x
-z,-y,x
y,-z,x
z,y,x
y,z,-x
-z,y,-x
z,-y,-x
loop_
_atom_site_label
_atom_site_type_symbol
_atom_site_fract_x
_atom_site_fract_y
_atom_site_fract_z
_atom_site_occupancy
_atom_site_U_iso_or_equiv
Ga1 Ga 0 0 0 0.507 0.0
B1 B 0 0 0 0.023 0.0
Ni1 Ni 0 0.5 0.5 1 0.0
Si1 Si 0 0 0 0.47 0.0
