#------------------------------------------------------------------------------
#$Date: 2016-02-18 16:37:37 +0100 (jue 18 de feb de 2016) $
#$Revision: 176729 $
#$URL: svn://www.crystallography.net/cod/cif/1/51/35/1513578.cif $
#------------------------------------------------------------------------------
#
# This file is available in the Crystallography Open Database (COD),
# http://www.crystallography.net/
#
# All data on this site have been placed in the public domain by the
# contributors.
#
data_1513578
loop_
_publ_author_name
'Mukherjee, Arijit'
'Desiraju, Gautam R.'
_publ_section_title
;
 Halogen bonds in some dihalogenated phenols: applications to crystal
 engineering
;
_journal_issue                   1
_journal_name_full               IUCrJ
_journal_page_first              49
_journal_page_last               60
_journal_paper_doi               10.1107/S2052252513025657
_journal_volume                  1
_journal_year                    2014
_chemical_formula_moiety         'C6 H4 Cl2 O'
_chemical_formula_sum            'C6 H4 Cl2 O'
_chemical_formula_weight         162.99
_chemical_name_common            3,4-dichlorophenol
_space_group_IT_number           88
_symmetry_cell_setting           tetragonal
_symmetry_space_group_name_Hall  '-I 4ad'
_symmetry_space_group_name_H-M   'I 41/a :2'
_atom_sites_solution_hydrogens   geom
_atom_sites_solution_primary     direct
_atom_sites_solution_secondary   difmap
_audit_creation_method           SHELXL-97
_cell_angle_alpha                90.00
_cell_angle_beta                 90.00
_cell_angle_gamma                90.00
_cell_formula_units_Z            16
_cell_length_a                   26.186(8)
_cell_length_b                   26.186(8)
_cell_length_c                   3.8144(8)
_cell_measurement_reflns_used    8120
_cell_measurement_temperature    200(2)
_cell_measurement_theta_max      27.6
_cell_measurement_theta_min      3.1
_cell_volume                     2615.6(13)
_computing_cell_refinement       CrystalClear
_computing_data_collection       'CrystalClear (Rigaku, 2009)'
_computing_data_reduction        CrystalClear
_computing_structure_refinement  'SHELXL-97 (Sheldrick, 2008)'
_computing_structure_solution    'SHELXL-97 (Sheldrick, 2008)'
_diffrn_ambient_temperature      200(2)
_diffrn_detector                 CCD
_diffrn_detector_area_resol_mean 13.6612
_diffrn_measured_fraction_theta_full 0.999
_diffrn_measured_fraction_theta_max 0.999
_diffrn_measurement_device
;
XtaLABmini: Fixed Chi 2 circle
;
_diffrn_measurement_device_type
;
Rigaku Mercury375R (2x2 bin mode)
;
_diffrn_measurement_specimen_support Fiber
_diffrn_radiation_monochromator  'Graphite Monochromator'
_diffrn_radiation_source         'fine-focus sealed tube'
_diffrn_radiation_type           MoK\a
_diffrn_radiation_wavelength     0.71073
_diffrn_reflns_av_R_equivalents  0.0804
_diffrn_reflns_av_sigmaI/netI    0.0442
_diffrn_reflns_limit_h_max       34
_diffrn_reflns_limit_h_min       -33
_diffrn_reflns_limit_k_max       33
_diffrn_reflns_limit_k_min       -33
_diffrn_reflns_limit_l_max       4
_diffrn_reflns_limit_l_min       -4
_diffrn_reflns_number            10213
_diffrn_reflns_theta_full        27.48
_diffrn_reflns_theta_max         27.48
_diffrn_reflns_theta_min         3.11
_exptl_absorpt_coefficient_mu    0.893
_exptl_absorpt_correction_T_max  1.000
_exptl_absorpt_correction_T_min  0.562
_exptl_absorpt_correction_type   multi-scan
_exptl_absorpt_process_details   'Jacobson, R. (1998) Private communication'
_exptl_crystal_colour            colourless
_exptl_crystal_density_diffrn    1.656
_exptl_crystal_density_method    'not measured'
_exptl_crystal_description       needle
_exptl_crystal_F_000             1312
_exptl_crystal_size_max          0.4
_exptl_crystal_size_mid          0.1
_exptl_crystal_size_min          0.1
_refine_diff_density_max         0.224
_refine_diff_density_min         -0.267
_refine_diff_density_rms         0.066
_refine_ls_extinction_method     none
_refine_ls_goodness_of_fit_ref   1.058
_refine_ls_hydrogen_treatment    mixed
_refine_ls_matrix_type           full
_refine_ls_number_parameters     86
_refine_ls_number_reflns         1488
_refine_ls_number_restraints     0
_refine_ls_restrained_S_all      1.058
_refine_ls_R_factor_all          0.0583
_refine_ls_R_factor_gt           0.0416
_refine_ls_shift/su_max          0.001
_refine_ls_shift/su_mean         0.000
_refine_ls_structure_factor_coef Fsqd
_refine_ls_weighting_details
'calc w=1/[σ²(Fo²)+(0.0490P)²+1.1369P] where P=(Fo²+2Fc²)/3'
_refine_ls_weighting_scheme      calc
_refine_ls_wR_factor_gt          0.0991
_refine_ls_wR_factor_ref         0.1072
_reflns_number_gt                1154
_reflns_number_total             1488
_reflns_threshold_expression     >2σ(I)
_cod_data_source_file            bi5001sup1.cif
_cod_data_source_block           1_200K
_cod_original_cell_volume        2615.6(12)
_cod_original_sg_symbol_H-M      I41/a
_cod_database_code               1513578
#BEGIN Tags that were not found in dictionaries:
_publcif_datablock.id            {ff40ca3e-e7c0-418b-a7bc-591b380ab2fb}
#END Tags that were not found in dictionaries
loop_
_symmetry_equiv_pos_as_xyz
'x, y, z'
'-x+1/2, -y, z+1/2'
'-y+3/4, x+1/4, z+1/4'
'y+3/4, -x+3/4, z+3/4'
'x+1/2, y+1/2, z+1/2'
'-x+1, -y+1/2, z+1'
'-y+5/4, x+3/4, z+3/4'
'y+5/4, -x+5/4, z+5/4'
'-x, -y, -z'
'x-1/2, y, -z-1/2'
'y-3/4, -x-1/4, -z-1/4'
'-y-3/4, x-3/4, -z-3/4'
'-x+1/2, -y+1/2, -z+1/2'
'x, y+1/2, -z'
'y-1/4, -x+1/4, -z+1/4'
'-y-1/4, x-1/4, -z-1/4'
loop_
_atom_site_label
_atom_site_type_symbol
_atom_site_fract_x
_atom_site_fract_y
_atom_site_fract_z
_atom_site_U_iso_or_equiv
_atom_site_adp_type
_atom_site_occupancy
_atom_site_symmetry_multiplicity
_atom_site_calc_flag
_atom_site_refinement_flags
C1 C 0.82948(9) 0.58362(9) 0.4553(6) 0.0285(5) Uani 1 1 d .
C2 C 0.87167(9) 0.55743(9) 0.3335(6) 0.0289(5) Uani 1 1 d .
H2 H 0.8723 0.5219 0.3364 0.035 Uiso 1 1 calc R
C3 C 0.91318(9) 0.58493(9) 0.2066(6) 0.0288(5) Uani 1 1 d .
C4 C 0.91197(9) 0.63759(9) 0.1915(6) 0.0295(5) Uani 1 1 d .
C5 C 0.86868(9) 0.66313(9) 0.3060(7) 0.0318(6) Uani 1 1 d .
H5 H 0.8674 0.6986 0.2939 0.038 Uiso 1 1 calc R
C6 C 0.82748(9) 0.63635(9) 0.4379(7) 0.0315(6) Uani 1 1 d .
H6 H 0.7986 0.6537 0.5146 0.038 Uiso 1 1 calc R
O1 O 0.78803(6) 0.55750(7) 0.5916(5) 0.0359(4) Uani 1 1 d .
Cl1 Cl 0.96601(2) 0.55108(3) 0.0623(2) 0.0427(2) Uani 1 1 d .
Cl2 Cl 0.96382(2) 0.67159(3) 0.03802(19) 0.0403(2) Uani 1 1 d .
H1O H 0.7964(12) 0.5264(13) 0.656(9) 0.061(10) Uiso 1 1 d .
loop_
_atom_site_aniso_label
_atom_site_aniso_U_11
_atom_site_aniso_U_22
_atom_site_aniso_U_33
_atom_site_aniso_U_23
_atom_site_aniso_U_13
_atom_site_aniso_U_12
C1 0.0266(12) 0.0347(13) 0.0241(12) 0.0023(10) -0.0050(10) -0.0030(10)
C2 0.0299(12) 0.0267(12) 0.0303(13) -0.0015(10) -0.0065(11) 0.0019(9)
C3 0.0276(12) 0.0337(13) 0.0253(12) -0.0036(10) -0.0039(10) 0.0055(10)
C4 0.0284(12) 0.0343(13) 0.0258(13) 0.0024(10) -0.0050(10) -0.0029(10)
C5 0.0343(13) 0.0269(12) 0.0341(14) -0.0006(11) -0.0075(11) 0.0004(10)
C6 0.0295(12) 0.0332(13) 0.0317(13) -0.0040(11) -0.0048(11) 0.0051(10)
O1 0.0290(9) 0.0350(10) 0.0437(12) 0.0062(9) -0.0001(8) -0.0013(7)
Cl1 0.0348(4) 0.0425(4) 0.0508(5) -0.0049(3) 0.0056(3) 0.0106(3)
Cl2 0.0335(4) 0.0418(4) 0.0457(4) 0.0085(3) 0.0010(3) -0.0049(3)
loop_
_atom_type_symbol
_atom_type_description
_atom_type_scat_dispersion_real
_atom_type_scat_dispersion_imag
_atom_type_scat_source
C C 0.0033 0.0016 'International Tables Vol C Tables 4.2.6.8 and 6.1.1.4'
H H 0.0000 0.0000 'International Tables Vol C Tables 4.2.6.8 and 6.1.1.4'
O O 0.0106 0.0060 'International Tables Vol C Tables 4.2.6.8 and 6.1.1.4'
Cl Cl 0.1484 0.1585 'International Tables Vol C Tables 4.2.6.8 and 6.1.1.4'
loop_
_geom_angle_atom_site_label_1
_geom_angle_atom_site_label_2
_geom_angle_atom_site_label_3
_geom_angle
C2 C1 C6 120.7(2)
C2 C1 O1 120.6(2)
C6 C1 O1 118.8(2)
C1 C2 C3 119.0(2)
C4 C3 C2 120.9(2)
C4 C3 Cl1 121.07(19)
C2 C3 Cl1 118.02(19)
C3 C4 C5 119.2(2)
C3 C4 Cl2 120.75(19)
C5 C4 Cl2 120.07(19)
C6 C5 C4 120.5(2)
C5 C6 C1 119.6(2)
loop_
_geom_bond_atom_site_label_1
_geom_bond_atom_site_label_2
_geom_bond_distance
C1 C2 1.381(3)
C1 C6 1.383(3)
C1 O1 1.384(3)
C2 C3 1.391(3)
C3 C4 1.381(3)
C3 Cl1 1.733(2)
C4 C5 1.387(3)
C4 Cl2 1.726(3)
C5 C6 1.382(3)
