#------------------------------------------------------------------------------
#$Date: 2016-02-18 16:37:37 +0100 (jue 18 de feb de 2016) $
#$Revision: 176729 $
#$URL: svn://www.crystallography.net/cod/cif/1/51/84/1518434.cif $
#------------------------------------------------------------------------------
#
# This file is available in the Crystallography Open Database (COD),
# http://www.crystallography.net/
#
# All data on this site have been placed in the public domain by the
# contributors.
#
data_1518434
loop_
_publ_author_name
'Patyk, Ewa'
'Katrusiak, Andrzej'
_publ_section_title
;
 Transformable H-bonds and conformation in compressed glucose
;
_journal_issue                   3
_journal_name_full               'Chem. Sci.'
_journal_page_first              1991
_journal_paper_doi               10.1039/C4SC03588G
_journal_volume                  6
_journal_year                    2015
_chemical_absolute_configuration rm
_chemical_formula_moiety         'C6 H12 O6'
_chemical_formula_sum            'C6 H12 O6'
_chemical_formula_weight         180.16
_chemical_melting_point          419
_chemical_name_common            'α-D-glucose, Phase I'
_chemical_name_systematic
; 
 α-D-glucopyranose, Phase I   
;
_space_group_IT_number           19
_symmetry_cell_setting           orthorhombic
_symmetry_space_group_name_Hall  'P 2ac 2ab'
_symmetry_space_group_name_H-M   'P 21 21 21'
_atom_sites_solution_hydrogens   geom
_atom_sites_solution_primary     direct
_atom_sites_solution_secondary   difmap
_audit_creation_method           SHELXL-97
_audit_update_record
;
2014-11-13 deposited with the CCDC.
2014-12-15 downloaded from the CCDC.
;
_cell_angle_alpha                90.00
_cell_angle_beta                 90.00
_cell_angle_gamma                90.00
_cell_formula_units_Z            4
_cell_length_a                   10.220(2)
_cell_length_b                   14.832(3)
_cell_length_c                   4.7689(10)
_cell_measurement_reflns_used    2708
_cell_measurement_temperature    295(2)
_cell_measurement_theta_max      26.94
_cell_measurement_theta_min      3.99
_cell_volume                     722.9(3)
_computing_cell_refinement       'CrysAlisRED (Oxford Diffraction, 2004)'
_computing_data_collection       'CrysAlisCCD (Oxford Diffraction, 2004)'
_computing_data_reduction
'CrysAlisRED (Oxford Diffraction, 2004); REDSHABS (Katrusiak, A.  2003)'
_computing_molecular_graphics    'SHELXTL (Sheldrick, 1990)'
_computing_publication_material  'SHELXL--97 (Sheldrick, 1997)'
_computing_structure_refinement  'SHELXL--97 (Sheldrick, 1997)'
_computing_structure_solution    'SHELXS--97 (Sheldrick, 1997)'
_diffrn_ambient_environment      'diamond-anvil cell'
_diffrn_ambient_pressure         1120000
_diffrn_ambient_temperature      295(2)
_diffrn_measured_fraction_theta_full 0.358
_diffrn_measured_fraction_theta_max 0.358
_diffrn_measurement_device_type  'KM-4 CCD'
_diffrn_measurement_method       'φ- and ω-scans'
_diffrn_radiation_monochromator  graphite
_diffrn_radiation_source         'fine-focus sealed tube'
_diffrn_radiation_type           MoK\a
_diffrn_radiation_wavelength     0.71073
_diffrn_reflns_av_R_equivalents  0.0677
_diffrn_reflns_av_sigmaI/netI    0.0450
_diffrn_reflns_limit_h_max       12
_diffrn_reflns_limit_h_min       -12
_diffrn_reflns_limit_k_max       13
_diffrn_reflns_limit_k_min       -12
_diffrn_reflns_limit_l_max       4
_diffrn_reflns_limit_l_min       -4
_diffrn_reflns_number            1930
_diffrn_reflns_theta_full        26.94
_diffrn_reflns_theta_max         26.94
_diffrn_reflns_theta_min         3.99
_diffrn_standards_decay_%        0
_diffrn_standards_interval_count 0
_diffrn_standards_number         0
_exptl_absorpt_coefficient_mu    0.150
_exptl_absorpt_correction_T_max  0.91
_exptl_absorpt_correction_T_min  0.47
_exptl_absorpt_correction_type   numerical
_exptl_absorpt_process_details
; 
 Correction for absorption of the diamond-anvil cell and the sample 
 were made using program REDSHABS (Katrusiak, A. (2003) REDSHABS. Adam
 Mickiewicz University Poznań; Katrusiak, A. (2004) Z. Kristallogr.
 219, 461-467). 
;
_exptl_crystal_colour            colourless
_exptl_crystal_density_diffrn    1.655
_exptl_crystal_density_method    'not measured'
_exptl_crystal_description       plate
_exptl_crystal_F_000             384
_exptl_crystal_size_max          0.33
_exptl_crystal_size_mid          0.25
_exptl_crystal_size_min          0.20
_refine_diff_density_max         0.280
_refine_diff_density_min         -0.228
_refine_diff_density_rms         0.063
_refine_ls_abs_structure_details 'Flack H D (1983), Acta Cryst. A39, 876-881'
_refine_ls_abs_structure_Flack   -2(4)
_refine_ls_extinction_method     none
_refine_ls_goodness_of_fit_ref   1.023
_refine_ls_hydrogen_treatment    constr
_refine_ls_matrix_type           full
_refine_ls_number_parameters     49
_refine_ls_number_reflns         549
_refine_ls_number_restraints     0
_refine_ls_restrained_S_all      1.023
_refine_ls_R_factor_all          0.0728
_refine_ls_R_factor_gt           0.0626
_refine_ls_shift/su_max          0.000
_refine_ls_shift/su_mean         0.000
_refine_ls_structure_factor_coef Fsqd
_refine_ls_weighting_details
'calc w=1/[σ²(Fo²)+(0.0999P)²+0.0000P] where P=(Fo²+2Fc²)/3'
_refine_ls_weighting_scheme      calc
_refine_ls_wR_factor_gt          0.1450
_refine_ls_wR_factor_ref         0.1538
_reflns_number_gt                426
_reflns_number_total             549
_reflns_threshold_expression     >2sigma(I)
_cod_data_source_file            c4sc03588g4.cif
_cod_data_source_block           glu3_1.12GPa
_cod_depositor_comments
'Adding full bibliography for 1518432--1518446.cif.'
_cod_database_code               1518434
loop_
_symmetry_equiv_pos_as_xyz
'x, y, z'
'-x+1/2, -y, z+1/2'
'-x, y+1/2, -z+1/2'
'x+1/2, -y+1/2, -z'
loop_
_atom_site_label
_atom_site_type_symbol
_atom_site_fract_x
_atom_site_fract_y
_atom_site_fract_z
_atom_site_U_iso_or_equiv
_atom_site_adp_type
_atom_site_occupancy
_atom_site_symmetry_multiplicity
_atom_site_calc_flag
_atom_site_refinement_flags
C1 C 0.1704(6) 0.3962(5) 0.4463(14) 0.0361(15) Uiso 1 1 d .
H1 H 0.2609 0.3824 0.4990 0.043 Uiso 1 1 calc R
C2 C 0.0811(5) 0.3228(5) 0.5565(14) 0.0356(16) Uiso 1 1 d .
H2 H 0.0966 0.3198 0.7591 0.043 Uiso 1 1 calc R
C3 C -0.0604(5) 0.3466(5) 0.5213(13) 0.0323(15) Uiso 1 1 d .
H3 H -0.0840 0.3435 0.3223 0.039 Uiso 1 1 calc R
C4 C -0.0877(4) 0.4397(5) 0.6314(13) 0.0245(14) Uiso 1 1 d .
H4 H -0.0720 0.4412 0.8340 0.029 Uiso 1 1 calc R
C5 C 0.0033(5) 0.5071(5) 0.4848(13) 0.0351(18) Uiso 1 1 d .
H5 H -0.0108 0.5063 0.2815 0.042 Uiso 1 1 calc R
C6 C -0.0183(5) 0.6019(5) 0.6037(15) 0.0383(16) Uiso 1 1 d .
H6 H -0.1105 0.6172 0.5974 0.046 Uiso 1 1 calc R
H7 H 0.0104 0.6043 0.7974 0.046 Uiso 1 1 calc R
O1 O 0.1594(4) 0.3960(4) 0.1504(11) 0.0539(13) Uiso 1 1 d .
H8 H 0.1775 0.4462 0.0895 0.081 Uiso 1 1 calc R
O2 O 0.1144(4) 0.2372(4) 0.4492(11) 0.0536(15) Uiso 1 1 d .
H9 H 0.0599 0.2217 0.3325 0.080 Uiso 1 1 calc R
O3 O -0.1348(4) 0.2808(3) 0.6765(10) 0.0444(12) Uiso 1 1 d .
H10 H -0.2130 0.2924 0.6632 0.067 Uiso 1 1 calc R
O4 O -0.2206(3) 0.4597(3) 0.5762(11) 0.0425(13) Uiso 1 1 d .
H11 H -0.2400 0.5077 0.6504 0.064 Uiso 1 1 calc R
O5 O 0.1361(3) 0.4819(3) 0.5523(9) 0.0313(11) Uiso 1 1 d .
O6 O 0.0560(4) 0.6652(4) 0.4366(11) 0.0517(13) Uiso 1 1 d .
H12 H 0.0428 0.7165 0.4934 0.078 Uiso 1 1 calc R
loop_
_atom_type_symbol
_atom_type_description
_atom_type_scat_dispersion_real
_atom_type_scat_dispersion_imag
_atom_type_scat_source
C C 0.0033 0.0016 'International Tables Vol C Tables 4.2.6.8 and 6.1.1.4'
H H 0.0000 0.0000 'International Tables Vol C Tables 4.2.6.8 and 6.1.1.4'
O O 0.0106 0.0060 'International Tables Vol C Tables 4.2.6.8 and 6.1.1.4'
loop_
_geom_angle_atom_site_label_1
_geom_angle_atom_site_label_2
_geom_angle_atom_site_label_3
_geom_angle
O1 C1 O5 109.8(5)
O1 C1 C2 107.3(5)
O5 C1 C2 111.9(5)
O2 C2 C3 113.9(5)
O2 C2 C1 112.1(5)
C3 C2 C1 111.9(6)
O3 C3 C4 110.1(5)
O3 C3 C2 107.0(5)
C4 C3 C2 110.9(5)
O4 C4 C3 107.8(5)
O4 C4 C5 111.1(5)
C3 C4 C5 109.1(5)
O5 C5 C6 106.9(5)
O5 C5 C4 107.4(5)
C6 C5 C4 110.1(5)
O6 C6 C5 108.4(5)
C1 O5 C5 112.7(5)
loop_
_geom_bond_atom_site_label_1
_geom_bond_atom_site_label_2
_geom_bond_distance
C1 O1 1.416(7)
C1 O5 1.412(8)
C1 C2 1.515(10)
C2 O2 1.411(9)
C2 C3 1.498(8)
C3 O3 1.441(8)
C3 C4 1.503(9)
C4 O4 1.416(6)
C4 C5 1.533(9)
C5 O5 1.444(7)
C5 C6 1.533(10)
C6 O6 1.446(9)
loop_
_geom_torsion_atom_site_label_1
_geom_torsion_atom_site_label_2
_geom_torsion_atom_site_label_3
_geom_torsion_atom_site_label_4
_geom_torsion
O1 C1 C2 O2 59.0(6)
O5 C1 C2 O2 179.5(5)
O1 C1 C2 C3 -70.3(7)
O5 C1 C2 C3 50.2(7)
O2 C2 C3 O3 61.8(8)
C1 C2 C3 O3 -169.9(6)
O2 C2 C3 C4 -178.1(5)
C1 C2 C3 C4 -49.8(7)
O3 C3 C4 O4 -65.3(6)
C2 C3 C4 O4 176.6(5)
O3 C3 C4 C5 174.0(4)
C2 C3 C4 C5 55.8(7)
O4 C4 C5 O5 179.9(5)
C3 C4 C5 O5 -61.4(6)
O4 C4 C5 C6 63.9(6)
C3 C4 C5 C6 -177.4(5)
O5 C5 C6 O6 71.0(6)
C4 C5 C6 O6 -172.6(4)
O1 C1 O5 C5 60.5(6)
C2 C1 O5 C5 -58.5(7)
C6 C5 O5 C1 -178.2(5)
C4 C5 O5 C1 63.8(6)
