#------------------------------------------------------------------------------
#$Date: 2016-02-18 16:37:37 +0100 (jue 18 de feb de 2016) $
#$Revision: 176729 $
#$URL: svn://www.crystallography.net/cod/cif/1/51/84/1518439.cif $
#------------------------------------------------------------------------------
#
# This file is available in the Crystallography Open Database (COD),
# http://www.crystallography.net/
#
# All data on this site have been placed in the public domain by the
# contributors.
#
data_1518439
loop_
_publ_author_name
'Patyk, Ewa'
'Katrusiak, Andrzej'
_publ_section_title
;
 Transformable H-bonds and conformation in compressed glucose
;
_journal_issue                   3
_journal_name_full               'Chem. Sci.'
_journal_page_first              1991
_journal_paper_doi               10.1039/C4SC03588G
_journal_volume                  6
_journal_year                    2015
_chemical_absolute_configuration rm
_chemical_formula_moiety         'C6 H12 O6'
_chemical_formula_sum            'C6 H12 O6'
_chemical_formula_weight         180.16
_chemical_melting_point          419
_chemical_name_common            'α-D-glucose, Phase I'
_chemical_name_systematic
; 
 α-D-glucopyranose, Phase I   
;
_space_group_IT_number           19
_symmetry_cell_setting           orthorhombic
_symmetry_space_group_name_Hall  'P 2ac 2ab'
_symmetry_space_group_name_H-M   'P 21 21 21'
_atom_sites_solution_hydrogens   geom
_atom_sites_solution_primary     direct
_atom_sites_solution_secondary   difmap
_audit_creation_method           SHELXL-97
_audit_update_record
;
2014-11-17 deposited with the CCDC.
2014-12-15 downloaded from the CCDC.
;
_cell_angle_alpha                90.00
_cell_angle_beta                 90.00
_cell_angle_gamma                90.00
_cell_formula_units_Z            4
_cell_length_a                   10.050(2)
_cell_length_b                   14.807(3)
_cell_length_c                   4.4206(9)
_cell_measurement_reflns_used    2212
_cell_measurement_temperature    295(2)
_cell_measurement_theta_max      25.83
_cell_measurement_theta_min      4.60
_cell_volume                     657.8(2)
_computing_cell_refinement       'CrysAlisRED (Oxford Diffraction, 2004)'
_computing_data_collection       'CrysAlisCCD (Oxford Diffraction, 2004)'
_computing_data_reduction
'CrysAlisRED (Oxford Diffraction, 2004); REDSHABS (Katrusiak, A.  2003)'
_computing_molecular_graphics    'SHELXTL (Sheldrick, 1990)'
_computing_publication_material  'SHELXL--97 (Sheldrick, 1997)'
_computing_structure_refinement  'SHELXL--97 (Sheldrick, 1997)'
_computing_structure_solution    'SHELXS--97 (Sheldrick, 1997)'
_diffrn_ambient_environment      'diamond-anvil cell'
_diffrn_ambient_pressure         4000000
_diffrn_ambient_temperature      295(2)
_diffrn_measured_fraction_theta_full 0.182
_diffrn_measured_fraction_theta_max 0.182
_diffrn_measurement_device_type  'KM-4 CCD'
_diffrn_measurement_method       'φ- and ω-scans'
_diffrn_radiation_monochromator  graphite
_diffrn_radiation_source         'fine-focus sealed tube'
_diffrn_radiation_type           MoK\a
_diffrn_radiation_wavelength     0.71073
_diffrn_reflns_av_R_equivalents  0.1358
_diffrn_reflns_av_sigmaI/netI    0.1129
_diffrn_reflns_limit_h_max       2
_diffrn_reflns_limit_h_min       -2
_diffrn_reflns_limit_k_max       18
_diffrn_reflns_limit_k_min       -18
_diffrn_reflns_limit_l_max       5
_diffrn_reflns_limit_l_min       -5
_diffrn_reflns_number            1532
_diffrn_reflns_theta_full        25.83
_diffrn_reflns_theta_max         25.83
_diffrn_reflns_theta_min         4.60
_diffrn_standards_decay_%        0
_diffrn_standards_interval_count 0
_diffrn_standards_number         0
_exptl_absorpt_coefficient_mu    0.165
_exptl_absorpt_correction_T_max  0.87
_exptl_absorpt_correction_T_min  0.39
_exptl_absorpt_correction_type   numerical
_exptl_absorpt_process_details
; 
 Correction for absorption of the diamond-anvil cell and the sample 
 were made using program REDSHABS (Katrusiak, A. (2003) REDSHABS. Adam
 Mickiewicz University Poznań; Katrusiak, A. (2004) Z. Kristallogr.
 219, 461-467). 
;
_exptl_crystal_colour            colourless
_exptl_crystal_density_diffrn    1.819
_exptl_crystal_density_method    'not measured'
_exptl_crystal_description       plate
_exptl_crystal_F_000             384
_exptl_crystal_size_max          0.20
_exptl_crystal_size_mid          0.19
_exptl_crystal_size_min          0.16
_refine_diff_density_max         0.115
_refine_diff_density_min         -0.093
_refine_diff_density_rms         0.030
_refine_ls_abs_structure_details 'Flack H D (1983), Acta Cryst. A39, 876-881'
_refine_ls_abs_structure_Flack   5(10)
_refine_ls_extinction_method     none
_refine_ls_goodness_of_fit_ref   1.028
_refine_ls_hydrogen_treatment    constr
_refine_ls_matrix_type           full
_refine_ls_number_parameters     44
_refine_ls_number_reflns         204
_refine_ls_number_restraints     6
_refine_ls_restrained_S_all      1.031
_refine_ls_R_factor_all          0.0761
_refine_ls_R_factor_gt           0.0543
_refine_ls_shift/su_max          0.000
_refine_ls_shift/su_mean         0.000
_refine_ls_structure_factor_coef Fsqd
_refine_ls_weighting_details
'calc w=1/[σ²(Fo²)+(0.0482P)²+0.0000P] where P=(Fo²+2Fc²)/3'
_refine_ls_weighting_scheme      calc
_refine_ls_wR_factor_gt          0.1016
_refine_ls_wR_factor_ref         0.1075
_reflns_number_gt                148
_reflns_number_total             204
_reflns_threshold_expression     >2sigma(I)
_cod_data_source_file            c4sc03588g4.cif
_cod_data_source_block           glu8_4.00GPa
_cod_depositor_comments
'Adding full bibliography for 1518432--1518446.cif.'
_cod_database_code               1518439
loop_
_symmetry_equiv_pos_as_xyz
'x, y, z'
'-x+1/2, -y, z+1/2'
'-x, y+1/2, -z+1/2'
'x+1/2, -y+1/2, -z'
loop_
_atom_site_label
_atom_site_type_symbol
_atom_site_fract_x
_atom_site_fract_y
_atom_site_fract_z
_atom_site_U_iso_or_equiv
_atom_site_adp_type
_atom_site_occupancy
_atom_site_symmetry_multiplicity
_atom_site_calc_flag
_atom_site_refinement_flags
C1 C 0.175(3) 0.3932(7) 0.4891(18) 0.0263(15) Uiso 1 1 d D
H1 H 0.2644 0.3824 0.5678 0.032 Uiso 1 1 calc R
C2 C 0.086(3) 0.3190(7) 0.586(3) 0.0263(15) Uiso 1 1 d D
H2 H 0.0983 0.3157 0.8061 0.032 Uiso 1 1 calc R
C3 C -0.056(3) 0.3390(7) 0.546(3) 0.0263(15) Uiso 1 1 d D
H3 H -0.0768 0.3337 0.3296 0.032 Uiso 1 1 calc R
C4 C -0.080(4) 0.4324(6) 0.637(3) 0.0263(15) Uiso 1 1 d D
H4 H -0.0678 0.4373 0.8562 0.032 Uiso 1 1 calc R
C5 C -0.006(3) 0.5025(7) 0.493(3) 0.0263(15) Uiso 1 1 d D
H5 H -0.0130 0.4992 0.2722 0.032 Uiso 1 1 calc R
C6 C -0.023(5) 0.5969(5) 0.606(2) 0.0263(15) Uiso 1 1 d .
H6 H -0.1159 0.6135 0.6016 0.032 Uiso 1 1 calc R
H7 H 0.0085 0.6011 0.8129 0.032 Uiso 1 1 calc R
O1 O 0.177(3) 0.3893(5) 0.1767(14) 0.032(2) Uiso 1 1 d .
H8 H 0.1953 0.4394 0.1087 0.048 Uiso 1 1 calc R
O2 O 0.140(5) 0.2351(5) 0.4739(14) 0.042(3) Uiso 1 1 d .
H9 H 0.0891 0.2134 0.3489 0.064 Uiso 1 1 calc R
O3 O -0.131(3) 0.2741(4) 0.7014(13) 0.046(3) Uiso 1 1 d .
H10 H -0.2106 0.2861 0.6856 0.070 Uiso 1 1 calc R
O4 O -0.219(3) 0.4504(5) 0.5651(16) 0.037(3) Uiso 1 1 d .
H11 H -0.2409 0.4990 0.6385 0.056 Uiso 1 1 calc R
O5 O 0.127(3) 0.4798(4) 0.5975(14) 0.028(3) Uiso 1 1 d D
O6 O 0.053(3) 0.6578(4) 0.4163(13) 0.033(3) Uiso 1 1 d .
H12 H 0.0402 0.7100 0.4718 0.050 Uiso 1 1 calc R
loop_
_atom_type_symbol
_atom_type_description
_atom_type_scat_dispersion_real
_atom_type_scat_dispersion_imag
_atom_type_scat_source
C C 0.0033 0.0016 'International Tables Vol C Tables 4.2.6.8 and 6.1.1.4'
H H 0.0000 0.0000 'International Tables Vol C Tables 4.2.6.8 and 6.1.1.4'
O O 0.0106 0.0060 'International Tables Vol C Tables 4.2.6.8 and 6.1.1.4'
loop_
_geom_angle_atom_site_label_1
_geom_angle_atom_site_label_2
_geom_angle_atom_site_label_3
_geom_angle
O1 C1 C2 105.8(14)
O1 C1 O5 111.9(11)
C2 C1 O5 111.4(16)
C1 C2 O2 108.3(18)
C1 C2 C3 113.6(13)
O2 C2 C3 120(2)
O3 C3 C4 115.1(18)
O3 C3 C2 109.0(16)
C4 C3 C2 108(2)
O4 C4 C5 105.7(15)
O4 C4 C3 106(2)
C5 C4 C3 118.7(19)
C4 C5 O5 99.8(17)
C4 C5 C6 118.3(16)
O5 C5 C6 102(2)
O6 C6 C5 109.4(18)
C5 O5 C1 113.7(13)
loop_
_geom_bond_atom_site_label_1
_geom_bond_atom_site_label_2
_geom_bond_distance
C1 O1 1.383(10)
C1 C2 1.475(18)
C1 O5 1.449(14)
C2 O2 1.44(2)
C2 C3 1.47(2)
C3 O3 1.40(3)
C3 C4 1.461(5)
C4 O4 1.46(5)
C4 C5 1.43(2)
C5 O5 1.46(2)
C5 C6 1.493(13)
C6 O6 1.45(3)
loop_
_geom_torsion_atom_site_label_1
_geom_torsion_atom_site_label_2
_geom_torsion_atom_site_label_3
_geom_torsion_atom_site_label_4
_geom_torsion
O1 C1 C2 O2 59(2)
O5 C1 C2 O2 -179.3(14)
O1 C1 C2 C3 -77(2)
O5 C1 C2 C3 45.2(16)
C1 C2 C3 O3 -167.5(7)
O2 C2 C3 O3 62.5(15)
C1 C2 C3 C4 -41.5(15)
O2 C2 C3 C4 -171.5(8)
O3 C3 C4 O4 -63(2)
C2 C3 C4 O4 174.9(13)
O3 C3 C4 C5 179(2)
C2 C3 C4 C5 57(2)
O4 C4 C5 O5 176.6(10)
C3 C4 C5 O5 -65(2)
O4 C4 C5 C6 67(2)
C3 C4 C5 C6 -175(3)
C4 C5 C6 O6 -176(3)
O5 C5 C6 O6 76(2)
C4 C5 O5 C1 64.2(11)
C6 C5 O5 C1 -173.8(12)
O1 C1 O5 C5 59(2)
C2 C1 O5 C5 -59.3(13)
