#------------------------------------------------------------------------------
#$Date: 2016-02-18 16:37:37 +0100 (jue 18 de feb de 2016) $
#$Revision: 176729 $
#$URL: svn://www.crystallography.net/cod/cif/1/51/84/1518444.cif $
#------------------------------------------------------------------------------
#
# This file is available in the Crystallography Open Database (COD),
# http://www.crystallography.net/
#
# All data on this site have been placed in the public domain by the
# contributors.
#
data_1518444
loop_
_publ_author_name
'Patyk, Ewa'
'Katrusiak, Andrzej'
_publ_section_title
;
 Transformable H-bonds and conformation in compressed glucose
;
_journal_issue                   3
_journal_name_full               'Chem. Sci.'
_journal_page_first              1991
_journal_paper_doi               10.1039/C4SC03588G
_journal_volume                  6
_journal_year                    2015
_chemical_absolute_configuration rm
_chemical_formula_moiety         'C6 H12 O6'
_chemical_formula_sum            'C6 H12 O6'
_chemical_formula_weight         180.16
_chemical_melting_point          419
_chemical_name_common            'α-D-glucose, Phase II'
_chemical_name_systematic
; 
 α-D-glucopyranose, Phase II 
;
_space_group_IT_number           19
_symmetry_cell_setting           orthorhombic
_symmetry_space_group_name_Hall  'P 2ac 2ab'
_symmetry_space_group_name_H-M   'P 21 21 21'
_atom_sites_solution_hydrogens   geom
_atom_sites_solution_primary     direct
_atom_sites_solution_secondary   difmap
_audit_creation_method           SHELXL-97
_audit_update_record
;
2014-11-13 deposited with the CCDC.
2014-12-15 downloaded from the CCDC.
;
_cell_angle_alpha                90.00
_cell_angle_beta                 90.00
_cell_angle_gamma                90.00
_cell_formula_units_Z            4
_cell_length_a                   9.714(11)
_cell_length_b                   14.99(2)
_cell_length_c                   4.262(19)
_cell_measurement_reflns_used    1574
_cell_measurement_temperature    295(2)
_cell_measurement_theta_max      24.78
_cell_measurement_theta_min      5.00
_cell_volume                     621(3)
_computing_cell_refinement       'CrysAlisRED (Oxford Diffraction, 2004)'
_computing_data_collection       'CrysAlisCCD (Oxford Diffraction, 2004)'
_computing_data_reduction
'CrysAlisRED (Oxford Diffraction, 2004); REDSHABS (Katrusiak, A.  2003)'
_computing_molecular_graphics    'SHELXTL (Sheldrick, 1990)'
_computing_publication_material  'SHELXL--97 (Sheldrick, 1997)'
_computing_structure_refinement  'SHELXL--97 (Sheldrick, 1997)'
_computing_structure_solution    'SHELXS--97 (Sheldrick, 1997)'
_diffrn_ambient_environment      'diamond-anvil cell'
_diffrn_ambient_pressure         5540000
_diffrn_ambient_temperature      295(2)
_diffrn_measured_fraction_theta_full 0.321
_diffrn_measured_fraction_theta_max 0.321
_diffrn_measurement_device_type  'KM-4 CCD'
_diffrn_measurement_method       'φ- and ω-scans'
_diffrn_radiation_monochromator  graphite
_diffrn_radiation_source         'fine-focus sealed tube'
_diffrn_radiation_type           MoK\a
_diffrn_radiation_wavelength     0.71073
_diffrn_reflns_av_R_equivalents  0.2050
_diffrn_reflns_av_sigmaI/netI    0.1720
_diffrn_reflns_limit_h_max       11
_diffrn_reflns_limit_h_min       -11
_diffrn_reflns_limit_k_max       15
_diffrn_reflns_limit_k_min       -15
_diffrn_reflns_limit_l_max       2
_diffrn_reflns_limit_l_min       -2
_diffrn_reflns_number            1275
_diffrn_reflns_theta_full        24.78
_diffrn_reflns_theta_max         24.78
_diffrn_reflns_theta_min         5.00
_diffrn_standards_decay_%        0
_diffrn_standards_interval_count 0
_diffrn_standards_number         0
_exptl_absorpt_coefficient_mu    0.175
_exptl_absorpt_correction_T_max  0.84
_exptl_absorpt_correction_T_min  0.33
_exptl_absorpt_correction_type   numerical
_exptl_absorpt_process_details
; 
 Correction for absorption of the diamond-anvil cell and the sample 
 were made using program REDSHABS (Katrusiak, A. (2003) REDSHABS. Adam
 Mickiewicz University Poznań; Katrusiak, A. (2004) Z. Kristallogr.
 219, 461-467). 
;
_exptl_crystal_colour            colourless
_exptl_crystal_density_diffrn    1.928
_exptl_crystal_density_method    'not measured'
_exptl_crystal_description       plate
_exptl_crystal_F_000             384
_exptl_crystal_size_max          0.10
_exptl_crystal_size_mid          0.10
_exptl_crystal_size_min          0.08
_refine_diff_density_max         0.204
_refine_diff_density_min         -0.204
_refine_diff_density_rms         0.060
_refine_ls_abs_structure_details 'Flack H D (1983), Acta Cryst. A39, 876-881'
_refine_ls_abs_structure_Flack   -3(9)
_refine_ls_extinction_method     none
_refine_ls_goodness_of_fit_ref   1.007
_refine_ls_hydrogen_treatment    constr
_refine_ls_matrix_type           full
_refine_ls_number_parameters     39
_refine_ls_number_reflns         323
_refine_ls_number_restraints     0
_refine_ls_restrained_S_all      1.007
_refine_ls_R_factor_all          0.0887
_refine_ls_R_factor_gt           0.0674
_refine_ls_shift/su_max          0.000
_refine_ls_shift/su_mean         0.000
_refine_ls_structure_factor_coef Fsqd
_refine_ls_weighting_details
'calc w=1/[σ²(Fo²)+(0.0484P)²+0.0000P] where P=(Fo²+2Fc²)/3'
_refine_ls_weighting_scheme      calc
_refine_ls_wR_factor_gt          0.1408
_refine_ls_wR_factor_ref         0.1489
_reflns_number_gt                197
_reflns_number_total             323
_reflns_threshold_expression     >2sigma(I)
_cod_data_source_file            c4sc03588g4.cif
_cod_data_source_block           glu13_5.54GPa
_cod_depositor_comments
'Adding full bibliography for 1518432--1518446.cif.'
_cod_database_code               1518444
loop_
_symmetry_equiv_pos_as_xyz
'x, y, z'
'-x+1/2, -y, z+1/2'
'-x, y+1/2, -z+1/2'
'x+1/2, -y+1/2, -z'
loop_
_atom_site_label
_atom_site_type_symbol
_atom_site_fract_x
_atom_site_fract_y
_atom_site_fract_z
_atom_site_U_iso_or_equiv
_atom_site_adp_type
_atom_site_occupancy
_atom_site_symmetry_multiplicity
_atom_site_calc_flag
_atom_site_refinement_flags
C1 C 0.1916(10) 0.4001(8) 0.657(6) 0.0272(14) Uiso 1 1 d .
H1 H 0.2699 0.4067 0.8006 0.033 Uiso 1 1 calc R
C2 C 0.1022(9) 0.3212(9) 0.810(5) 0.0272(14) Uiso 1 1 d .
H2 H 0.0912 0.3305 1.0366 0.033 Uiso 1 1 calc R
C3 C -0.0363(8) 0.3185(9) 0.649(5) 0.0272(14) Uiso 1 1 d .
H3 H -0.0244 0.2967 0.4343 0.033 Uiso 1 1 calc R
C4 C -0.1038(10) 0.4121(9) 0.641(6) 0.0272(14) Uiso 1 1 d .
H4 H -0.1261 0.4287 0.8570 0.033 Uiso 1 1 calc R
C5 C -0.0020(9) 0.4788(10) 0.520(4) 0.0272(14) Uiso 1 1 d .
H5 H 0.0225 0.4622 0.3046 0.033 Uiso 1 1 calc R
C6 C -0.0689(9) 0.5704(9) 0.511(5) 0.0272(14) Uiso 1 1 d .
H6 H -0.1647 0.5640 0.4515 0.033 Uiso 1 1 calc R
H7 H -0.0661 0.5963 0.7197 0.033 Uiso 1 1 calc R
O1 O 0.2452(6) 0.3804(6) 0.403(3) 0.0311(13) Uiso 1 1 d .
H8 H 0.2955 0.4212 0.3462 0.047 Uiso 1 1 calc R
O2 O 0.1698(6) 0.2413(5) 0.750(4) 0.0311(13) Uiso 1 1 d .
H9 H 0.2344 0.2356 0.8726 0.047 Uiso 1 1 calc R
O3 O -0.1171(6) 0.2558(6) 0.823(3) 0.0311(13) Uiso 1 1 d .
H10 H -0.1485 0.2182 0.7031 0.047 Uiso 1 1 calc R
O4 O -0.2205(6) 0.4147(6) 0.476(3) 0.0311(13) Uiso 1 1 d .
H11 H -0.2427 0.3638 0.4262 0.047 Uiso 1 1 calc R
O5 O 0.1164(6) 0.4803(5) 0.696(4) 0.0311(13) Uiso 1 1 d .
O6 O -0.0031(6) 0.6289(6) 0.298(3) 0.0311(13) Uiso 1 1 d .
H12 H 0.0357 0.6688 0.3962 0.047 Uiso 1 1 calc R
loop_
_atom_type_symbol
_atom_type_description
_atom_type_scat_dispersion_real
_atom_type_scat_dispersion_imag
_atom_type_scat_source
C C 0.0033 0.0016 'International Tables Vol C Tables 4.2.6.8 and 6.1.1.4'
H H 0.0000 0.0000 'International Tables Vol C Tables 4.2.6.8 and 6.1.1.4'
O O 0.0106 0.0060 'International Tables Vol C Tables 4.2.6.8 and 6.1.1.4'
loop_
_geom_angle_atom_site_label_1
_geom_angle_atom_site_label_2
_geom_angle_atom_site_label_3
_geom_angle
O1 C1 O5 121.4(16)
O1 C1 C2 114.1(11)
O5 C1 C2 107.4(10)
O2 C2 C3 108.3(13)
O2 C2 C1 107.7(10)
C3 C2 C1 108.5(12)
O3 C3 C2 105.7(14)
O3 C3 C4 112.1(11)
C2 C3 C4 111.3(10)
O4 C4 C3 113.5(11)
O4 C4 C5 111.2(14)
C3 C4 C5 109.5(9)
O5 C5 C6 110.9(12)
O5 C5 C4 112.1(13)
C6 C5 C4 109.2(8)
O6 C6 C5 112.5(11)
C5 O5 C1 110.8(12)
loop_
_geom_bond_atom_site_label_1
_geom_bond_atom_site_label_2
_geom_bond_distance
C1 O1 1.24(2)
C1 O5 1.416(13)
C1 C2 1.605(18)
C2 O2 1.391(13)
C2 C3 1.511(16)
C3 O3 1.432(19)
C3 C4 1.549(16)
C4 O4 1.334(16)
C4 C5 1.498(19)
C5 O5 1.373(16)
C5 C6 1.520(17)
C6 O6 1.414(19)
loop_
_geom_torsion_atom_site_label_1
_geom_torsion_atom_site_label_2
_geom_torsion_atom_site_label_3
_geom_torsion_atom_site_label_4
_geom_torsion
O1 C1 C2 O2 37.6(18)
O5 C1 C2 O2 175.1(15)
O1 C1 C2 C3 -79.5(17)
O5 C1 C2 C3 58.0(18)
O2 C2 C3 O3 71.0(17)
C1 C2 C3 O3 -172.3(12)
O2 C2 C3 C4 -167.0(14)
C1 C2 C3 C4 -50(2)
O3 C3 C4 O4 -68(2)
C2 C3 C4 O4 174.3(15)
O3 C3 C4 C5 167.6(14)
C2 C3 C4 C5 49(2)
O4 C4 C5 O5 177.1(15)
C3 C4 C5 O5 -56.7(18)
O4 C4 C5 C6 53.7(19)
C3 C4 C5 C6 179.9(16)
O5 C5 C6 O6 78.3(19)
C4 C5 C6 O6 -157.6(14)
C6 C5 O5 C1 -169.3(12)
C4 C5 O5 C1 68.3(17)
O1 C1 O5 C5 66.8(15)
C2 C1 O5 C5 -66.9(18)
