#------------------------------------------------------------------------------
#$Date: 2016-02-13 20:28:24 +0100 (Sat 13 de Feb de 2016) $
#$Revision: 176429 $
#$URL: svn://www.crystallography.net/cod/cif/1/52/24/1522400.cif $
#------------------------------------------------------------------------------
#
# This file is available in the Crystallography Open Database (COD),
# http://www.crystallography.net/
#
# All data on this site have been placed in the public domain by the
# contributors.
#
data_1522400
loop_
_publ_author_name
'Lundin, C.E.'
'Nachman, J.F.'
'Yamamoto, A.S.'
_publ_section_title
;
 Fe2 P-type phases in the ternary alloys of the rare earths with thallium
 and palladium
;
_journal_name_full               'Acta Metallurgica'
_journal_page_first              149
_journal_page_last               154
_journal_volume                  13
_journal_year                    1965
_chemical_formula_sum            'Nd Pr'
_chemical_name_systematic        '(Nd Pr)'
_space_group_IT_number           194
_symmetry_space_group_name_Hall  '-P 6c 2c'
_symmetry_space_group_name_H-M   'P 63/m m c'
_cell_angle_alpha                90
_cell_angle_beta                 90
_cell_angle_gamma                120
_cell_formula_units_Z            2
_cell_length_a                   3.6646
_cell_length_b                   3.6646
_cell_length_c                   11.8181
_cell_volume                     137.446
_citation_journal_id_ASTM        AMETAR
_cod_data_source_file            Lundin_AMETAR_1965_1433.cif
_cod_data_source_block           Nd1Pr1
_cod_original_cell_volume        137.4458
_cod_original_formula_sum        'Nd1 Pr1'
_cod_database_code               1522400
loop_
_symmetry_equiv_pos_as_xyz
x,y,z
x-y,x,z+1/2
-y,x-y,z
-x,-y,z+1/2
-x+y,-x,z
y,-x+y,z+1/2
-y,-x,-z+1/2
x-y,-y,-z
x,x-y,-z+1/2
y,x,-z
-x+y,y,-z+1/2
-x,-x+y,-z
-x,-y,-z
-x+y,-x,-z-1/2
y,-x+y,-z
x,y,-z-1/2
x-y,x,-z
-y,x-y,-z-1/2
y,x,z-1/2
-x+y,y,z
-x,-x+y,z-1/2
-y,-x,z
x-y,-y,z-1/2
x,x-y,z
loop_
_atom_site_label
_atom_site_type_symbol
_atom_site_fract_x
_atom_site_fract_y
_atom_site_fract_z
_atom_site_occupancy
_atom_site_U_iso_or_equiv
Nd2 Nd 0.3333 0.6667 0.25 0.5 0.0
Pr2 Pr 0.3333 0.6667 0.25 0.5 0.0
Nd1 Nd 0 0 0 0.5 0.0
Pr1 Pr 0 0 0 0.5 0.0
