#------------------------------------------------------------------------------
#$Date: 2018-09-27 06:13:35 +0200 (jue 27 de sep de 2018) $
#$Revision: 211196 $
#$URL: svn://www.crystallography.net/cod/cif/1/52/26/1522615.cif $
#------------------------------------------------------------------------------
#
# This file is available in the Crystallography Open Database (COD),
# http://www.crystallography.net/
#
# All data on this site have been placed in the public domain by the
# contributors.
#
data_1522615
loop_
_publ_author_name
'Nowotny, H.'
_publ_section_title
;
 Die Kristallstrukturen von Ni5 Ce, Ni5 Ca, Cu5 La, Cu5 Ca, Zn5 La, Zn5
 Ca, Ni2 Ce, Mg Ce, Mg La und Mg Sr
;
_journal_name_full               'Zeitschrift fuer Metallkunde'
_journal_page_first              247
_journal_page_last               253
_journal_volume                  34
_journal_year                    1942
_chemical_formula_sum            'Mg Sr'
_space_group_IT_number           221
_symmetry_space_group_name_Hall  '-P 4 2 3'
_symmetry_space_group_name_H-M   'P m -3 m'
_cell_angle_alpha                90
_cell_angle_beta                 90
_cell_angle_gamma                90
_cell_formula_units_Z            1
_cell_length_a                   3.908
_cell_length_b                   3.908
_cell_length_c                   3.908
_cell_volume                     59.685
_citation_journal_id_ASTM        ZEMTAE
_cod_data_source_file            Nowotny_ZEMTAE_1942_1088.cif
_cod_data_source_block           Mg1Sr1
_cod_original_cell_volume        59.68479
_cod_original_formula_sum        'Mg1 Sr1'
_cod_database_code               1522615
loop_
_symmetry_equiv_pos_as_xyz
x,y,z
-y,x,z
-x,-y,z
y,-x,z
x,-y,-z
y,x,-z
-x,y,-z
-y,-x,-z
z,x,y
-x,z,y
-z,-x,y
x,-z,y
z,-x,-y
x,z,-y
-z,x,-y
-x,-z,-y
y,z,x
y,-z,-x
z,y,-x
-y,z,-x
-z,-y,-x
-y,-z,x
z,-y,x
-z,y,x
-x,-y,-z
y,-x,-z
x,y,-z
-y,x,-z
-x,y,z
-y,-x,z
x,-y,z
y,x,z
-z,-x,-y
x,-z,-y
z,x,-y
-x,z,-y
-z,x,y
-x,-z,y
z,-x,y
x,z,y
-y,-z,-x
-y,z,x
-z,-y,x
y,-z,x
z,y,x
y,z,-x
-z,y,-x
z,-y,-x
loop_
_atom_site_label
_atom_site_type_symbol
_atom_site_fract_x
_atom_site_fract_y
_atom_site_fract_z
_atom_site_occupancy
_atom_site_U_iso_or_equiv
Sr1 Sr 0.5 0.5 0.5 1 0.0
Mg1 Mg 0 0 0 1 0.0
