#------------------------------------------------------------------------------
#$Date: 2016-02-13 20:28:24 +0100 (Sat 13 de Feb de 2016) $
#$Revision: 176429 $
#$URL: svn://www.crystallography.net/cod/cif/1/52/30/1523025.cif $
#------------------------------------------------------------------------------
#
# This file is available in the Crystallography Open Database (COD),
# http://www.crystallography.net/
#
# All data on this site have been placed in the public domain by the
# contributors.
#
data_1523025
loop_
_publ_author_name
'Tylkina, M.A.'
'Pekarev, A.I.'
'Savitskii, E.M.'
_publ_section_title
;
 Phase diagram of the titanium-hafnium system
;
_journal_name_full               'Zhurnal Neorganicheskoi Khimii'
_journal_page_first              2320
_journal_page_last               2322
_journal_volume                  4
_journal_year                    1959
_chemical_formula_sum            'Hf Ti'
_chemical_name_systematic        '(Hf Ti)'
_space_group_IT_number           194
_symmetry_space_group_name_Hall  '-P 6c 2c'
_symmetry_space_group_name_H-M   'P 63/m m c'
_cell_angle_alpha                90
_cell_angle_beta                 90
_cell_angle_gamma                120
_cell_formula_units_Z            1
_cell_length_a                   3.01
_cell_length_b                   3.01
_cell_length_c                   4.83
_cell_volume                     37.898
_citation_journal_id_ASTM        ZNOKAQ
_cod_data_source_file            Tylkina_ZNOKAQ_1959_601.cif
_cod_data_source_block           Hf1Ti1
_cod_original_cell_volume        37.89751
_cod_original_formula_sum        'Hf1 Ti1'
_cod_database_code               1523025
loop_
_symmetry_equiv_pos_as_xyz
x,y,z
x-y,x,z+1/2
-y,x-y,z
-x,-y,z+1/2
-x+y,-x,z
y,-x+y,z+1/2
-y,-x,-z+1/2
x-y,-y,-z
x,x-y,-z+1/2
y,x,-z
-x+y,y,-z+1/2
-x,-x+y,-z
-x,-y,-z
-x+y,-x,-z-1/2
y,-x+y,-z
x,y,-z-1/2
x-y,x,-z
-y,x-y,-z-1/2
y,x,z-1/2
-x+y,y,z
-x,-x+y,z-1/2
-y,-x,z
x-y,-y,z-1/2
x,x-y,z
loop_
_atom_site_label
_atom_site_type_symbol
_atom_site_fract_x
_atom_site_fract_y
_atom_site_fract_z
_atom_site_occupancy
_atom_site_U_iso_or_equiv
Ti1 Ti 0.3333 0.6667 0.25 0.5 0.0
Hf1 Hf 0.3333 0.6667 0.25 0.5 0.0
