#------------------------------------------------------------------------------
#$Date: 2015-07-11 01:46:41 +0200 (Sat 11 de Jul de 2015) $
#$Revision: 143797 $
#$URL: svn://www.crystallography.net/cod/cif/1/52/31/1523184.cif $
#------------------------------------------------------------------------------
#
# This file is available in the Crystallography Open Database (COD),
# http://www.crystallography.net/
#
# All data on this site have been placed in the public domain by the
# contributors.
#
data_1523184
loop_
_publ_author_name
'Amand, R.S.'
'Giessen, B.C.'
_publ_section_title
;
 On the metastable system mercury-thallium
;
_journal_name_full               'Journal of the Less-Common Metals'
_journal_page_first              161
_journal_page_last               172
_journal_volume                  58
_journal_year                    1978
_chemical_formula_sum            'Hg0.05 Tl0.95'
_chemical_name_systematic        '(Hg0.05 Tl0.95)'
_space_group_IT_number           194
_symmetry_space_group_name_Hall  '-P 6c 2c'
_symmetry_space_group_name_H-M   'P 63/m m c'
_cell_angle_alpha                90
_cell_angle_beta                 90
_cell_angle_gamma                120
_cell_formula_units_Z            2
_cell_length_a                   3.425
_cell_length_b                   3.425
_cell_length_c                   5.476
_cell_volume                     55.631
_citation_journal_id_ASTM        JCOMAH
_cod_data_source_file            Amand_JCOMAH_1978_679.cif
_cod_data_source_block           Hg0.05Tl0.95
_cod_original_cell_volume        55.63079
_cod_database_code               1523184
loop_
_symmetry_equiv_pos_as_xyz
x,y,z
x-y,x,z+1/2
-y,x-y,z
-x,-y,z+1/2
-x+y,-x,z
y,-x+y,z+1/2
-y,-x,-z+1/2
x-y,-y,-z
x,x-y,-z+1/2
y,x,-z
-x+y,y,-z+1/2
-x,-x+y,-z
-x,-y,-z
-x+y,-x,-z-1/2
y,-x+y,-z
x,y,-z-1/2
x-y,x,-z
-y,x-y,-z-1/2
y,x,z-1/2
-x+y,y,z
-x,-x+y,z-1/2
-y,-x,z
x-y,-y,z-1/2
x,x-y,z
loop_
_atom_site_label
_atom_site_type_symbol
_atom_site_fract_x
_atom_site_fract_y
_atom_site_fract_z
_atom_site_occupancy
_atom_site_U_iso_or_equiv
Hg1 Hg 0.3333 0.6667 0.25 0.05 0.0
Tl1 Tl 0.3333 0.6667 0.25 0.95 0.0
